{"text_format":"1","workbook":"xlsx","n_sheets":20,"sheets":["Read Me","Assessment Details","Release to Sewer Details","Sheet1","Calculator","Summary Cumulative doses","PRINT VIEW","Summary Cumulative doses Wildli","Total Doses","Worker","Farming Family","Child playing in burn","Angler","Irrigated Food Consumer","Fisherman","River Wildlife","Estuary Wildlife","Dose per unit release","Templates","STW data"],"not_rendered":{"charts":0,"images":0,"macros":1,"external_links":2,"defined_names":14,"comments":6,"pivot_tables":0},"unopened":[],"bounds":{"document_bytes":16777216,"sheet_cells":100000,"rows_first":2000,"rows_last":500,"rows_between":2000,"halvings":0,"cell_chars":16384,"cell_head_chars":4096},"cells_cut":0,"cells_raw":0,"read":"whole","date_system":"1900"}

{"sheet":"Read Me","index":0,"n_rows":31,"n_cols":5,"rows_kept":31,"cut":false,"hidden":false,"merged":[[30,1,30,10],[26,1,26,10],[1,1,1,10],[6,4,6,6],[8,4,8,6],[10,4,10,6],[28,1,28,10],[12,4,12,6],[14,4,14,6],[16,4,16,6],[24,1,24,10],[18,1,18,10],[22,1,22,10],[20,1,20,10]]}
[]
[null,"Guidance"]
[]
[]
[null,"1.  The spreadsheet is colour coded as follows:"]
[]
[null,null,null,null,"  Row and column headings"]
[]
[null,null,null,null,"  Data entry by user"]
[]
[null,null,null,null,"  Data provided in spreadsheet"]
[]
[null,null,null,null,"  Results and interim calculations"]
[]
[null,null,null,null,"Totals"]
[]
[null,null,null,null,"Worst doses / Remove site button"]
[]
[null,"2.  Assessment Details - Enter the relevant data on this sheet.  You should answer the questions relating to the route of the treated effluent as this will ensure that doses are only calculated for the appropriate population groups.  You may enter the average brook flow rate, river flow rate, raw sewage flow rate and estuary/coastal water exchange rate.  Default values are provided if the information is not available."]
[]
[null,"3.  Dose units’ selection- In the Assessment Details tab you will be able to select if you preferred the Dose results to be presented in mSv/y or microSv/y. To select this you can go to cel C10 in the Assessment Details tab. You can apply this change at any point during the analysis or after the results are presented."]
[]
[null,"4.  Release to Sewer Details - MRT.17 has changed it's layout to present a clearer presentation. In this tab you will be able to add new permits, remove permits, input discharge at limits for each permit and to calculate doses. Enter the limits for each radionuclide for each sewer permit.  With the use of the \"ADD NEW SITE\" and \"REMOVE SITE\" buttons you can include as many permit sites as needed. You may need to select surrogate radionuclides or use the other alpha and other beta gamma categories."]
[]
[null,"5. Release to Sewer Details- After introducing the relevant data you will need to use of the \"CALCULATE DOSES\" button to process the doses calculations. The Assessment can take around 60 seconds. Pleas be patient."]
[]
[null,"6. Worker dose, farming family dose, child in brook dose, angler dose, irrig food dose and fisherman dose - The dose contribution from each exposure pathway for these population groups are shown."]
[]
[null,"7.  Final report -  In the final report MRT.17 will present the Assessment details, the release to sewer details, summary cumulative doses. Summary cumulative doses for wildlife and total doses in a printing layout. In this report only radionuclides with data in the Release to Sewer Details section will be presented."]
[]
[null,"8. Printing - A new feature in MRT.17 allow the user to print the final assessment. In the Assessment Details tab you will find a Print button in cell C2. This will call for the document to be printed in an A4 layout. In Cel F2 you can type the number of copies you wish to print."]

{"sheet":"Assessment Details","index":1,"n_rows":46,"n_cols":6,"rows_kept":46,"cut":false,"hidden":false,"merged":[[39,0,41,5],[25,0,27,5],[33,0,35,5],[7,1,7,3],[3,1,3,4],[4,1,4,5],[6,1,6,3],[20,0,22,5]]}
["Multiple release to sewer - Assessment Details",null,null,"Yes"]
["Version 18.0",null,null,null,"Copies:",1]
[null,null,null,"No"]
[null,"Please make sure to end saving path using a ( \\ )"]
["Save Path ","Insert Full Filepath and end save path with a \\"]
[]
["Name of sewage works","v17"]
["SEPA Reference Number","x"]
[]
["Please select prefered units for dose results",null,"mSv/y",null,null,"mSv/y"]
[null,null,1]
["Where does effluent discharge from STW  go?:"]
["     To a burn?",null,"Yes"]
[]
["     To a river direct from STW or via a burn?",null,"Yes"]
["  "]
["     To estuary/coast direct from STW or via a burn or river?",null,"Yes"]
[]
["Data entry:"]
["     Average burn flow rate",null,0.1," m3/s"]
["Please state your reasons:"]
[]
[]
[]
["     Average river flow rate",null,49.16," m3/s"]
["Please state your reasons:"]
[]
[]
[]
["     Sewage works",null,"St Andrews"]
["     Sewage works",null,"User defined"]
["     Average raw sewage flow rate",null,{"$f":"INDEX('STW data'!$H$5:$N$29, MATCH($C$30,'STW data'!H5:H29,), MATCH(\"average raw sewage flow rate (m3/day)\",'STW data'!$H$2:$N$2,))","v":11793}," m3/day"]
["    User defined Average raw sewage flow rate",null,0," m3/day"]
["Please state your reasons:"]
[]
[]
[]
["     Average coastal/estuary exchange rate",null,{"$f":"INDEX('STW data'!$H$5:$O$29, MATCH($C$30,'STW data'!H5:H29,), MATCH(\"average coastal/estuary exchange rate (m3/s)\",'STW data'!$H$2:$O$2,))","v":3500}," m3/s"]
["   User defined  Average coastal/estuary exchange rate",null,30," m3/s"]
["Please state your reasons:"]
[]
[]
[]
[null,"Name",null,"Signature",null,"Date"]
["Assessed by",null,null,null,null,{"$f":"NOW()","v":"2016-09-27T11:35:14.030"}]
["Reviewed by"]

{"sheet":"Release to Sewer Details","index":2,"n_rows":100,"n_cols":3,"rows_kept":100,"cut":false,"hidden":false,"merged":[]}
["Release to Sewer"]
[null,"Valid","stop"]
["Add New Permit"]
["Remove Permit",553,"stop"]
["    Calculate Doses","PERMIT No."]
["Radionuclide","Discharge at Limits","Cumulative Discharge at Limits"]
[null,"Bq/y","Bq/y"]
["Tritium",null,{"$f":"SUM($B8:B8)","v":0}]
["Tritium (Organically Bound)",null,{"$f":"SUM($B9:B9)","v":0}]
["Carbon-11",null,{"$f":"SUM($B10:B10)","v":0}]
["Carbon-14",null,{"$f":"SUM($B11:B11)","v":0}]
["Fluorine-18",null,{"$f":"SUM($B12:B12)","v":0}]
["Sodium-22",null,{"$f":"SUM($B13:B13)","v":0}]
["Sodium-24",null,{"$f":"SUM($B14:B14)","v":0}]
["Phosphorus-32",null,{"$f":"SUM($B15:B15)","v":0}]
["Phosphorus-33",null,{"$f":"SUM($B16:B16)","v":0}]
["Sulphur-35",null,{"$f":"SUM($B17:B17)","v":0}]
["Chlorine-36",null,{"$f":"SUM($B18:B18)","v":0}]
["Calcium-45",null,{"$f":"SUM($B19:B19)","v":0}]
["Calcium-47",null,{"$f":"SUM($B20:B20)","v":0}]
["Vanadium-48",null,{"$f":"SUM($B21:B21)","v":0}]
["Chromium-51",null,{"$f":"SUM($B22:B22)","v":0}]
["Manganese-52",null,{"$f":"SUM($B23:B23)","v":0}]
["Manganese-54",null,{"$f":"SUM($B24:B24)","v":0}]
["Manganese-56",null,{"$f":"SUM($B25:B25)","v":0}]
["Iron-55",null,{"$f":"SUM($B26:B26)","v":0}]
["Iron-59",null,{"$f":"SUM($B27:B27)","v":0}]
["Cobalt-56",null,{"$f":"SUM($B28:B28)","v":0}]
["Cobalt-57",null,{"$f":"SUM($B29:B29)","v":0}]
["Cobalt-58",null,{"$f":"SUM($B30:B30)","v":0}]
["Cobalt-60",null,{"$f":"SUM($B31:B31)","v":0}]
["Nickel-63",null,{"$f":"SUM($B32:B32)","v":0}]
["Zinc-65",null,{"$f":"SUM($B33:B33)","v":0}]
["Gallium-67",null,{"$f":"SUM($B34:B34)","v":0}]
["Selenium-75",null,{"$f":"SUM($B35:B35)","v":0}]
["Bromine-82",null,{"$f":"SUM($B36:B36)","v":0}]
["Rubidium-82",null,{"$f":"SUM($B37:B37)","v":0}]
["Rubidium-83",null,{"$f":"SUM($B38:B38)","v":0}]
["Strontium-89",null,{"$f":"SUM($B39:B39)","v":0}]
["Strontium-90",null,{"$f":"SUM($B40:B40)","v":0}]
["Yttrium-90",null,{"$f":"SUM($B41:B41)","v":0}]
["Zirconium-95",null,{"$f":"SUM($B42:B42)","v":0}]
["Niobium-95",null,{"$f":"SUM($B43:B43)","v":0}]
["Molybdenum-99",null,{"$f":"SUM($B44:B44)","v":0}]
["Technetium-99",null,{"$f":"SUM($B45:B45)","v":0}]
["Technetium-99m",null,{"$f":"SUM($B46:B46)","v":0}]
["Ruthenium-103",null,{"$f":"SUM($B47:B47)","v":0}]
["Ruthenium-106",null,{"$f":"SUM($B48:B48)","v":0}]
["Silver-110m",null,{"$f":"SUM($B49:B49)","v":0}]
["Indium-111",null,{"$f":"SUM($B50:B50)","v":0}]
["Indium-113m",null,{"$f":"SUM($B51:B51)","v":0}]
["Antimony-125",null,{"$f":"SUM($B52:B52)","v":0}]
["Iodine-123",null,{"$f":"SUM($B53:B53)","v":0}]
["Iodine-125",null,{"$f":"SUM($B54:B54)","v":0}]
["Iodine-129",null,{"$f":"SUM($B55:B55)","v":0}]
["Iodine-131",null,{"$f":"SUM($B56:B56)","v":0}]
["Iodine-132",null,{"$f":"SUM($B57:B57)","v":0}]
["Iodine-133",null,{"$f":"SUM($B58:B58)","v":0}]
["Iodine-134",null,{"$f":"SUM($B59:B59)","v":0}]
["Iodine-135",null,{"$f":"SUM($B60:B60)","v":0}]
["Caesium-134",null,{"$f":"SUM($B61:B61)","v":0}]
["Caesium-136",null,{"$f":"SUM($B62:B62)","v":0}]
["Caesium-137",null,{"$f":"SUM($B63:B63)","v":0}]
["Barium-140",null,{"$f":"SUM($B64:B64)","v":0}]
["Lanthanum-140",null,{"$f":"SUM($B65:B65)","v":0}]
["Cerium-141",null,{"$f":"SUM($B66:B66)","v":0}]
["Cerium-144",null,{"$f":"SUM($B67:B67)","v":0}]
["Promethium-147",null,{"$f":"SUM($B68:B68)","v":0}]
["Samarium-153",null,{"$f":"SUM($B69:B69)","v":0}]
["Europium-152",null,{"$f":"SUM($B70:B70)","v":0}]
["Europium-154",null,{"$f":"SUM($B71:B71)","v":0}]
["Europium-155",null,{"$f":"SUM($B72:B72)","v":0}]
["Erbium-169",null,{"$f":"SUM($B73:B73)","v":0}]
["Lutetium-177",null,{"$f":"SUM($B74:B74)","v":0}]
["Gold-198",null,{"$f":"SUM($B75:B75)","v":0}]
["Thallium-201",null,{"$f":"SUM($B76:B76)","v":0}]
["Lead-210",null,{"$f":"SUM($B77:B77)","v":0}]
["Polonium-210",null,{"$f":"SUM($B78:B78)","v":0}]
["Radium-223",null,{"$f":"SUM($B79:B79)","v":0}]
["Radium-226",null,{"$f":"SUM($B80:B80)","v":0}]
["Thorium-230",null,{"$f":"SUM($B81:B81)","v":0}]
["Thorium-232",null,{"$f":"SUM($B82:B82)","v":0}]
["Thorium-234",null,{"$f":"SUM($B83:B83)","v":0}]
["Uranium-234",null,{"$f":"SUM($B84:B84)","v":0}]
["Uranium-235",null,{"$f":"SUM($B85:B85)","v":0}]
["Uranium-238",null,{"$f":"SUM($B86:B86)","v":0}]
["Neptunium-237",null,{"$f":"SUM($B87:B87)","v":0}]
["Plutonium-238",null,{"$f":"SUM($B88:B88)","v":0}]
["Plutonium-239",null,{"$f":"SUM($B89:B89)","v":0}]
["Plutonium-240",null,{"$f":"SUM($B90:B90)","v":0}]
["Plutonium-241",null,{"$f":"SUM($B91:B91)","v":0}]
["Plutonium-242",null,{"$f":"SUM($B92:B92)","v":0}]
["Americium-241",null,{"$f":"SUM($B93:B93)","v":0}]
["Americium-242",null,{"$f":"SUM($B94:B94)","v":0}]
["Americium-243",null,{"$f":"SUM($B95:B95)","v":0}]
["Curium-242",null,{"$f":"SUM($B96:B96)","v":0}]
["Curium-243",null,{"$f":"SUM($B97:B97)","v":0}]
["Curium-244",null,{"$f":"SUM($B98:B98)","v":0}]
["Other alpha-emitting nuclides",null,{"$f":"SUM($B99:B99)","v":0}]
["Other beta/gamma-emitting nuclides",null,{"$f":"SUM($B100:B100)","v":0}]

{"sheet":"Sheet1","index":3,"n_rows":99,"n_cols":3,"rows_kept":99,"cut":false,"hidden":true,"merged":[]}
[]
[]
[]
[]
[null,null,"Radionuclide"]
[]
[null,null,"Tritium"]
[null,null,"Tritium (Organically Bound)"]
[null,null,"Carbon-11"]
[null,null,"Carbon-14"]
[null,null,"Fluorine-18"]
[null,null,"Sodium-22"]
[null,null,"Sodium-24"]
[null,null,"Phosphorus-32"]
[null,null,"Phosphorus-33"]
[null,null,"Sulphur-35"]
[null,null,"Chlorine-36"]
[null,null,"Calcium-45"]
[null,null,"Calcium-47"]
[null,null,"Vanadium-48"]
[null,null,"Chromium-51"]
[null,null,"Manganese-52"]
[null,null,"Manganese-54"]
[null,null,"Manganese-56"]
[null,null,"Iron-55"]
[null,null,"Iron-59"]
[null,null,"Cobalt-56"]
[null,null,"Cobalt-57"]
[null,null,"Cobalt-58"]
[null,null,"Cobalt-60"]
[null,null,"Nickel-63"]
[null,null,"Zinc-65"]
[null,null,"Gallium-67"]
[null,null,"Selenium-75"]
[null,null,"Bromine-82"]
[null,null,"Rubidium-82"]
[null,null,"Rubidium-83"]
[null,null,"Strontium-89"]
[null,null,"Strontium-90"]
[null,null,"Yttrium-90"]
[null,null,"Zirconium-95"]
[null,null,"Niobium-95"]
[null,null,"Molybdenum-99"]
[null,null,"Technetium-99"]
[null,null,"Technetium-99m"]
[null,null,"Ruthenium-103"]
[null,null,"Ruthenium-106"]
[null,null,"Silver-110m"]
[null,null,"Indium-111"]
[null,null,"Indium-113m"]
[null,null,"Antimony-125"]
[null,null,"Iodine-123"]
[null,null,"Iodine-125"]
[null,null,"Iodine-129"]
[null,null,"Iodine-131"]
[null,null,"Iodine-132"]
[null,null,"Iodine-133"]
[null,null,"Iodine-134"]
[null,null,"Iodine-135"]
[null,null,"Caesium-134"]
[null,null,"Caesium-136"]
[null,null,"Caesium-137"]
[null,null,"Barium-140"]
[null,null,"Lanthanum-140"]
[null,null,"Cerium-141"]
[null,null,"Cerium-144"]
[null,null,"Promethium-147"]
[null,null,"Samarium-153"]
[null,null,"Europium-152"]
[null,null,"Europium-154"]
[null,null,"Europium-155"]
[null,null,"Erbium-169"]
[null,null,"Lutetium-177"]
[null,null,"Gold-198"]
[null,null,"Thallium-201"]
[null,null,"Lead-210"]
[null,null,"Polonium-210"]
[null,null,"Radium-223"]
[null,null,"Radium-226"]
[null,null,"Thorium-230"]
[null,null,"Thorium-232"]
[null,null,"Thorium-234"]
[null,null,"Uranium-234"]
[null,null,"Uranium-235"]
[null,null,"Uranium-238"]
[null,null,"Neptunium-237"]
[null,null,"Plutonium-238"]
[null,null,"Plutonium-239"]
[null,null,"Plutonium-240"]
[null,null,"Plutonium-241"]
[null,null,"Plutonium-242"]
[null,null,"Americium-241"]
[null,null,"Americium-242"]
[null,null,"Americium-243"]
[null,null,"Curium-242"]
[null,null,"Curium-243"]
[null,null,"Curium-244"]
[null,null,"Other alpha-emitting nuclides"]
[null,null,"Other beta/gamma-emitting nuclides"]

{"sheet":"Calculator","index":4,"n_rows":103,"n_cols":48,"rows_kept":103,"cut":false,"hidden":true,"merged":[[3,18,3,21],[3,28,3,30],[4,28,4,30],[5,28,5,30],[3,24,3,25],[5,18,5,21],[4,24,4,25],[5,24,5,25],[4,18,4,21],[5,2,5,4],[3,7,3,10],[4,7,4,10],[5,7,5,10],[3,13,3,15],[4,13,4,15],[3,2,3,4],[4,2,4,4],[5,13,5,15]]}
[]
[]
[]
[null,null,"WORKER",null,null,null,null,"FARMING FAMILY",null,null,null,null,null,"CHILD PLAYING IN burn",null,null,null,null,"ANGLER",null,null,null,null,null,"IRRIGATED FOOD CONSUMER",null,null,null,"FISHERMAN",null,null,null,null,"RIVER WILDLIFE ",null,null,"ESTUARY WILDLIFE"]
[552,null,{"$f":"A5","v":552},null,null,null,null,{"$f":"(A5)","v":552},null,null,null,null,null,{"$f":"(A5)","v":552},null,null,null,null,{"$f":"(N5)","v":552},null,null,null,null,null,{"$f":"(S5)","v":552},null,null,null,{"$f":"(Y5)","v":552},null,null,null,null,{"$f":"(A5)","v":552},null,null,{"$f":"(A5)","v":552},null,null,{"$f":"(A5)","v":552}]
["PERMIT No.",null,{"$f":"A6","v":"PERMIT No."},null,null,null,null,{"$f":"A6","v":"PERMIT No."},null,null,null,null,null,{"$f":"A6","v":"PERMIT No."},null,null,null,null,{"$f":"A6","v":"PERMIT No."},null,null,null,null,null,{"$f":"A6","v":"PERMIT No."},null,null,null,{"$f":"A6","v":"PERMIT No."},null,null,null,null,{"$f":"(A6)","v":"PERMIT No."},null,null,{"$f":"(A6)","v":"PERMIT No."},null,null,{"$f":"(A6)","v":"PERMIT No."}]
["Discharge at Limits",null,"External dose","Inadvertent inh and ing dose","Total dose",null,null,"Food dose","External dose","Inadvertent inh and ing dose","Total dose",null,null,"External dose","Inadvertent inh and ing dose","Total dose",null,null,"External dose","Fish dose","Water dose","Total dose",null,null,"Food dose","Total dose",null,null,"External dose","Fish dose","Total dose",null,null,"Worst affected organism",null,null,"Worst affected organism",null,null,"Total Doses"]
["Bq/y",null,{"$f":"('Assessment Details'!C10)","v":"mSv/y"},{"$f":"('Assessment Details'!C10)","v":"mSv/y"},{"$f":"('Assessment Details'!C10)","v":"mSv/y"},null,null,{"$f":"('Assessment Details'!C10)","v":"mSv/y"},{"$f":"('Assessment Details'!C10)","v":"mSv/y"},{"$f":"('Assessment Details'!C10)","v":"mSv/y"},{"$f":"('Assessment Details'!C10)","v":"mSv/y"},null,null,{"$f":"('Assessment Details'!C10)","v":"mSv/y"},{"$f":"('Assessment Details'!C10)","v":"mSv/y"},{"$f":"('Assessment Details'!C10)","v":"mSv/y"},null,null,{"$f":"('Assessment Details'!C10)","v":"mSv/y"},{"$f":"('Assessment Details'!C10)","v":"mSv/y"},{"$f":"('Assessment Details'!C10)","v":"mSv/y"},{"$f":"('Assessment Details'!C10)","v":"mSv/y"},null,null,{"$f":"('Assessment Details'!C10)","v":"mSv/y"},{"$f":"('Assessment Details'!C10)","v":"mSv/y"},null,null,{"$f":"('Assessment Details'!C10)","v":"mSv/y"},{"$f":"('Assessment Details'!C10)","v":"mSv/y"},{"$f":"('Assessment Details'!C10)","v":"mSv/y"},null,null,"microGy/h",null,null,"microGy/h",null,null,{"$f":"(E103)","v":1.933350292546426E-19},null,null,"Yes","Combo box selection #1",null,null,"mSv/y","selection #1"]
[1,null,{"$f":"(A9*'Dose per unit release'!$A9*60/'Assessment Details'!$C$32)/$AV$11","v":0},{"$f":"(A9*'Dose per unit release'!$B9*60/'Assessment Details'!$C$32)/$AV$11","v":1.933350292546426E-19},{"$f":"(A9*'Dose per unit release'!$C9*60/'Assessment Details'!$C$32)/$AV$11","v":1.933350292546426E-19},null,null,{"$f":"(A9*'Dose per unit release'!$F9*60/'Assessment Details'!$C$32)/$AV$11","v":2.5947596031544138E-16},{"$f":"(A9*'Dose per unit release'!$G9*60/'Assessment Details'!$C$32)/$AV$11","v":0},{"$f":"(A9*'Dose per unit release'!$H9*60/'Assessment Details'!$C$32)/$AV$11","v":3.3070465530399393E-23},{"$f":"(A9*'Dose per unit release'!$I9*60/'Assessment Details'!$C$32)/$AV$11","v":2.5947596031544138E-16},null,null,{"$f":"(Calculator!$AR$11*A9*'Dose per unit release'!$L9*0.1/'Assessment Details'!$C$20)/$AV$11","v":0},{"$f":"(Calculator!$AR$11*A9*'Dose per unit release'!$M9*0.1/'Assessment Details'!$C$20)/$AV$11","v":3.0999999999999998E-17},{"$f":"(Calculator!$AR$11*A9*'Dose per unit release'!$N9*0.1/'Assessment Details'!$C$20)/$AV$11","v":3.0999999999999998E-17},null,null,{"$f":"(Calculator!$AR$13*A9*'Dose per unit release'!$Q9*'Dose per unit release'!$R9/'Assessment Details'!$C$25)/$AV$11","v":0},{"$f":"(Calculator!$AR$13*A9*'Dose per unit release'!$Q9*'Dose per unit release'!$S9/'Assessment Details'!$C$25)/$AV$11","v":2.9393816110659076E-19},{"$f":"(Calculator!$AR$13*A9*'Dose per unit release'!$Q9*'Dose per unit release'!$T9/'Assessment Details'!$C$25)/$AV$11","v":1.0028478437754272E-17},{"$f":"(Calculator!$AR$13*A9*'Dose per unit release'!$Q9*'Dose per unit release'!$U9/'Assessment Details'!$C$25)/$AV$11","v":1.0374288039056143E-17},null,null,{"$f":"(Calculator!$AR$13*A9*'Dose per unit release'!$X9*'Dose per unit release'!$Y9/'Assessment Details'!$C$25)/$AV$11","v":7.607811228641173E-19},{"$f":"(Calculator!$AR$13*A9*'Dose per unit release'!$X9*'Dose per unit release'!$Z9/'Assessment Details'!$C$25)/$AV$11","v":7.607811228641173E-19},null,null,{"$f":"(Calculator!$AR$15*A9*'Dose per unit release'!$AC9*'Dose per unit release'!$AD9*100/'Assessment Details'!$C$39)/$AV$11","v":0},{"$f":"(Calculator!$AR$15*A9*'Dose per unit release'!$AC9*'Dose per unit release'!$AE9*100/'Assessment Details'!$C$39)/$AV$11","v":2.5216666666666671E-18},{"$f":"(Calculator!$AR$15*A9*'Dose per unit release'!$AC9*'Dose per unit release'!$AF9*100/'Assessment Details'!$C$39)/$AV$11","v":2.5216666666666671E-18},null,null,{"$f":"Calculator!$AR$13*A9*'Dose per unit release'!$AI9*'Dose per unit release'!$AJ9/'Assessment Details'!$C$25","v":5.3600488201790079E-18},null,null,{"$f":"Calculator!$AR$15*A9*'Dose per unit release'!$AL9*'Dose per unit release'!$AM9*100/'Assessment Details'!$C$39","v":8.7833333333333336E-18},null,null,{"$f":"(K103)","v":2.5947596031544138E-16},null,null,"No","Combo box selection #2",null,null,"microSv/y","selection #2"]
[null,null,{"$f":"(A10*'Dose per unit release'!$A10*60/'Assessment Details'!$C$32)/$AV$11","v":0},{"$f":"(A10*'Dose per unit release'!$B10*60/'Assessment Details'!$C$32)/$AV$11","v":0},{"$f":"(A10*'Dose per unit release'!$C10*60/'Assessment Details'!$C$32)/$AV$11","v":0},null,null,{"$f":"(A10*'Dose per unit release'!$F10*60/'Assessment Details'!$C$32)/$AV$11","v":0},{"$f":"(A10*'Dose per unit release'!$G10*60/'Assessment Details'!$C$32)/$AV$11","v":0},{"$f":"(A10*'Dose per unit release'!$H10*60/'Assessment Details'!$C$32)/$AV$11","v":0},{"$f":"(A10*'Dose per unit release'!$I10*60/'Assessment Details'!$C$32)/$AV$11","v":0},null,null,{"$f":"(Calculator!$AR$11*A10*'Dose per unit release'!$L10*0.1/'Assessment Details'!$C$20)/$AV$11","v":0},{"$f":"(Calculator!$AR$11*A10*'Dose per unit release'!$M10*0.1/'Assessment Details'!$C$20)/$AV$11","v":0},{"$f":"(Calculator!$AR$11*A10*'Dose per unit release'!$N10*0.1/'Assessment Details'!$C$20)/$AV$11","v":0},null,null,{"$f":"(Calculator!$AR$13*A10*'Dose per unit release'!$Q10*'Dose per unit release'!$R10/'Assessment Details'!$C$25)/$AV$11","v":0},{"$f":"(Calculator!$AR$13*A10*'Dose per unit release'!$Q10*'Dose per unit release'!$S10/'Assessment Details'!$C$25)/$AV$11","v":0},{"$f":"(Calculator!$AR$13*A10*'Dose per unit release'!$Q10*'Dose per unit release'!$T10/'Assessment Details'!$C$25)/$AV$11","v":0},{"$f":"(Calculator!$AR$13*A10*'Dose per unit release'!$Q10*'Dose per unit release'!$U10/'Assessment Details'!$C$25)/$AV$11","v":0},null,null,{"$f":"(Calculator!$AR$13*A10*'Dose per unit release'!$X10*'Dose per unit release'!$Y10/'Assessment Details'!$C$25)/$AV$11","v":0},{"$f":"(Calculator!$AR$13*A10*'Dose per unit release'!$X10*'Dose per unit release'!$Z10/'Assessment Details'!$C$25)/$AV$11","v":0},null,null,{"$f":"(Calculator!$AR$15*A10*'Dose per unit release'!$AC10*'Dose per unit release'!$AD10*100/'Assessment Details'!$C$39)/$AV$11","v":0},{"$f":"(Calculator!$AR$15*A10*'Dose per unit release'!$AC10*'Dose per unit release'!$AE10*100/'Assessment Details'!$C$39)/$AV$11","v":0},{"$f":"(Calculator!$AR$15*A10*'Dose per unit release'!$AC10*'Dose per unit release'!$AF10*100/'Assessment Details'!$C$39)/$AV$11","v":0},null,null,{"$f":"Calculator!$AR$13*A10*'Dose per unit release'!$AI10*'Dose per unit release'!$AJ10/'Assessment Details'!$C$25","v":0},null,null,{"$f":"Calculator!$AR$15*A10*'Dose per unit release'!$AL10*'Dose per unit release'!$AM10*100/'Assessment Details'!$C$39","v":0},null,null,{"$f":"(P103)","v":3.0999999999999998E-17}]
[null,null,{"$f":"(A11*'Dose per unit release'!$A11*60/'Assessment Details'!$C$32)/$AV$11","v":0},{"$f":"(A11*'Dose per unit release'!$B11*60/'Assessment Details'!$C$32)/$AV$11","v":0},{"$f":"(A11*'Dose per unit release'!$C11*60/'Assessment Details'!$C$32)/$AV$11","v":0},null,null,{"$f":"(A11*'Dose per unit release'!$F11*60/'Assessment Details'!$C$32)/$AV$11","v":0},{"$f":"(A11*'Dose per unit release'!$G11*60/'Assessment Details'!$C$32)/$AV$11","v":0},{"$f":"(A11*'Dose per unit release'!$H11*60/'Assessment Details'!$C$32)/$AV$11","v":0},{"$f":"(A11*'Dose per unit release'!$I11*60/'Assessment Details'!$C$32)/$AV$11","v":0},null,null,{"$f":"(Calculator!$AR$11*A11*'Dose per unit release'!$L11*0.1/'Assessment Details'!$C$20)/$AV$11","v":0},{"$f":"(Calculator!$AR$11*A11*'Dose per unit release'!$M11*0.1/'Assessment Details'!$C$20)/$AV$11","v":0},{"$f":"(Calculator!$AR$11*A11*'Dose per unit release'!$N11*0.1/'Assessment Details'!$C$20)/$AV$11","v":0},null,null,{"$f":"(Calculator!$AR$13*A11*'Dose per unit release'!$Q11*'Dose per unit release'!$R11/'Assessment Details'!$C$25)/$AV$11","v":0},{"$f":"(Calculator!$AR$13*A11*'Dose per unit release'!$Q11*'Dose per unit release'!$S11/'Assessment Details'!$C$25)/$AV$11","v":0},{"$f":"(Calculator!$AR$13*A11*'Dose per unit release'!$Q11*'Dose per unit release'!$T11/'Assessment Details'!$C$25)/$AV$11","v":0},{"$f":"(Calculator!$AR$13*A11*'Dose per unit release'!$Q11*'Dose per unit release'!$U11/'Assessment Details'!$C$25)/$AV$11","v":0},null,null,{"$f":"(Calculator!$AR$13*A11*'Dose per unit release'!$X11*'Dose per unit release'!$Y11/'Assessment Details'!$C$25)/$AV$11","v":0},{"$f":"(Calculator!$AR$13*A11*'Dose per unit release'!$X11*'Dose per unit release'!$Z11/'Assessment Details'!$C$25)/$AV$11","v":0},null,null,{"$f":"(Calculator!$AR$15*A11*'Dose per unit release'!$AC11*'Dose per unit release'!$AD11*100/'Assessment Details'!$C$39)/$AV$11","v":0},{"$f":"(Calculator!$AR$15*A11*'Dose per unit release'!$AC11*'Dose per unit release'!$AE11*100/'Assessment Details'!$C$39)/$AV$11","v":0},{"$f":"(Calculator!$AR$15*A11*'Dose per unit release'!$AC11*'Dose per unit release'!$AF11*100/'Assessment Details'!$C$39)/$AV$11","v":0},null,null,{"$f":"Calculator!$AR$13*A11*'Dose per unit release'!$AI11*'Dose per unit release'!$AJ11/'Assessment Details'!$C$25","v":0},null,null,{"$f":"Calculator!$AR$15*A11*'Dose per unit release'!$AL11*'Dose per unit release'!$AM11*100/'Assessment Details'!$C$39","v":0},null,null,{"$f":"(V103)","v":1.0374288039056143E-17},null,null,"burn factor",{"$f":"IF('Assessment Details'!$C$13=\"Yes\",1,0)","v":1},null,null,"Units Factor",{"$f":"IF('Assessment Details'!$C$10=\"mSv/y\",1000,1)","v":1000}]
[null,null,{"$f":"(A12*'Dose per unit release'!$A12*60/'Assessment Details'!$C$32)/$AV$11","v":0},{"$f":"(A12*'Dose per unit release'!$B12*60/'Assessment Details'!$C$32)/$AV$11","v":0},{"$f":"(A12*'Dose per unit release'!$C12*60/'Assessment Details'!$C$32)/$AV$11","v":0},null,null,{"$f":"(A12*'Dose per unit release'!$F12*60/'Assessment Details'!$C$32)/$AV$11","v":0},{"$f":"(A12*'Dose per unit release'!$G12*60/'Assessment Details'!$C$32)/$AV$11","v":0},{"$f":"(A12*'Dose per unit release'!$H12*60/'Assessment Details'!$C$32)/$AV$11","v":0},{"$f":"(A12*'Dose per unit release'!$I12*60/'Assessment Details'!$C$32)/$AV$11","v":0},null,null,{"$f":"(Calculator!$AR$11*A12*'Dose per unit release'!$L12*0.1/'Assessment Details'!$C$20)/$AV$11","v":0},{"$f":"(Calculator!$AR$11*A12*'Dose per unit release'!$M12*0.1/'Assessment Details'!$C$20)/$AV$11","v":0},{"$f":"(Calculator!$AR$11*A12*'Dose per unit release'!$N12*0.1/'Assessment Details'!$C$20)/$AV$11","v":0},null,null,{"$f":"(Calculator!$AR$13*A12*'Dose per unit release'!$Q12*'Dose per unit release'!$R12/'Assessment Details'!$C$25)/$AV$11","v":0},{"$f":"(Calculator!$AR$13*A12*'Dose per unit release'!$Q12*'Dose per unit release'!$S12/'Assessment Details'!$C$25)/$AV$11","v":0},{"$f":"(Calculator!$AR$13*A12*'Dose per unit release'!$Q12*'Dose per unit release'!$T12/'Assessment Details'!$C$25)/$AV$11","v":0},{"$f":"(Calculator!$AR$13*A12*'Dose per unit release'!$Q12*'Dose per unit release'!$U12/'Assessment Details'!$C$25)/$AV$11","v":0},null,null,{"$f":"(Calculator!$AR$13*A12*'Dose per unit release'!$X12*'Dose per unit release'!$Y12/'Assessment Details'!$C$25)/$AV$11","v":0},{"$f":"(Calculator!$AR$13*A12*'Dose per unit release'!$X12*'Dose per unit release'!$Z12/'Assessment Details'!$C$25)/$AV$11","v":0},null,null,{"$f":"(Calculator!$AR$15*A12*'Dose per unit release'!$AC12*'Dose per unit release'!$AD12*100/'Assessment Details'!$C$39)/$AV$11","v":0},{"$f":"(Calculator!$AR$15*A12*'Dose per unit release'!$AC12*'Dose per unit release'!$AE12*100/'Assessment Details'!$C$39)/$AV$11","v":0},{"$f":"(Calculator!$AR$15*A12*'Dose per unit release'!$AC12*'Dose per unit release'!$AF12*100/'Assessment Details'!$C$39)/$AV$11","v":0},null,null,{"$f":"Calculator!$AR$13*A12*'Dose per unit release'!$AI12*'Dose per unit release'!$AJ12/'Assessment Details'!$C$25","v":0},null,null,{"$f":"Calculator!$AR$15*A12*'Dose per unit release'!$AL12*'Dose per unit release'!$AM12*100/'Assessment Details'!$C$39","v":0},null,null,{"$f":"(Z103)","v":7.607811228641173E-19}]
[null,null,{"$f":"(A13*'Dose per unit release'!$A13*60/'Assessment Details'!$C$32)/$AV$11","v":0},{"$f":"(A13*'Dose per unit release'!$B13*60/'Assessment Details'!$C$32)/$AV$11","v":0},{"$f":"(A13*'Dose per unit release'!$C13*60/'Assessment Details'!$C$32)/$AV$11","v":0},null,null,{"$f":"(A13*'Dose per unit release'!$F13*60/'Assessment Details'!$C$32)/$AV$11","v":0},{"$f":"(A13*'Dose per unit release'!$G13*60/'Assessment Details'!$C$32)/$AV$11","v":0},{"$f":"(A13*'Dose per unit release'!$H13*60/'Assessment Details'!$C$32)/$AV$11","v":0},{"$f":"(A13*'Dose per unit release'!$I13*60/'Assessment Details'!$C$32)/$AV$11","v":0},null,null,{"$f":"(Calculator!$AR$11*A13*'Dose per unit release'!$L13*0.1/'Assessment Details'!$C$20)/$AV$11","v":0},{"$f":"(Calculator!$AR$11*A13*'Dose per unit release'!$M13*0.1/'Assessment Details'!$C$20)/$AV$11","v":0},{"$f":"(Calculator!$AR$11*A13*'Dose per unit release'!$N13*0.1/'Assessment Details'!$C$20)/$AV$11","v":0},null,null,{"$f":"(Calculator!$AR$13*A13*'Dose per unit release'!$Q13*'Dose per unit release'!$R13/'Assessment Details'!$C$25)/$AV$11","v":0},{"$f":"(Calculator!$AR$13*A13*'Dose per unit release'!$Q13*'Dose per unit release'!$S13/'Assessment Details'!$C$25)/$AV$11","v":0},{"$f":"(Calculator!$AR$13*A13*'Dose per unit release'!$Q13*'Dose per unit release'!$T13/'Assessment Details'!$C$25)/$AV$11","v":0},{"$f":"(Calculator!$AR$13*A13*'Dose per unit release'!$Q13*'Dose per unit release'!$U13/'Assessment Details'!$C$25)/$AV$11","v":0},null,null,{"$f":"(Calculator!$AR$13*A13*'Dose per unit release'!$X13*'Dose per unit release'!$Y13/'Assessment Details'!$C$25)/$AV$11","v":0},{"$f":"(Calculator!$AR$13*A13*'Dose per unit release'!$X13*'Dose per unit release'!$Z13/'Assessment Details'!$C$25)/$AV$11","v":0},null,null,{"$f":"(Calculator!$AR$15*A13*'Dose per unit release'!$AC13*'Dose per unit release'!$AD13*100/'Assessment Details'!$C$39)/$AV$11","v":0},{"$f":"(Calculator!$AR$15*A13*'Dose per unit release'!$AC13*'Dose per unit release'!$AE13*100/'Assessment Details'!$C$39)/$AV$11","v":0},{"$f":"(Calculator!$AR$15*A13*'Dose per unit release'!$AC13*'Dose per unit release'!$AF13*100/'Assessment Details'!$C$39)/$AV$11","v":0},null,null,{"$f":"Calculator!$AR$13*A13*'Dose per unit release'!$AI13*'Dose per unit release'!$AJ13/'Assessment Details'!$C$25","v":0},null,null,{"$f":"Calculator!$AR$15*A13*'Dose per unit release'!$AL13*'Dose per unit release'!$AM13*100/'Assessment Details'!$C$39","v":0},null,null,{"$f":"(AE103)","v":2.5216666666666671E-18},null,null,"River factor",{"$f":"IF('Assessment Details'!$C$15=\"Yes\",1,0)","v":1}]
[null,null,{"$f":"(A14*'Dose per unit release'!$A14*60/'Assessment Details'!$C$32)/$AV$11","v":0},{"$f":"(A14*'Dose per unit release'!$B14*60/'Assessment Details'!$C$32)/$AV$11","v":0},{"$f":"(A14*'Dose per unit release'!$C14*60/'Assessment Details'!$C$32)/$AV$11","v":0},null,null,{"$f":"(A14*'Dose per unit release'!$F14*60/'Assessment Details'!$C$32)/$AV$11","v":0},{"$f":"(A14*'Dose per unit release'!$G14*60/'Assessment Details'!$C$32)/$AV$11","v":0},{"$f":"(A14*'Dose per unit release'!$H14*60/'Assessment Details'!$C$32)/$AV$11","v":0},{"$f":"(A14*'Dose per unit release'!$I14*60/'Assessment Details'!$C$32)/$AV$11","v":0},null,null,{"$f":"(Calculator!$AR$11*A14*'Dose per unit release'!$L14*0.1/'Assessment Details'!$C$20)/$AV$11","v":0},{"$f":"(Calculator!$AR$11*A14*'Dose per unit release'!$M14*0.1/'Assessment Details'!$C$20)/$AV$11","v":0},{"$f":"(Calculator!$AR$11*A14*'Dose per unit release'!$N14*0.1/'Assessment Details'!$C$20)/$AV$11","v":0},null,null,{"$f":"(Calculator!$AR$13*A14*'Dose per unit release'!$Q14*'Dose per unit release'!$R14/'Assessment Details'!$C$25)/$AV$11","v":0},{"$f":"(Calculator!$AR$13*A14*'Dose per unit release'!$Q14*'Dose per unit release'!$S14/'Assessment Details'!$C$25)/$AV$11","v":0},{"$f":"(Calculator!$AR$13*A14*'Dose per unit release'!$Q14*'Dose per unit release'!$T14/'Assessment Details'!$C$25)/$AV$11","v":0},{"$f":"(Calculator!$AR$13*A14*'Dose per unit release'!$Q14*'Dose per unit release'!$U14/'Assessment Details'!$C$25)/$AV$11","v":0},null,null,{"$f":"(Calculator!$AR$13*A14*'Dose per unit release'!$X14*'Dose per unit release'!$Y14/'Assessment Details'!$C$25)/$AV$11","v":0},{"$f":"(Calculator!$AR$13*A14*'Dose per unit release'!$X14*'Dose per unit release'!$Z14/'Assessment Details'!$C$25)/$AV$11","v":0},null,null,{"$f":"(Calculator!$AR$15*A14*'Dose per unit release'!$AC14*'Dose per unit release'!$AD14*100/'Assessment Details'!$C$39)/$AV$11","v":0},{"$f":"(Calculator!$AR$15*A14*'Dose per unit release'!$AC14*'Dose per unit release'!$AE14*100/'Assessment Details'!$C$39)/$AV$11","v":0},{"$f":"(Calculator!$AR$15*A14*'Dose per unit release'!$AC14*'Dose per unit release'!$AF14*100/'Assessment Details'!$C$39)/$AV$11","v":0},null,null,{"$f":"Calculator!$AR$13*A14*'Dose per unit release'!$AI14*'Dose per unit release'!$AJ14/'Assessment Details'!$C$25","v":0},null,null,{"$f":"Calculator!$AR$15*A14*'Dose per unit release'!$AL14*'Dose per unit release'!$AM14*100/'Assessment Details'!$C$39","v":0}]
[null,null,{"$f":"(A15*'Dose per unit release'!$A15*60/'Assessment Details'!$C$32)/$AV$11","v":0},{"$f":"(A15*'Dose per unit release'!$B15*60/'Assessment Details'!$C$32)/$AV$11","v":0},{"$f":"(A15*'Dose per unit release'!$C15*60/'Assessment Details'!$C$32)/$AV$11","v":0},null,null,{"$f":"(A15*'Dose per unit release'!$F15*60/'Assessment Details'!$C$32)/$AV$11","v":0},{"$f":"(A15*'Dose per unit release'!$G15*60/'Assessment Details'!$C$32)/$AV$11","v":0},{"$f":"(A15*'Dose per unit release'!$H15*60/'Assessment Details'!$C$32)/$AV$11","v":0},{"$f":"(A15*'Dose per unit release'!$I15*60/'Assessment Details'!$C$32)/$AV$11","v":0},null,null,{"$f":"(Calculator!$AR$11*A15*'Dose per unit release'!$L15*0.1/'Assessment Details'!$C$20)/$AV$11","v":0},{"$f":"(Calculator!$AR$11*A15*'Dose per unit release'!$M15*0.1/'Assessment Details'!$C$20)/$AV$11","v":0},{"$f":"(Calculator!$AR$11*A15*'Dose per unit release'!$N15*0.1/'Assessment Details'!$C$20)/$AV$11","v":0},null,null,{"$f":"(Calculator!$AR$13*A15*'Dose per unit release'!$Q15*'Dose per unit release'!$R15/'Assessment Details'!$C$25)/$AV$11","v":0},{"$f":"(Calculator!$AR$13*A15*'Dose per unit release'!$Q15*'Dose per unit release'!$S15/'Assessment Details'!$C$25)/$AV$11","v":0},{"$f":"(Calculator!$AR$13*A15*'Dose per unit release'!$Q15*'Dose per unit release'!$T15/'Assessment Details'!$C$25)/$AV$11","v":0},{"$f":"(Calculator!$AR$13*A15*'Dose per unit release'!$Q15*'Dose per unit release'!$U15/'Assessment Details'!$C$25)/$AV$11","v":0},null,null,{"$f":"(Calculator!$AR$13*A15*'Dose per unit release'!$X15*'Dose per unit release'!$Y15/'Assessment Details'!$C$25)/$AV$11","v":0},{"$f":"(Calculator!$AR$13*A15*'Dose per unit release'!$X15*'Dose per unit release'!$Z15/'Assessment Details'!$C$25)/$AV$11","v":0},null,null,{"$f":"(Calculator!$AR$15*A15*'Dose per unit release'!$AC15*'Dose per unit release'!$AD15*100/'Assessment Details'!$C$39)/$AV$11","v":0},{"$f":"(Calculator!$AR$15*A15*'Dose per unit release'!$AC15*'Dose per unit release'!$AE15*100/'Assessment Details'!$C$39)/$AV$11","v":0},{"$f":"(Calculator!$AR$15*A15*'Dose per unit release'!$AC15*'Dose per unit release'!$AF15*100/'Assessment Details'!$C$39)/$AV$11","v":0},null,null,{"$f":"Calculator!$AR$13*A15*'Dose per unit release'!$AI15*'Dose per unit release'!$AJ15/'Assessment Details'!$C$25","v":0},null,null,{"$f":"Calculator!$AR$15*A15*'Dose per unit release'!$AL15*'Dose per unit release'!$AM15*100/'Assessment Details'!$C$39","v":0},null,null,{"$f":"MAX(AN8:AN13)","v":2.5947596031544138E-16},null,null,"Estuary factor",{"$f":"IF('Assessment Details'!$C$17=\"Yes\",1,0)","v":1}]
[null,null,{"$f":"(A16*'Dose per unit release'!$A16*60/'Assessment Details'!$C$32)/$AV$11","v":0},{"$f":"(A16*'Dose per unit release'!$B16*60/'Assessment Details'!$C$32)/$AV$11","v":0},{"$f":"(A16*'Dose per unit release'!$C16*60/'Assessment Details'!$C$32)/$AV$11","v":0},null,null,{"$f":"(A16*'Dose per unit release'!$F16*60/'Assessment Details'!$C$32)/$AV$11","v":0},{"$f":"(A16*'Dose per unit release'!$G16*60/'Assessment Details'!$C$32)/$AV$11","v":0},{"$f":"(A16*'Dose per unit release'!$H16*60/'Assessment Details'!$C$32)/$AV$11","v":0},{"$f":"(A16*'Dose per unit release'!$I16*60/'Assessment Details'!$C$32)/$AV$11","v":0},null,null,{"$f":"(Calculator!$AR$11*A16*'Dose per unit release'!$L16*0.1/'Assessment Details'!$C$20)/$AV$11","v":0},{"$f":"(Calculator!$AR$11*A16*'Dose per unit release'!$M16*0.1/'Assessment Details'!$C$20)/$AV$11","v":0},{"$f":"(Calculator!$AR$11*A16*'Dose per unit release'!$N16*0.1/'Assessment Details'!$C$20)/$AV$11","v":0},null,null,{"$f":"(Calculator!$AR$13*A16*'Dose per unit release'!$Q16*'Dose per unit release'!$R16/'Assessment Details'!$C$25)/$AV$11","v":0},{"$f":"(Calculator!$AR$13*A16*'Dose per unit release'!$Q16*'Dose per unit release'!$S16/'Assessment Details'!$C$25)/$AV$11","v":0},{"$f":"(Calculator!$AR$13*A16*'Dose per unit release'!$Q16*'Dose per unit release'!$T16/'Assessment Details'!$C$25)/$AV$11","v":0},{"$f":"(Calculator!$AR$13*A16*'Dose per unit release'!$Q16*'Dose per unit release'!$U16/'Assessment Details'!$C$25)/$AV$11","v":0},null,null,{"$f":"(Calculator!$AR$13*A16*'Dose per unit release'!$X16*'Dose per unit release'!$Y16/'Assessment Details'!$C$25)/$AV$11","v":0},{"$f":"(Calculator!$AR$13*A16*'Dose per unit release'!$X16*'Dose per unit release'!$Z16/'Assessment Details'!$C$25)/$AV$11","v":0},null,null,{"$f":"(Calculator!$AR$15*A16*'Dose per unit release'!$AC16*'Dose per unit release'!$AD16*100/'Assessment Details'!$C$39)/$AV$11","v":0},{"$f":"(Calculator!$AR$15*A16*'Dose per unit release'!$AC16*'Dose per unit release'!$AE16*100/'Assessment Details'!$C$39)/$AV$11","v":0},{"$f":"(Calculator!$AR$15*A16*'Dose per unit release'!$AC16*'Dose per unit release'!$AF16*100/'Assessment Details'!$C$39)/$AV$11","v":0},null,null,{"$f":"Calculator!$AR$13*A16*'Dose per unit release'!$AI16*'Dose per unit release'!$AJ16/'Assessment Details'!$C$25","v":0},null,null,{"$f":"Calculator!$AR$15*A16*'Dose per unit release'!$AL16*'Dose per unit release'!$AM16*100/'Assessment Details'!$C$39","v":0}]
[null,null,{"$f":"(A17*'Dose per unit release'!$A17*60/'Assessment Details'!$C$32)/$AV$11","v":0},{"$f":"(A17*'Dose per unit release'!$B17*60/'Assessment Details'!$C$32)/$AV$11","v":0},{"$f":"(A17*'Dose per unit release'!$C17*60/'Assessment Details'!$C$32)/$AV$11","v":0},null,null,{"$f":"(A17*'Dose per unit release'!$F17*60/'Assessment Details'!$C$32)/$AV$11","v":0},{"$f":"(A17*'Dose per unit release'!$G17*60/'Assessment Details'!$C$32)/$AV$11","v":0},{"$f":"(A17*'Dose per unit release'!$H17*60/'Assessment Details'!$C$32)/$AV$11","v":0},{"$f":"(A17*'Dose per unit release'!$I17*60/'Assessment Details'!$C$32)/$AV$11","v":0},null,null,{"$f":"(Calculator!$AR$11*A17*'Dose per unit release'!$L17*0.1/'Assessment Details'!$C$20)/$AV$11","v":0},{"$f":"(Calculator!$AR$11*A17*'Dose per unit release'!$M17*0.1/'Assessment Details'!$C$20)/$AV$11","v":0},{"$f":"(Calculator!$AR$11*A17*'Dose per unit release'!$N17*0.1/'Assessment Details'!$C$20)/$AV$11","v":0},null,null,{"$f":"(Calculator!$AR$13*A17*'Dose per unit release'!$Q17*'Dose per unit release'!$R17/'Assessment Details'!$C$25)/$AV$11","v":0},{"$f":"(Calculator!$AR$13*A17*'Dose per unit release'!$Q17*'Dose per unit release'!$S17/'Assessment Details'!$C$25)/$AV$11","v":0},{"$f":"(Calculator!$AR$13*A17*'Dose per unit release'!$Q17*'Dose per unit release'!$T17/'Assessment Details'!$C$25)/$AV$11","v":0},{"$f":"(Calculator!$AR$13*A17*'Dose per unit release'!$Q17*'Dose per unit release'!$U17/'Assessment Details'!$C$25)/$AV$11","v":0},null,null,{"$f":"(Calculator!$AR$13*A17*'Dose per unit release'!$X17*'Dose per unit release'!$Y17/'Assessment Details'!$C$25)/$AV$11","v":0},{"$f":"(Calculator!$AR$13*A17*'Dose per unit release'!$X17*'Dose per unit release'!$Z17/'Assessment Details'!$C$25)/$AV$11","v":0},null,null,{"$f":"(Calculator!$AR$15*A17*'Dose per unit release'!$AC17*'Dose per unit release'!$AD17*100/'Assessment Details'!$C$39)/$AV$11","v":0},{"$f":"(Calculator!$AR$15*A17*'Dose per unit release'!$AC17*'Dose per unit release'!$AE17*100/'Assessment Details'!$C$39)/$AV$11","v":0},{"$f":"(Calculator!$AR$15*A17*'Dose per unit release'!$AC17*'Dose per unit release'!$AF17*100/'Assessment Details'!$C$39)/$AV$11","v":0},null,null,{"$f":"Calculator!$AR$13*A17*'Dose per unit release'!$AI17*'Dose per unit release'!$AJ17/'Assessment Details'!$C$25","v":0},null,null,{"$f":"Calculator!$AR$15*A17*'Dose per unit release'!$AL17*'Dose per unit release'!$AM17*100/'Assessment Details'!$C$39","v":0}]
[null,null,{"$f":"(A18*'Dose per unit release'!$A18*60/'Assessment Details'!$C$32)/$AV$11","v":0},{"$f":"(A18*'Dose per unit release'!$B18*60/'Assessment Details'!$C$32)/$AV$11","v":0},{"$f":"(A18*'Dose per unit release'!$C18*60/'Assessment Details'!$C$32)/$AV$11","v":0},null,null,{"$f":"(A18*'Dose per unit release'!$F18*60/'Assessment Details'!$C$32)/$AV$11","v":0},{"$f":"(A18*'Dose per unit release'!$G18*60/'Assessment Details'!$C$32)/$AV$11","v":0},{"$f":"(A18*'Dose per unit release'!$H18*60/'Assessment Details'!$C$32)/$AV$11","v":0},{"$f":"(A18*'Dose per unit release'!$I18*60/'Assessment Details'!$C$32)/$AV$11","v":0},null,null,{"$f":"(Calculator!$AR$11*A18*'Dose per unit release'!$L18*0.1/'Assessment Details'!$C$20)/$AV$11","v":0},{"$f":"(Calculator!$AR$11*A18*'Dose per unit release'!$M18*0.1/'Assessment Details'!$C$20)/$AV$11","v":0},{"$f":"(Calculator!$AR$11*A18*'Dose per unit release'!$N18*0.1/'Assessment Details'!$C$20)/$AV$11","v":0},null,null,{"$f":"(Calculator!$AR$13*A18*'Dose per unit release'!$Q18*'Dose per unit release'!$R18/'Assessment Details'!$C$25)/$AV$11","v":0},{"$f":"(Calculator!$AR$13*A18*'Dose per unit release'!$Q18*'Dose per unit release'!$S18/'Assessment Details'!$C$25)/$AV$11","v":0},{"$f":"(Calculator!$AR$13*A18*'Dose per unit release'!$Q18*'Dose per unit release'!$T18/'Assessment Details'!$C$25)/$AV$11","v":0},{"$f":"(Calculator!$AR$13*A18*'Dose per unit release'!$Q18*'Dose per unit release'!$U18/'Assessment Details'!$C$25)/$AV$11","v":0},null,null,{"$f":"(Calculator!$AR$13*A18*'Dose per unit release'!$X18*'Dose per unit release'!$Y18/'Assessment Details'!$C$25)/$AV$11","v":0},{"$f":"(Calculator!$AR$13*A18*'Dose per unit release'!$X18*'Dose per unit release'!$Z18/'Assessment Details'!$C$25)/$AV$11","v":0},null,null,{"$f":"(Calculator!$AR$15*A18*'Dose per unit release'!$AC18*'Dose per unit release'!$AD18*100/'Assessment Details'!$C$39)/$AV$11","v":0},{"$f":"(Calculator!$AR$15*A18*'Dose per unit release'!$AC18*'Dose per unit release'!$AE18*100/'Assessment Details'!$C$39)/$AV$11","v":0},{"$f":"(Calculator!$AR$15*A18*'Dose per unit release'!$AC18*'Dose per unit release'!$AF18*100/'Assessment Details'!$C$39)/$AV$11","v":0},null,null,{"$f":"Calculator!$AR$13*A18*'Dose per unit release'!$AI18*'Dose per unit release'!$AJ18/'Assessment Details'!$C$25","v":0},null,null,{"$f":"Calculator!$AR$15*A18*'Dose per unit release'!$AL18*'Dose per unit release'!$AM18*100/'Assessment Details'!$C$39","v":0}]
[null,null,{"$f":"(A19*'Dose per unit release'!$A19*60/'Assessment Details'!$C$32)/$AV$11","v":0},{"$f":"(A19*'Dose per unit release'!$B19*60/'Assessment Details'!$C$32)/$AV$11","v":0},{"$f":"(A19*'Dose per unit release'!$C19*60/'Assessment Details'!$C$32)/$AV$11","v":0},null,null,{"$f":"(A19*'Dose per unit release'!$F19*60/'Assessment Details'!$C$32)/$AV$11","v":0},{"$f":"(A19*'Dose per unit release'!$G19*60/'Assessment Details'!$C$32)/$AV$11","v":0},{"$f":"(A19*'Dose per unit release'!$H19*60/'Assessment Details'!$C$32)/$AV$11","v":0},{"$f":"(A19*'Dose per unit release'!$I19*60/'Assessment Details'!$C$32)/$AV$11","v":0},null,null,{"$f":"(Calculator!$AR$11*A19*'Dose per unit release'!$L19*0.1/'Assessment Details'!$C$20)/$AV$11","v":0},{"$f":"(Calculator!$AR$11*A19*'Dose per unit release'!$M19*0.1/'Assessment Details'!$C$20)/$AV$11","v":0},{"$f":"(Calculator!$AR$11*A19*'Dose per unit release'!$N19*0.1/'Assessment Details'!$C$20)/$AV$11","v":0},null,null,{"$f":"(Calculator!$AR$13*A19*'Dose per unit release'!$Q19*'Dose per unit release'!$R19/'Assessment Details'!$C$25)/$AV$11","v":0},{"$f":"(Calculator!$AR$13*A19*'Dose per unit release'!$Q19*'Dose per unit release'!$S19/'Assessment Details'!$C$25)/$AV$11","v":0},{"$f":"(Calculator!$AR$13*A19*'Dose per unit release'!$Q19*'Dose per unit release'!$T19/'Assessment Details'!$C$25)/$AV$11","v":0},{"$f":"(Calculator!$AR$13*A19*'Dose per unit release'!$Q19*'Dose per unit release'!$U19/'Assessment Details'!$C$25)/$AV$11","v":0},null,null,{"$f":"(Calculator!$AR$13*A19*'Dose per unit release'!$X19*'Dose per unit release'!$Y19/'Assessment Details'!$C$25)/$AV$11","v":0},{"$f":"(Calculator!$AR$13*A19*'Dose per unit release'!$X19*'Dose per unit release'!$Z19/'Assessment Details'!$C$25)/$AV$11","v":0},null,null,{"$f":"(Calculator!$AR$15*A19*'Dose per unit release'!$AC19*'Dose per unit release'!$AD19*100/'Assessment Details'!$C$39)/$AV$11","v":0},{"$f":"(Calculator!$AR$15*A19*'Dose per unit release'!$AC19*'Dose per unit release'!$AE19*100/'Assessment Details'!$C$39)/$AV$11","v":0},{"$f":"(Calculator!$AR$15*A19*'Dose per unit release'!$AC19*'Dose per unit release'!$AF19*100/'Assessment Details'!$C$39)/$AV$11","v":0},null,null,{"$f":"Calculator!$AR$13*A19*'Dose per unit release'!$AI19*'Dose per unit release'!$AJ19/'Assessment Details'!$C$25","v":0},null,null,{"$f":"Calculator!$AR$15*A19*'Dose per unit release'!$AL19*'Dose per unit release'!$AM19*100/'Assessment Details'!$C$39","v":0}]
[null,null,{"$f":"(A20*'Dose per unit release'!$A20*60/'Assessment Details'!$C$32)/$AV$11","v":0},{"$f":"(A20*'Dose per unit release'!$B20*60/'Assessment Details'!$C$32)/$AV$11","v":0},{"$f":"(A20*'Dose per unit release'!$C20*60/'Assessment Details'!$C$32)/$AV$11","v":0},null,null,{"$f":"(A20*'Dose per unit release'!$F20*60/'Assessment Details'!$C$32)/$AV$11","v":0},{"$f":"(A20*'Dose per unit release'!$G20*60/'Assessment Details'!$C$32)/$AV$11","v":0},{"$f":"(A20*'Dose per unit release'!$H20*60/'Assessment Details'!$C$32)/$AV$11","v":0},{"$f":"(A20*'Dose per unit release'!$I20*60/'Assessment Details'!$C$32)/$AV$11","v":0},null,null,{"$f":"(Calculator!$AR$11*A20*'Dose per unit release'!$L20*0.1/'Assessment Details'!$C$20)/$AV$11","v":0},{"$f":"(Calculator!$AR$11*A20*'Dose per unit release'!$M20*0.1/'Assessment Details'!$C$20)/$AV$11","v":0},{"$f":"(Calculator!$AR$11*A20*'Dose per unit release'!$N20*0.1/'Assessment Details'!$C$20)/$AV$11","v":0},null,null,{"$f":"(Calculator!$AR$13*A20*'Dose per unit release'!$Q20*'Dose per unit release'!$R20/'Assessment Details'!$C$25)/$AV$11","v":0},{"$f":"(Calculator!$AR$13*A20*'Dose per unit release'!$Q20*'Dose per unit release'!$S20/'Assessment Details'!$C$25)/$AV$11","v":0},{"$f":"(Calculator!$AR$13*A20*'Dose per unit release'!$Q20*'Dose per unit release'!$T20/'Assessment Details'!$C$25)/$AV$11","v":0},{"$f":"(Calculator!$AR$13*A20*'Dose per unit release'!$Q20*'Dose per unit release'!$U20/'Assessment Details'!$C$25)/$AV$11","v":0},null,null,{"$f":"(Calculator!$AR$13*A20*'Dose per unit release'!$X20*'Dose per unit release'!$Y20/'Assessment Details'!$C$25)/$AV$11","v":0},{"$f":"(Calculator!$AR$13*A20*'Dose per unit release'!$X20*'Dose per unit release'!$Z20/'Assessment Details'!$C$25)/$AV$11","v":0},null,null,{"$f":"(Calculator!$AR$15*A20*'Dose per unit release'!$AC20*'Dose per unit release'!$AD20*100/'Assessment Details'!$C$39)/$AV$11","v":0},{"$f":"(Calculator!$AR$15*A20*'Dose per unit release'!$AC20*'Dose per unit release'!$AE20*100/'Assessment Details'!$C$39)/$AV$11","v":0},{"$f":"(Calculator!$AR$15*A20*'Dose per unit release'!$AC20*'Dose per unit release'!$AF20*100/'Assessment Details'!$C$39)/$AV$11","v":0},null,null,{"$f":"Calculator!$AR$13*A20*'Dose per unit release'!$AI20*'Dose per unit release'!$AJ20/'Assessment Details'!$C$25","v":0},null,null,{"$f":"Calculator!$AR$15*A20*'Dose per unit release'!$AL20*'Dose per unit release'!$AM20*100/'Assessment Details'!$C$39","v":0},null,null,{"$f":"(AH103)","v":5.3600488201790079E-18}]
[null,null,{"$f":"(A21*'Dose per unit release'!$A21*60/'Assessment Details'!$C$32)/$AV$11","v":0},{"$f":"(A21*'Dose per unit release'!$B21*60/'Assessment Details'!$C$32)/$AV$11","v":0},{"$f":"(A21*'Dose per unit release'!$C21*60/'Assessment Details'!$C$32)/$AV$11","v":0},null,null,{"$f":"(A21*'Dose per unit release'!$F21*60/'Assessment Details'!$C$32)/$AV$11","v":0},{"$f":"(A21*'Dose per unit release'!$G21*60/'Assessment Details'!$C$32)/$AV$11","v":0},{"$f":"(A21*'Dose per unit release'!$H21*60/'Assessment Details'!$C$32)/$AV$11","v":0},{"$f":"(A21*'Dose per unit release'!$I21*60/'Assessment Details'!$C$32)/$AV$11","v":0},null,null,{"$f":"(Calculator!$AR$11*A21*'Dose per unit release'!$L21*0.1/'Assessment Details'!$C$20)/$AV$11","v":0},{"$f":"(Calculator!$AR$11*A21*'Dose per unit release'!$M21*0.1/'Assessment Details'!$C$20)/$AV$11","v":0},{"$f":"(Calculator!$AR$11*A21*'Dose per unit release'!$N21*0.1/'Assessment Details'!$C$20)/$AV$11","v":0},null,null,{"$f":"(Calculator!$AR$13*A21*'Dose per unit release'!$Q21*'Dose per unit release'!$R21/'Assessment Details'!$C$25)/$AV$11","v":0},{"$f":"(Calculator!$AR$13*A21*'Dose per unit release'!$Q21*'Dose per unit release'!$S21/'Assessment Details'!$C$25)/$AV$11","v":0},{"$f":"(Calculator!$AR$13*A21*'Dose per unit release'!$Q21*'Dose per unit release'!$T21/'Assessment Details'!$C$25)/$AV$11","v":0},{"$f":"(Calculator!$AR$13*A21*'Dose per unit release'!$Q21*'Dose per unit release'!$U21/'Assessment Details'!$C$25)/$AV$11","v":0},null,null,{"$f":"(Calculator!$AR$13*A21*'Dose per unit release'!$X21*'Dose per unit release'!$Y21/'Assessment Details'!$C$25)/$AV$11","v":0},{"$f":"(Calculator!$AR$13*A21*'Dose per unit release'!$X21*'Dose per unit release'!$Z21/'Assessment Details'!$C$25)/$AV$11","v":0},null,null,{"$f":"(Calculator!$AR$15*A21*'Dose per unit release'!$AC21*'Dose per unit release'!$AD21*100/'Assessment Details'!$C$39)/$AV$11","v":0},{"$f":"(Calculator!$AR$15*A21*'Dose per unit release'!$AC21*'Dose per unit release'!$AE21*100/'Assessment Details'!$C$39)/$AV$11","v":0},{"$f":"(Calculator!$AR$15*A21*'Dose per unit release'!$AC21*'Dose per unit release'!$AF21*100/'Assessment Details'!$C$39)/$AV$11","v":0},null,null,{"$f":"Calculator!$AR$13*A21*'Dose per unit release'!$AI21*'Dose per unit release'!$AJ21/'Assessment Details'!$C$25","v":0},null,null,{"$f":"Calculator!$AR$15*A21*'Dose per unit release'!$AL21*'Dose per unit release'!$AM21*100/'Assessment Details'!$C$39","v":0},null,null,{"$f":"(AK103)","v":8.7833333333333336E-18}]
[null,null,{"$f":"(A22*'Dose per unit release'!$A22*60/'Assessment Details'!$C$32)/$AV$11","v":0},{"$f":"(A22*'Dose per unit release'!$B22*60/'Assessment Details'!$C$32)/$AV$11","v":0},{"$f":"(A22*'Dose per unit release'!$C22*60/'Assessment Details'!$C$32)/$AV$11","v":0},null,null,{"$f":"(A22*'Dose per unit release'!$F22*60/'Assessment Details'!$C$32)/$AV$11","v":0},{"$f":"(A22*'Dose per unit release'!$G22*60/'Assessment Details'!$C$32)/$AV$11","v":0},{"$f":"(A22*'Dose per unit release'!$H22*60/'Assessment Details'!$C$32)/$AV$11","v":0},{"$f":"(A22*'Dose per unit release'!$I22*60/'Assessment Details'!$C$32)/$AV$11","v":0},null,null,{"$f":"(Calculator!$AR$11*A22*'Dose per unit release'!$L22*0.1/'Assessment Details'!$C$20)/$AV$11","v":0},{"$f":"(Calculator!$AR$11*A22*'Dose per unit release'!$M22*0.1/'Assessment Details'!$C$20)/$AV$11","v":0},{"$f":"(Calculator!$AR$11*A22*'Dose per unit release'!$N22*0.1/'Assessment Details'!$C$20)/$AV$11","v":0},null,null,{"$f":"(Calculator!$AR$13*A22*'Dose per unit release'!$Q22*'Dose per unit release'!$R22/'Assessment Details'!$C$25)/$AV$11","v":0},{"$f":"(Calculator!$AR$13*A22*'Dose per unit release'!$Q22*'Dose per unit release'!$S22/'Assessment Details'!$C$25)/$AV$11","v":0},{"$f":"(Calculator!$AR$13*A22*'Dose per unit release'!$Q22*'Dose per unit release'!$T22/'Assessment Details'!$C$25)/$AV$11","v":0},{"$f":"(Calculator!$AR$13*A22*'Dose per unit release'!$Q22*'Dose per unit release'!$U22/'Assessment Details'!$C$25)/$AV$11","v":0},null,null,{"$f":"(Calculator!$AR$13*A22*'Dose per unit release'!$X22*'Dose per unit release'!$Y22/'Assessment Details'!$C$25)/$AV$11","v":0},{"$f":"(Calculator!$AR$13*A22*'Dose per unit release'!$X22*'Dose per unit release'!$Z22/'Assessment Details'!$C$25)/$AV$11","v":0},null,null,{"$f":"(Calculator!$AR$15*A22*'Dose per unit release'!$AC22*'Dose per unit release'!$AD22*100/'Assessment Details'!$C$39)/$AV$11","v":0},{"$f":"(Calculator!$AR$15*A22*'Dose per unit release'!$AC22*'Dose per unit release'!$AE22*100/'Assessment Details'!$C$39)/$AV$11","v":0},{"$f":"(Calculator!$AR$15*A22*'Dose per unit release'!$AC22*'Dose per unit release'!$AF22*100/'Assessment Details'!$C$39)/$AV$11","v":0},null,null,{"$f":"Calculator!$AR$13*A22*'Dose per unit release'!$AI22*'Dose per unit release'!$AJ22/'Assessment Details'!$C$25","v":0},null,null,{"$f":"Calculator!$AR$15*A22*'Dose per unit release'!$AL22*'Dose per unit release'!$AM22*100/'Assessment Details'!$C$39","v":0}]
[null,null,{"$f":"(A23*'Dose per unit release'!$A23*60/'Assessment Details'!$C$32)/$AV$11","v":0},{"$f":"(A23*'Dose per unit release'!$B23*60/'Assessment Details'!$C$32)/$AV$11","v":0},{"$f":"(A23*'Dose per unit release'!$C23*60/'Assessment Details'!$C$32)/$AV$11","v":0},null,null,{"$f":"(A23*'Dose per unit release'!$F23*60/'Assessment Details'!$C$32)/$AV$11","v":0},{"$f":"(A23*'Dose per unit release'!$G23*60/'Assessment Details'!$C$32)/$AV$11","v":0},{"$f":"(A23*'Dose per unit release'!$H23*60/'Assessment Details'!$C$32)/$AV$11","v":0},{"$f":"(A23*'Dose per unit release'!$I23*60/'Assessment Details'!$C$32)/$AV$11","v":0},null,null,{"$f":"(Calculator!$AR$11*A23*'Dose per unit release'!$L23*0.1/'Assessment Details'!$C$20)/$AV$11","v":0},{"$f":"(Calculator!$AR$11*A23*'Dose per unit release'!$M23*0.1/'Assessment Details'!$C$20)/$AV$11","v":0},{"$f":"(Calculator!$AR$11*A23*'Dose per unit release'!$N23*0.1/'Assessment Details'!$C$20)/$AV$11","v":0},null,null,{"$f":"(Calculator!$AR$13*A23*'Dose per unit release'!$Q23*'Dose per unit release'!$R23/'Assessment Details'!$C$25)/$AV$11","v":0},{"$f":"(Calculator!$AR$13*A23*'Dose per unit release'!$Q23*'Dose per unit release'!$S23/'Assessment Details'!$C$25)/$AV$11","v":0},{"$f":"(Calculator!$AR$13*A23*'Dose per unit release'!$Q23*'Dose per unit release'!$T23/'Assessment Details'!$C$25)/$AV$11","v":0},{"$f":"(Calculator!$AR$13*A23*'Dose per unit release'!$Q23*'Dose per unit release'!$U23/'Assessment Details'!$C$25)/$AV$11","v":0},null,null,{"$f":"(Calculator!$AR$13*A23*'Dose per unit release'!$X23*'Dose per unit release'!$Y23/'Assessment Details'!$C$25)/$AV$11","v":0},{"$f":"(Calculator!$AR$13*A23*'Dose per unit release'!$X23*'Dose per unit release'!$Z23/'Assessment Details'!$C$25)/$AV$11","v":0},null,null,{"$f":"(Calculator!$AR$15*A23*'Dose per unit release'!$AC23*'Dose per unit release'!$AD23*100/'Assessment Details'!$C$39)/$AV$11","v":0},{"$f":"(Calculator!$AR$15*A23*'Dose per unit release'!$AC23*'Dose per unit release'!$AE23*100/'Assessment Details'!$C$39)/$AV$11","v":0},{"$f":"(Calculator!$AR$15*A23*'Dose per unit release'!$AC23*'Dose per unit release'!$AF23*100/'Assessment Details'!$C$39)/$AV$11","v":0},null,null,{"$f":"Calculator!$AR$13*A23*'Dose per unit release'!$AI23*'Dose per unit release'!$AJ23/'Assessment Details'!$C$25","v":0},null,null,{"$f":"Calculator!$AR$15*A23*'Dose per unit release'!$AL23*'Dose per unit release'!$AM23*100/'Assessment Details'!$C$39","v":0},null,null,"Food Dose"]
[null,null,{"$f":"(A24*'Dose per unit release'!$A24*60/'Assessment Details'!$C$32)/$AV$11","v":0},{"$f":"(A24*'Dose per unit release'!$B24*60/'Assessment Details'!$C$32)/$AV$11","v":0},{"$f":"(A24*'Dose per unit release'!$C24*60/'Assessment Details'!$C$32)/$AV$11","v":0},null,null,{"$f":"(A24*'Dose per unit release'!$F24*60/'Assessment Details'!$C$32)/$AV$11","v":0},{"$f":"(A24*'Dose per unit release'!$G24*60/'Assessment Details'!$C$32)/$AV$11","v":0},{"$f":"(A24*'Dose per unit release'!$H24*60/'Assessment Details'!$C$32)/$AV$11","v":0},{"$f":"(A24*'Dose per unit release'!$I24*60/'Assessment Details'!$C$32)/$AV$11","v":0},null,null,{"$f":"(Calculator!$AR$11*A24*'Dose per unit release'!$L24*0.1/'Assessment Details'!$C$20)/$AV$11","v":0},{"$f":"(Calculator!$AR$11*A24*'Dose per unit release'!$M24*0.1/'Assessment Details'!$C$20)/$AV$11","v":0},{"$f":"(Calculator!$AR$11*A24*'Dose per unit release'!$N24*0.1/'Assessment Details'!$C$20)/$AV$11","v":0},null,null,{"$f":"(Calculator!$AR$13*A24*'Dose per unit release'!$Q24*'Dose per unit release'!$R24/'Assessment Details'!$C$25)/$AV$11","v":0},{"$f":"(Calculator!$AR$13*A24*'Dose per unit release'!$Q24*'Dose per unit release'!$S24/'Assessment Details'!$C$25)/$AV$11","v":0},{"$f":"(Calculator!$AR$13*A24*'Dose per unit release'!$Q24*'Dose per unit release'!$T24/'Assessment Details'!$C$25)/$AV$11","v":0},{"$f":"(Calculator!$AR$13*A24*'Dose per unit release'!$Q24*'Dose per unit release'!$U24/'Assessment Details'!$C$25)/$AV$11","v":0},null,null,{"$f":"(Calculator!$AR$13*A24*'Dose per unit release'!$X24*'Dose per unit release'!$Y24/'Assessment Details'!$C$25)/$AV$11","v":0},{"$f":"(Calculator!$AR$13*A24*'Dose per unit release'!$X24*'Dose per unit release'!$Z24/'Assessment Details'!$C$25)/$AV$11","v":0},null,null,{"$f":"(Calculator!$AR$15*A24*'Dose per unit release'!$AC24*'Dose per unit release'!$AD24*100/'Assessment Details'!$C$39)/$AV$11","v":0},{"$f":"(Calculator!$AR$15*A24*'Dose per unit release'!$AC24*'Dose per unit release'!$AE24*100/'Assessment Details'!$C$39)/$AV$11","v":0},{"$f":"(Calculator!$AR$15*A24*'Dose per unit release'!$AC24*'Dose per unit release'!$AF24*100/'Assessment Details'!$C$39)/$AV$11","v":0},null,null,{"$f":"Calculator!$AR$13*A24*'Dose per unit release'!$AI24*'Dose per unit release'!$AJ24/'Assessment Details'!$C$25","v":0},null,null,{"$f":"Calculator!$AR$15*A24*'Dose per unit release'!$AL24*'Dose per unit release'!$AM24*100/'Assessment Details'!$C$39","v":0}]
[null,null,{"$f":"(A25*'Dose per unit release'!$A25*60/'Assessment Details'!$C$32)/$AV$11","v":0},{"$f":"(A25*'Dose per unit release'!$B25*60/'Assessment Details'!$C$32)/$AV$11","v":0},{"$f":"(A25*'Dose per unit release'!$C25*60/'Assessment Details'!$C$32)/$AV$11","v":0},null,null,{"$f":"(A25*'Dose per unit release'!$F25*60/'Assessment Details'!$C$32)/$AV$11","v":0},{"$f":"(A25*'Dose per unit release'!$G25*60/'Assessment Details'!$C$32)/$AV$11","v":0},{"$f":"(A25*'Dose per unit release'!$H25*60/'Assessment Details'!$C$32)/$AV$11","v":0},{"$f":"(A25*'Dose per unit release'!$I25*60/'Assessment Details'!$C$32)/$AV$11","v":0},null,null,{"$f":"(Calculator!$AR$11*A25*'Dose per unit release'!$L25*0.1/'Assessment Details'!$C$20)/$AV$11","v":0},{"$f":"(Calculator!$AR$11*A25*'Dose per unit release'!$M25*0.1/'Assessment Details'!$C$20)/$AV$11","v":0},{"$f":"(Calculator!$AR$11*A25*'Dose per unit release'!$N25*0.1/'Assessment Details'!$C$20)/$AV$11","v":0},null,null,{"$f":"(Calculator!$AR$13*A25*'Dose per unit release'!$Q25*'Dose per unit release'!$R25/'Assessment Details'!$C$25)/$AV$11","v":0},{"$f":"(Calculator!$AR$13*A25*'Dose per unit release'!$Q25*'Dose per unit release'!$S25/'Assessment Details'!$C$25)/$AV$11","v":0},{"$f":"(Calculator!$AR$13*A25*'Dose per unit release'!$Q25*'Dose per unit release'!$T25/'Assessment Details'!$C$25)/$AV$11","v":0},{"$f":"(Calculator!$AR$13*A25*'Dose per unit release'!$Q25*'Dose per unit release'!$U25/'Assessment Details'!$C$25)/$AV$11","v":0},null,null,{"$f":"(Calculator!$AR$13*A25*'Dose per unit release'!$X25*'Dose per unit release'!$Y25/'Assessment Details'!$C$25)/$AV$11","v":0},{"$f":"(Calculator!$AR$13*A25*'Dose per unit release'!$X25*'Dose per unit release'!$Z25/'Assessment Details'!$C$25)/$AV$11","v":0},null,null,{"$f":"(Calculator!$AR$15*A25*'Dose per unit release'!$AC25*'Dose per unit release'!$AD25*100/'Assessment Details'!$C$39)/$AV$11","v":0},{"$f":"(Calculator!$AR$15*A25*'Dose per unit release'!$AC25*'Dose per unit release'!$AE25*100/'Assessment Details'!$C$39)/$AV$11","v":0},{"$f":"(Calculator!$AR$15*A25*'Dose per unit release'!$AC25*'Dose per unit release'!$AF25*100/'Assessment Details'!$C$39)/$AV$11","v":0},null,null,{"$f":"Calculator!$AR$13*A25*'Dose per unit release'!$AI25*'Dose per unit release'!$AJ25/'Assessment Details'!$C$25","v":0},null,null,{"$f":"Calculator!$AR$15*A25*'Dose per unit release'!$AL25*'Dose per unit release'!$AM25*100/'Assessment Details'!$C$39","v":0},null,null,{"$f":"(H103)","v":2.5947596031544138E-16}]
[null,null,{"$f":"(A26*'Dose per unit release'!$A26*60/'Assessment Details'!$C$32)/$AV$11","v":0},{"$f":"(A26*'Dose per unit release'!$B26*60/'Assessment Details'!$C$32)/$AV$11","v":0},{"$f":"(A26*'Dose per unit release'!$C26*60/'Assessment Details'!$C$32)/$AV$11","v":0},null,null,{"$f":"(A26*'Dose per unit release'!$F26*60/'Assessment Details'!$C$32)/$AV$11","v":0},{"$f":"(A26*'Dose per unit release'!$G26*60/'Assessment Details'!$C$32)/$AV$11","v":0},{"$f":"(A26*'Dose per unit release'!$H26*60/'Assessment Details'!$C$32)/$AV$11","v":0},{"$f":"(A26*'Dose per unit release'!$I26*60/'Assessment Details'!$C$32)/$AV$11","v":0},null,null,{"$f":"(Calculator!$AR$11*A26*'Dose per unit release'!$L26*0.1/'Assessment Details'!$C$20)/$AV$11","v":0},{"$f":"(Calculator!$AR$11*A26*'Dose per unit release'!$M26*0.1/'Assessment Details'!$C$20)/$AV$11","v":0},{"$f":"(Calculator!$AR$11*A26*'Dose per unit release'!$N26*0.1/'Assessment Details'!$C$20)/$AV$11","v":0},null,null,{"$f":"(Calculator!$AR$13*A26*'Dose per unit release'!$Q26*'Dose per unit release'!$R26/'Assessment Details'!$C$25)/$AV$11","v":0},{"$f":"(Calculator!$AR$13*A26*'Dose per unit release'!$Q26*'Dose per unit release'!$S26/'Assessment Details'!$C$25)/$AV$11","v":0},{"$f":"(Calculator!$AR$13*A26*'Dose per unit release'!$Q26*'Dose per unit release'!$T26/'Assessment Details'!$C$25)/$AV$11","v":0},{"$f":"(Calculator!$AR$13*A26*'Dose per unit release'!$Q26*'Dose per unit release'!$U26/'Assessment Details'!$C$25)/$AV$11","v":0},null,null,{"$f":"(Calculator!$AR$13*A26*'Dose per unit release'!$X26*'Dose per unit release'!$Y26/'Assessment Details'!$C$25)/$AV$11","v":0},{"$f":"(Calculator!$AR$13*A26*'Dose per unit release'!$X26*'Dose per unit release'!$Z26/'Assessment Details'!$C$25)/$AV$11","v":0},null,null,{"$f":"(Calculator!$AR$15*A26*'Dose per unit release'!$AC26*'Dose per unit release'!$AD26*100/'Assessment Details'!$C$39)/$AV$11","v":0},{"$f":"(Calculator!$AR$15*A26*'Dose per unit release'!$AC26*'Dose per unit release'!$AE26*100/'Assessment Details'!$C$39)/$AV$11","v":0},{"$f":"(Calculator!$AR$15*A26*'Dose per unit release'!$AC26*'Dose per unit release'!$AF26*100/'Assessment Details'!$C$39)/$AV$11","v":0},null,null,{"$f":"Calculator!$AR$13*A26*'Dose per unit release'!$AI26*'Dose per unit release'!$AJ26/'Assessment Details'!$C$25","v":0},null,null,{"$f":"Calculator!$AR$15*A26*'Dose per unit release'!$AL26*'Dose per unit release'!$AM26*100/'Assessment Details'!$C$39","v":0},null,null,{"$f":"(T103)","v":2.9393816110659076E-19}]
[null,null,{"$f":"(A27*'Dose per unit release'!$A27*60/'Assessment Details'!$C$32)/$AV$11","v":0},{"$f":"(A27*'Dose per unit release'!$B27*60/'Assessment Details'!$C$32)/$AV$11","v":0},{"$f":"(A27*'Dose per unit release'!$C27*60/'Assessment Details'!$C$32)/$AV$11","v":0},null,null,{"$f":"(A27*'Dose per unit release'!$F27*60/'Assessment Details'!$C$32)/$AV$11","v":0},{"$f":"(A27*'Dose per unit release'!$G27*60/'Assessment Details'!$C$32)/$AV$11","v":0},{"$f":"(A27*'Dose per unit release'!$H27*60/'Assessment Details'!$C$32)/$AV$11","v":0},{"$f":"(A27*'Dose per unit release'!$I27*60/'Assessment Details'!$C$32)/$AV$11","v":0},null,null,{"$f":"(Calculator!$AR$11*A27*'Dose per unit release'!$L27*0.1/'Assessment Details'!$C$20)/$AV$11","v":0},{"$f":"(Calculator!$AR$11*A27*'Dose per unit release'!$M27*0.1/'Assessment Details'!$C$20)/$AV$11","v":0},{"$f":"(Calculator!$AR$11*A27*'Dose per unit release'!$N27*0.1/'Assessment Details'!$C$20)/$AV$11","v":0},null,null,{"$f":"(Calculator!$AR$13*A27*'Dose per unit release'!$Q27*'Dose per unit release'!$R27/'Assessment Details'!$C$25)/$AV$11","v":0},{"$f":"(Calculator!$AR$13*A27*'Dose per unit release'!$Q27*'Dose per unit release'!$S27/'Assessment Details'!$C$25)/$AV$11","v":0},{"$f":"(Calculator!$AR$13*A27*'Dose per unit release'!$Q27*'Dose per unit release'!$T27/'Assessment Details'!$C$25)/$AV$11","v":0},{"$f":"(Calculator!$AR$13*A27*'Dose per unit release'!$Q27*'Dose per unit release'!$U27/'Assessment Details'!$C$25)/$AV$11","v":0},null,null,{"$f":"(Calculator!$AR$13*A27*'Dose per unit release'!$X27*'Dose per unit release'!$Y27/'Assessment Details'!$C$25)/$AV$11","v":0},{"$f":"(Calculator!$AR$13*A27*'Dose per unit release'!$X27*'Dose per unit release'!$Z27/'Assessment Details'!$C$25)/$AV$11","v":0},null,null,{"$f":"(Calculator!$AR$15*A27*'Dose per unit release'!$AC27*'Dose per unit release'!$AD27*100/'Assessment Details'!$C$39)/$AV$11","v":0},{"$f":"(Calculator!$AR$15*A27*'Dose per unit release'!$AC27*'Dose per unit release'!$AE27*100/'Assessment Details'!$C$39)/$AV$11","v":0},{"$f":"(Calculator!$AR$15*A27*'Dose per unit release'!$AC27*'Dose per unit release'!$AF27*100/'Assessment Details'!$C$39)/$AV$11","v":0},null,null,{"$f":"Calculator!$AR$13*A27*'Dose per unit release'!$AI27*'Dose per unit release'!$AJ27/'Assessment Details'!$C$25","v":0},null,null,{"$f":"Calculator!$AR$15*A27*'Dose per unit release'!$AL27*'Dose per unit release'!$AM27*100/'Assessment Details'!$C$39","v":0},null,null,{"$f":"(Y103)","v":7.607811228641173E-19}]
[null,null,{"$f":"(A28*'Dose per unit release'!$A28*60/'Assessment Details'!$C$32)/$AV$11","v":0},{"$f":"(A28*'Dose per unit release'!$B28*60/'Assessment Details'!$C$32)/$AV$11","v":0},{"$f":"(A28*'Dose per unit release'!$C28*60/'Assessment Details'!$C$32)/$AV$11","v":0},null,null,{"$f":"(A28*'Dose per unit release'!$F28*60/'Assessment Details'!$C$32)/$AV$11","v":0},{"$f":"(A28*'Dose per unit release'!$G28*60/'Assessment Details'!$C$32)/$AV$11","v":0},{"$f":"(A28*'Dose per unit release'!$H28*60/'Assessment Details'!$C$32)/$AV$11","v":0},{"$f":"(A28*'Dose per unit release'!$I28*60/'Assessment Details'!$C$32)/$AV$11","v":0},null,null,{"$f":"(Calculator!$AR$11*A28*'Dose per unit release'!$L28*0.1/'Assessment Details'!$C$20)/$AV$11","v":0},{"$f":"(Calculator!$AR$11*A28*'Dose per unit release'!$M28*0.1/'Assessment Details'!$C$20)/$AV$11","v":0},{"$f":"(Calculator!$AR$11*A28*'Dose per unit release'!$N28*0.1/'Assessment Details'!$C$20)/$AV$11","v":0},null,null,{"$f":"(Calculator!$AR$13*A28*'Dose per unit release'!$Q28*'Dose per unit release'!$R28/'Assessment Details'!$C$25)/$AV$11","v":0},{"$f":"(Calculator!$AR$13*A28*'Dose per unit release'!$Q28*'Dose per unit release'!$S28/'Assessment Details'!$C$25)/$AV$11","v":0},{"$f":"(Calculator!$AR$13*A28*'Dose per unit release'!$Q28*'Dose per unit release'!$T28/'Assessment Details'!$C$25)/$AV$11","v":0},{"$f":"(Calculator!$AR$13*A28*'Dose per unit release'!$Q28*'Dose per unit release'!$U28/'Assessment Details'!$C$25)/$AV$11","v":0},null,null,{"$f":"(Calculator!$AR$13*A28*'Dose per unit release'!$X28*'Dose per unit release'!$Y28/'Assessment Details'!$C$25)/$AV$11","v":0},{"$f":"(Calculator!$AR$13*A28*'Dose per unit release'!$X28*'Dose per unit release'!$Z28/'Assessment Details'!$C$25)/$AV$11","v":0},null,null,{"$f":"(Calculator!$AR$15*A28*'Dose per unit release'!$AC28*'Dose per unit release'!$AD28*100/'Assessment Details'!$C$39)/$AV$11","v":0},{"$f":"(Calculator!$AR$15*A28*'Dose per unit release'!$AC28*'Dose per unit release'!$AE28*100/'Assessment Details'!$C$39)/$AV$11","v":0},{"$f":"(Calculator!$AR$15*A28*'Dose per unit release'!$AC28*'Dose per unit release'!$AF28*100/'Assessment Details'!$C$39)/$AV$11","v":0},null,null,{"$f":"Calculator!$AR$13*A28*'Dose per unit release'!$AI28*'Dose per unit release'!$AJ28/'Assessment Details'!$C$25","v":0},null,null,{"$f":"Calculator!$AR$15*A28*'Dose per unit release'!$AL28*'Dose per unit release'!$AM28*100/'Assessment Details'!$C$39","v":0},null,null,{"$f":"(AD103)","v":2.5216666666666671E-18}]
[null,null,{"$f":"(A29*'Dose per unit release'!$A29*60/'Assessment Details'!$C$32)/$AV$11","v":0},{"$f":"(A29*'Dose per unit release'!$B29*60/'Assessment Details'!$C$32)/$AV$11","v":0},{"$f":"(A29*'Dose per unit release'!$C29*60/'Assessment Details'!$C$32)/$AV$11","v":0},null,null,{"$f":"(A29*'Dose per unit release'!$F29*60/'Assessment Details'!$C$32)/$AV$11","v":0},{"$f":"(A29*'Dose per unit release'!$G29*60/'Assessment Details'!$C$32)/$AV$11","v":0},{"$f":"(A29*'Dose per unit release'!$H29*60/'Assessment Details'!$C$32)/$AV$11","v":0},{"$f":"(A29*'Dose per unit release'!$I29*60/'Assessment Details'!$C$32)/$AV$11","v":0},null,null,{"$f":"(Calculator!$AR$11*A29*'Dose per unit release'!$L29*0.1/'Assessment Details'!$C$20)/$AV$11","v":0},{"$f":"(Calculator!$AR$11*A29*'Dose per unit release'!$M29*0.1/'Assessment Details'!$C$20)/$AV$11","v":0},{"$f":"(Calculator!$AR$11*A29*'Dose per unit release'!$N29*0.1/'Assessment Details'!$C$20)/$AV$11","v":0},null,null,{"$f":"(Calculator!$AR$13*A29*'Dose per unit release'!$Q29*'Dose per unit release'!$R29/'Assessment Details'!$C$25)/$AV$11","v":0},{"$f":"(Calculator!$AR$13*A29*'Dose per unit release'!$Q29*'Dose per unit release'!$S29/'Assessment Details'!$C$25)/$AV$11","v":0},{"$f":"(Calculator!$AR$13*A29*'Dose per unit release'!$Q29*'Dose per unit release'!$T29/'Assessment Details'!$C$25)/$AV$11","v":0},{"$f":"(Calculator!$AR$13*A29*'Dose per unit release'!$Q29*'Dose per unit release'!$U29/'Assessment Details'!$C$25)/$AV$11","v":0},null,null,{"$f":"(Calculator!$AR$13*A29*'Dose per unit release'!$X29*'Dose per unit release'!$Y29/'Assessment Details'!$C$25)/$AV$11","v":0},{"$f":"(Calculator!$AR$13*A29*'Dose per unit release'!$X29*'Dose per unit release'!$Z29/'Assessment Details'!$C$25)/$AV$11","v":0},null,null,{"$f":"(Calculator!$AR$15*A29*'Dose per unit release'!$AC29*'Dose per unit release'!$AD29*100/'Assessment Details'!$C$39)/$AV$11","v":0},{"$f":"(Calculator!$AR$15*A29*'Dose per unit release'!$AC29*'Dose per unit release'!$AE29*100/'Assessment Details'!$C$39)/$AV$11","v":0},{"$f":"(Calculator!$AR$15*A29*'Dose per unit release'!$AC29*'Dose per unit release'!$AF29*100/'Assessment Details'!$C$39)/$AV$11","v":0},null,null,{"$f":"Calculator!$AR$13*A29*'Dose per unit release'!$AI29*'Dose per unit release'!$AJ29/'Assessment Details'!$C$25","v":0},null,null,{"$f":"Calculator!$AR$15*A29*'Dose per unit release'!$AL29*'Dose per unit release'!$AM29*100/'Assessment Details'!$C$39","v":0}]
[null,null,{"$f":"(A30*'Dose per unit release'!$A30*60/'Assessment Details'!$C$32)/$AV$11","v":0},{"$f":"(A30*'Dose per unit release'!$B30*60/'Assessment Details'!$C$32)/$AV$11","v":0},{"$f":"(A30*'Dose per unit release'!$C30*60/'Assessment Details'!$C$32)/$AV$11","v":0},null,null,{"$f":"(A30*'Dose per unit release'!$F30*60/'Assessment Details'!$C$32)/$AV$11","v":0},{"$f":"(A30*'Dose per unit release'!$G30*60/'Assessment Details'!$C$32)/$AV$11","v":0},{"$f":"(A30*'Dose per unit release'!$H30*60/'Assessment Details'!$C$32)/$AV$11","v":0},{"$f":"(A30*'Dose per unit release'!$I30*60/'Assessment Details'!$C$32)/$AV$11","v":0},null,null,{"$f":"(Calculator!$AR$11*A30*'Dose per unit release'!$L30*0.1/'Assessment Details'!$C$20)/$AV$11","v":0},{"$f":"(Calculator!$AR$11*A30*'Dose per unit release'!$M30*0.1/'Assessment Details'!$C$20)/$AV$11","v":0},{"$f":"(Calculator!$AR$11*A30*'Dose per unit release'!$N30*0.1/'Assessment Details'!$C$20)/$AV$11","v":0},null,null,{"$f":"(Calculator!$AR$13*A30*'Dose per unit release'!$Q30*'Dose per unit release'!$R30/'Assessment Details'!$C$25)/$AV$11","v":0},{"$f":"(Calculator!$AR$13*A30*'Dose per unit release'!$Q30*'Dose per unit release'!$S30/'Assessment Details'!$C$25)/$AV$11","v":0},{"$f":"(Calculator!$AR$13*A30*'Dose per unit release'!$Q30*'Dose per unit release'!$T30/'Assessment Details'!$C$25)/$AV$11","v":0},{"$f":"(Calculator!$AR$13*A30*'Dose per unit release'!$Q30*'Dose per unit release'!$U30/'Assessment Details'!$C$25)/$AV$11","v":0},null,null,{"$f":"(Calculator!$AR$13*A30*'Dose per unit release'!$X30*'Dose per unit release'!$Y30/'Assessment Details'!$C$25)/$AV$11","v":0},{"$f":"(Calculator!$AR$13*A30*'Dose per unit release'!$X30*'Dose per unit release'!$Z30/'Assessment Details'!$C$25)/$AV$11","v":0},null,null,{"$f":"(Calculator!$AR$15*A30*'Dose per unit release'!$AC30*'Dose per unit release'!$AD30*100/'Assessment Details'!$C$39)/$AV$11","v":0},{"$f":"(Calculator!$AR$15*A30*'Dose per unit release'!$AC30*'Dose per unit release'!$AE30*100/'Assessment Details'!$C$39)/$AV$11","v":0},{"$f":"(Calculator!$AR$15*A30*'Dose per unit release'!$AC30*'Dose per unit release'!$AF30*100/'Assessment Details'!$C$39)/$AV$11","v":0},null,null,{"$f":"Calculator!$AR$13*A30*'Dose per unit release'!$AI30*'Dose per unit release'!$AJ30/'Assessment Details'!$C$25","v":0},null,null,{"$f":"Calculator!$AR$15*A30*'Dose per unit release'!$AL30*'Dose per unit release'!$AM30*100/'Assessment Details'!$C$39","v":0},null,null,{"$f":"MAX(AN25,AN26,AN27,AN28)","v":2.5947596031544138E-16}]
[null,null,{"$f":"(A31*'Dose per unit release'!$A31*60/'Assessment Details'!$C$32)/$AV$11","v":0},{"$f":"(A31*'Dose per unit release'!$B31*60/'Assessment Details'!$C$32)/$AV$11","v":0},{"$f":"(A31*'Dose per unit release'!$C31*60/'Assessment Details'!$C$32)/$AV$11","v":0},null,null,{"$f":"(A31*'Dose per unit release'!$F31*60/'Assessment Details'!$C$32)/$AV$11","v":0},{"$f":"(A31*'Dose per unit release'!$G31*60/'Assessment Details'!$C$32)/$AV$11","v":0},{"$f":"(A31*'Dose per unit release'!$H31*60/'Assessment Details'!$C$32)/$AV$11","v":0},{"$f":"(A31*'Dose per unit release'!$I31*60/'Assessment Details'!$C$32)/$AV$11","v":0},null,null,{"$f":"(Calculator!$AR$11*A31*'Dose per unit release'!$L31*0.1/'Assessment Details'!$C$20)/$AV$11","v":0},{"$f":"(Calculator!$AR$11*A31*'Dose per unit release'!$M31*0.1/'Assessment Details'!$C$20)/$AV$11","v":0},{"$f":"(Calculator!$AR$11*A31*'Dose per unit release'!$N31*0.1/'Assessment Details'!$C$20)/$AV$11","v":0},null,null,{"$f":"(Calculator!$AR$13*A31*'Dose per unit release'!$Q31*'Dose per unit release'!$R31/'Assessment Details'!$C$25)/$AV$11","v":0},{"$f":"(Calculator!$AR$13*A31*'Dose per unit release'!$Q31*'Dose per unit release'!$S31/'Assessment Details'!$C$25)/$AV$11","v":0},{"$f":"(Calculator!$AR$13*A31*'Dose per unit release'!$Q31*'Dose per unit release'!$T31/'Assessment Details'!$C$25)/$AV$11","v":0},{"$f":"(Calculator!$AR$13*A31*'Dose per unit release'!$Q31*'Dose per unit release'!$U31/'Assessment Details'!$C$25)/$AV$11","v":0},null,null,{"$f":"(Calculator!$AR$13*A31*'Dose per unit release'!$X31*'Dose per unit release'!$Y31/'Assessment Details'!$C$25)/$AV$11","v":0},{"$f":"(Calculator!$AR$13*A31*'Dose per unit release'!$X31*'Dose per unit release'!$Z31/'Assessment Details'!$C$25)/$AV$11","v":0},null,null,{"$f":"(Calculator!$AR$15*A31*'Dose per unit release'!$AC31*'Dose per unit release'!$AD31*100/'Assessment Details'!$C$39)/$AV$11","v":0},{"$f":"(Calculator!$AR$15*A31*'Dose per unit release'!$AC31*'Dose per unit release'!$AE31*100/'Assessment Details'!$C$39)/$AV$11","v":0},{"$f":"(Calculator!$AR$15*A31*'Dose per unit release'!$AC31*'Dose per unit release'!$AF31*100/'Assessment Details'!$C$39)/$AV$11","v":0},null,null,{"$f":"Calculator!$AR$13*A31*'Dose per unit release'!$AI31*'Dose per unit release'!$AJ31/'Assessment Details'!$C$25","v":0},null,null,{"$f":"Calculator!$AR$15*A31*'Dose per unit release'!$AL31*'Dose per unit release'!$AM31*100/'Assessment Details'!$C$39","v":0}]
[null,null,{"$f":"(A32*'Dose per unit release'!$A32*60/'Assessment Details'!$C$32)/$AV$11","v":0},{"$f":"(A32*'Dose per unit release'!$B32*60/'Assessment Details'!$C$32)/$AV$11","v":0},{"$f":"(A32*'Dose per unit release'!$C32*60/'Assessment Details'!$C$32)/$AV$11","v":0},null,null,{"$f":"(A32*'Dose per unit release'!$F32*60/'Assessment Details'!$C$32)/$AV$11","v":0},{"$f":"(A32*'Dose per unit release'!$G32*60/'Assessment Details'!$C$32)/$AV$11","v":0},{"$f":"(A32*'Dose per unit release'!$H32*60/'Assessment Details'!$C$32)/$AV$11","v":0},{"$f":"(A32*'Dose per unit release'!$I32*60/'Assessment Details'!$C$32)/$AV$11","v":0},null,null,{"$f":"(Calculator!$AR$11*A32*'Dose per unit release'!$L32*0.1/'Assessment Details'!$C$20)/$AV$11","v":0},{"$f":"(Calculator!$AR$11*A32*'Dose per unit release'!$M32*0.1/'Assessment Details'!$C$20)/$AV$11","v":0},{"$f":"(Calculator!$AR$11*A32*'Dose per unit release'!$N32*0.1/'Assessment Details'!$C$20)/$AV$11","v":0},null,null,{"$f":"(Calculator!$AR$13*A32*'Dose per unit release'!$Q32*'Dose per unit release'!$R32/'Assessment Details'!$C$25)/$AV$11","v":0},{"$f":"(Calculator!$AR$13*A32*'Dose per unit release'!$Q32*'Dose per unit release'!$S32/'Assessment Details'!$C$25)/$AV$11","v":0},{"$f":"(Calculator!$AR$13*A32*'Dose per unit release'!$Q32*'Dose per unit release'!$T32/'Assessment Details'!$C$25)/$AV$11","v":0},{"$f":"(Calculator!$AR$13*A32*'Dose per unit release'!$Q32*'Dose per unit release'!$U32/'Assessment Details'!$C$25)/$AV$11","v":0},null,null,{"$f":"(Calculator!$AR$13*A32*'Dose per unit release'!$X32*'Dose per unit release'!$Y32/'Assessment Details'!$C$25)/$AV$11","v":0},{"$f":"(Calculator!$AR$13*A32*'Dose per unit release'!$X32*'Dose per unit release'!$Z32/'Assessment Details'!$C$25)/$AV$11","v":0},null,null,{"$f":"(Calculator!$AR$15*A32*'Dose per unit release'!$AC32*'Dose per unit release'!$AD32*100/'Assessment Details'!$C$39)/$AV$11","v":0},{"$f":"(Calculator!$AR$15*A32*'Dose per unit release'!$AC32*'Dose per unit release'!$AE32*100/'Assessment Details'!$C$39)/$AV$11","v":0},{"$f":"(Calculator!$AR$15*A32*'Dose per unit release'!$AC32*'Dose per unit release'!$AF32*100/'Assessment Details'!$C$39)/$AV$11","v":0},null,null,{"$f":"Calculator!$AR$13*A32*'Dose per unit release'!$AI32*'Dose per unit release'!$AJ32/'Assessment Details'!$C$25","v":0},null,null,{"$f":"Calculator!$AR$15*A32*'Dose per unit release'!$AL32*'Dose per unit release'!$AM32*100/'Assessment Details'!$C$39","v":0}]
[null,null,{"$f":"(A33*'Dose per unit release'!$A33*60/'Assessment Details'!$C$32)/$AV$11","v":0},{"$f":"(A33*'Dose per unit release'!$B33*60/'Assessment Details'!$C$32)/$AV$11","v":0},{"$f":"(A33*'Dose per unit release'!$C33*60/'Assessment Details'!$C$32)/$AV$11","v":0},null,null,{"$f":"(A33*'Dose per unit release'!$F33*60/'Assessment Details'!$C$32)/$AV$11","v":0},{"$f":"(A33*'Dose per unit release'!$G33*60/'Assessment Details'!$C$32)/$AV$11","v":0},{"$f":"(A33*'Dose per unit release'!$H33*60/'Assessment Details'!$C$32)/$AV$11","v":0},{"$f":"(A33*'Dose per unit release'!$I33*60/'Assessment Details'!$C$32)/$AV$11","v":0},null,null,{"$f":"(Calculator!$AR$11*A33*'Dose per unit release'!$L33*0.1/'Assessment Details'!$C$20)/$AV$11","v":0},{"$f":"(Calculator!$AR$11*A33*'Dose per unit release'!$M33*0.1/'Assessment Details'!$C$20)/$AV$11","v":0},{"$f":"(Calculator!$AR$11*A33*'Dose per unit release'!$N33*0.1/'Assessment Details'!$C$20)/$AV$11","v":0},null,null,{"$f":"(Calculator!$AR$13*A33*'Dose per unit release'!$Q33*'Dose per unit release'!$R33/'Assessment Details'!$C$25)/$AV$11","v":0},{"$f":"(Calculator!$AR$13*A33*'Dose per unit release'!$Q33*'Dose per unit release'!$S33/'Assessment Details'!$C$25)/$AV$11","v":0},{"$f":"(Calculator!$AR$13*A33*'Dose per unit release'!$Q33*'Dose per unit release'!$T33/'Assessment Details'!$C$25)/$AV$11","v":0},{"$f":"(Calculator!$AR$13*A33*'Dose per unit release'!$Q33*'Dose per unit release'!$U33/'Assessment Details'!$C$25)/$AV$11","v":0},null,null,{"$f":"(Calculator!$AR$13*A33*'Dose per unit release'!$X33*'Dose per unit release'!$Y33/'Assessment Details'!$C$25)/$AV$11","v":0},{"$f":"(Calculator!$AR$13*A33*'Dose per unit release'!$X33*'Dose per unit release'!$Z33/'Assessment Details'!$C$25)/$AV$11","v":0},null,null,{"$f":"(Calculator!$AR$15*A33*'Dose per unit release'!$AC33*'Dose per unit release'!$AD33*100/'Assessment Details'!$C$39)/$AV$11","v":0},{"$f":"(Calculator!$AR$15*A33*'Dose per unit release'!$AC33*'Dose per unit release'!$AE33*100/'Assessment Details'!$C$39)/$AV$11","v":0},{"$f":"(Calculator!$AR$15*A33*'Dose per unit release'!$AC33*'Dose per unit release'!$AF33*100/'Assessment Details'!$C$39)/$AV$11","v":0},null,null,{"$f":"Calculator!$AR$13*A33*'Dose per unit release'!$AI33*'Dose per unit release'!$AJ33/'Assessment Details'!$C$25","v":0},null,null,{"$f":"Calculator!$AR$15*A33*'Dose per unit release'!$AL33*'Dose per unit release'!$AM33*100/'Assessment Details'!$C$39","v":0}]
[null,null,{"$f":"(A34*'Dose per unit release'!$A34*60/'Assessment Details'!$C$32)/$AV$11","v":0},{"$f":"(A34*'Dose per unit release'!$B34*60/'Assessment Details'!$C$32)/$AV$11","v":0},{"$f":"(A34*'Dose per unit release'!$C34*60/'Assessment Details'!$C$32)/$AV$11","v":0},null,null,{"$f":"(A34*'Dose per unit release'!$F34*60/'Assessment Details'!$C$32)/$AV$11","v":0},{"$f":"(A34*'Dose per unit release'!$G34*60/'Assessment Details'!$C$32)/$AV$11","v":0},{"$f":"(A34*'Dose per unit release'!$H34*60/'Assessment Details'!$C$32)/$AV$11","v":0},{"$f":"(A34*'Dose per unit release'!$I34*60/'Assessment Details'!$C$32)/$AV$11","v":0},null,null,{"$f":"(Calculator!$AR$11*A34*'Dose per unit release'!$L34*0.1/'Assessment Details'!$C$20)/$AV$11","v":0},{"$f":"(Calculator!$AR$11*A34*'Dose per unit release'!$M34*0.1/'Assessment Details'!$C$20)/$AV$11","v":0},{"$f":"(Calculator!$AR$11*A34*'Dose per unit release'!$N34*0.1/'Assessment Details'!$C$20)/$AV$11","v":0},null,null,{"$f":"(Calculator!$AR$13*A34*'Dose per unit release'!$Q34*'Dose per unit release'!$R34/'Assessment Details'!$C$25)/$AV$11","v":0},{"$f":"(Calculator!$AR$13*A34*'Dose per unit release'!$Q34*'Dose per unit release'!$S34/'Assessment Details'!$C$25)/$AV$11","v":0},{"$f":"(Calculator!$AR$13*A34*'Dose per unit release'!$Q34*'Dose per unit release'!$T34/'Assessment Details'!$C$25)/$AV$11","v":0},{"$f":"(Calculator!$AR$13*A34*'Dose per unit release'!$Q34*'Dose per unit release'!$U34/'Assessment Details'!$C$25)/$AV$11","v":0},null,null,{"$f":"(Calculator!$AR$13*A34*'Dose per unit release'!$X34*'Dose per unit release'!$Y34/'Assessment Details'!$C$25)/$AV$11","v":0},{"$f":"(Calculator!$AR$13*A34*'Dose per unit release'!$X34*'Dose per unit release'!$Z34/'Assessment Details'!$C$25)/$AV$11","v":0},null,null,{"$f":"(Calculator!$AR$15*A34*'Dose per unit release'!$AC34*'Dose per unit release'!$AD34*100/'Assessment Details'!$C$39)/$AV$11","v":0},{"$f":"(Calculator!$AR$15*A34*'Dose per unit release'!$AC34*'Dose per unit release'!$AE34*100/'Assessment Details'!$C$39)/$AV$11","v":0},{"$f":"(Calculator!$AR$15*A34*'Dose per unit release'!$AC34*'Dose per unit release'!$AF34*100/'Assessment Details'!$C$39)/$AV$11","v":0},null,null,{"$f":"Calculator!$AR$13*A34*'Dose per unit release'!$AI34*'Dose per unit release'!$AJ34/'Assessment Details'!$C$25","v":0},null,null,{"$f":"Calculator!$AR$15*A34*'Dose per unit release'!$AL34*'Dose per unit release'!$AM34*100/'Assessment Details'!$C$39","v":0}]
[null,null,{"$f":"(A35*'Dose per unit release'!$A35*60/'Assessment Details'!$C$32)/$AV$11","v":0},{"$f":"(A35*'Dose per unit release'!$B35*60/'Assessment Details'!$C$32)/$AV$11","v":0},{"$f":"(A35*'Dose per unit release'!$C35*60/'Assessment Details'!$C$32)/$AV$11","v":0},null,null,{"$f":"(A35*'Dose per unit release'!$F35*60/'Assessment Details'!$C$32)/$AV$11","v":0},{"$f":"(A35*'Dose per unit release'!$G35*60/'Assessment Details'!$C$32)/$AV$11","v":0},{"$f":"(A35*'Dose per unit release'!$H35*60/'Assessment Details'!$C$32)/$AV$11","v":0},{"$f":"(A35*'Dose per unit release'!$I35*60/'Assessment Details'!$C$32)/$AV$11","v":0},null,null,{"$f":"(Calculator!$AR$11*A35*'Dose per unit release'!$L35*0.1/'Assessment Details'!$C$20)/$AV$11","v":0},{"$f":"(Calculator!$AR$11*A35*'Dose per unit release'!$M35*0.1/'Assessment Details'!$C$20)/$AV$11","v":0},{"$f":"(Calculator!$AR$11*A35*'Dose per unit release'!$N35*0.1/'Assessment Details'!$C$20)/$AV$11","v":0},null,null,{"$f":"(Calculator!$AR$13*A35*'Dose per unit release'!$Q35*'Dose per unit release'!$R35/'Assessment Details'!$C$25)/$AV$11","v":0},{"$f":"(Calculator!$AR$13*A35*'Dose per unit release'!$Q35*'Dose per unit release'!$S35/'Assessment Details'!$C$25)/$AV$11","v":0},{"$f":"(Calculator!$AR$13*A35*'Dose per unit release'!$Q35*'Dose per unit release'!$T35/'Assessment Details'!$C$25)/$AV$11","v":0},{"$f":"(Calculator!$AR$13*A35*'Dose per unit release'!$Q35*'Dose per unit release'!$U35/'Assessment Details'!$C$25)/$AV$11","v":0},null,null,{"$f":"(Calculator!$AR$13*A35*'Dose per unit release'!$X35*'Dose per unit release'!$Y35/'Assessment Details'!$C$25)/$AV$11","v":0},{"$f":"(Calculator!$AR$13*A35*'Dose per unit release'!$X35*'Dose per unit release'!$Z35/'Assessment Details'!$C$25)/$AV$11","v":0},null,null,{"$f":"(Calculator!$AR$15*A35*'Dose per unit release'!$AC35*'Dose per unit release'!$AD35*100/'Assessment Details'!$C$39)/$AV$11","v":0},{"$f":"(Calculator!$AR$15*A35*'Dose per unit release'!$AC35*'Dose per unit release'!$AE35*100/'Assessment Details'!$C$39)/$AV$11","v":0},{"$f":"(Calculator!$AR$15*A35*'Dose per unit release'!$AC35*'Dose per unit release'!$AF35*100/'Assessment Details'!$C$39)/$AV$11","v":0},null,null,{"$f":"Calculator!$AR$13*A35*'Dose per unit release'!$AI35*'Dose per unit release'!$AJ35/'Assessment Details'!$C$25","v":0},null,null,{"$f":"Calculator!$AR$15*A35*'Dose per unit release'!$AL35*'Dose per unit release'!$AM35*100/'Assessment Details'!$C$39","v":0}]
[null,null,{"$f":"(A36*'Dose per unit release'!$A36*60/'Assessment Details'!$C$32)/$AV$11","v":0},{"$f":"(A36*'Dose per unit release'!$B36*60/'Assessment Details'!$C$32)/$AV$11","v":0},{"$f":"(A36*'Dose per unit release'!$C36*60/'Assessment Details'!$C$32)/$AV$11","v":0},null,null,{"$f":"(A36*'Dose per unit release'!$F36*60/'Assessment Details'!$C$32)/$AV$11","v":0},{"$f":"(A36*'Dose per unit release'!$G36*60/'Assessment Details'!$C$32)/$AV$11","v":0},{"$f":"(A36*'Dose per unit release'!$H36*60/'Assessment Details'!$C$32)/$AV$11","v":0},{"$f":"(A36*'Dose per unit release'!$I36*60/'Assessment Details'!$C$32)/$AV$11","v":0},null,null,{"$f":"(Calculator!$AR$11*A36*'Dose per unit release'!$L36*0.1/'Assessment Details'!$C$20)/$AV$11","v":0},{"$f":"(Calculator!$AR$11*A36*'Dose per unit release'!$M36*0.1/'Assessment Details'!$C$20)/$AV$11","v":0},{"$f":"(Calculator!$AR$11*A36*'Dose per unit release'!$N36*0.1/'Assessment Details'!$C$20)/$AV$11","v":0},null,null,{"$f":"(Calculator!$AR$13*A36*'Dose per unit release'!$Q36*'Dose per unit release'!$R36/'Assessment Details'!$C$25)/$AV$11","v":0},{"$f":"(Calculator!$AR$13*A36*'Dose per unit release'!$Q36*'Dose per unit release'!$S36/'Assessment Details'!$C$25)/$AV$11","v":0},{"$f":"(Calculator!$AR$13*A36*'Dose per unit release'!$Q36*'Dose per unit release'!$T36/'Assessment Details'!$C$25)/$AV$11","v":0},{"$f":"(Calculator!$AR$13*A36*'Dose per unit release'!$Q36*'Dose per unit release'!$U36/'Assessment Details'!$C$25)/$AV$11","v":0},null,null,{"$f":"(Calculator!$AR$13*A36*'Dose per unit release'!$X36*'Dose per unit release'!$Y36/'Assessment Details'!$C$25)/$AV$11","v":0},{"$f":"(Calculator!$AR$13*A36*'Dose per unit release'!$X36*'Dose per unit release'!$Z36/'Assessment Details'!$C$25)/$AV$11","v":0},null,null,{"$f":"(Calculator!$AR$15*A36*'Dose per unit release'!$AC36*'Dose per unit release'!$AD36*100/'Assessment Details'!$C$39)/$AV$11","v":0},{"$f":"(Calculator!$AR$15*A36*'Dose per unit release'!$AC36*'Dose per unit release'!$AE36*100/'Assessment Details'!$C$39)/$AV$11","v":0},{"$f":"(Calculator!$AR$15*A36*'Dose per unit release'!$AC36*'Dose per unit release'!$AF36*100/'Assessment Details'!$C$39)/$AV$11","v":0},null,null,{"$f":"Calculator!$AR$13*A36*'Dose per unit release'!$AI36*'Dose per unit release'!$AJ36/'Assessment Details'!$C$25","v":0},null,null,{"$f":"Calculator!$AR$15*A36*'Dose per unit release'!$AL36*'Dose per unit release'!$AM36*100/'Assessment Details'!$C$39","v":0}]
[null,null,{"$f":"(A37*'Dose per unit release'!$A37*60/'Assessment Details'!$C$32)/$AV$11","v":0},{"$f":"(A37*'Dose per unit release'!$B37*60/'Assessment Details'!$C$32)/$AV$11","v":0},{"$f":"(A37*'Dose per unit release'!$C37*60/'Assessment Details'!$C$32)/$AV$11","v":0},null,null,{"$f":"(A37*'Dose per unit release'!$F37*60/'Assessment Details'!$C$32)/$AV$11","v":0},{"$f":"(A37*'Dose per unit release'!$G37*60/'Assessment Details'!$C$32)/$AV$11","v":0},{"$f":"(A37*'Dose per unit release'!$H37*60/'Assessment Details'!$C$32)/$AV$11","v":0},{"$f":"(A37*'Dose per unit release'!$I37*60/'Assessment Details'!$C$32)/$AV$11","v":0},null,null,{"$f":"(Calculator!$AR$11*A37*'Dose per unit release'!$L37*0.1/'Assessment Details'!$C$20)/$AV$11","v":0},{"$f":"(Calculator!$AR$11*A37*'Dose per unit release'!$M37*0.1/'Assessment Details'!$C$20)/$AV$11","v":0},{"$f":"(Calculator!$AR$11*A37*'Dose per unit release'!$N37*0.1/'Assessment Details'!$C$20)/$AV$11","v":0},null,null,{"$f":"(Calculator!$AR$13*A37*'Dose per unit release'!$Q37*'Dose per unit release'!$R37/'Assessment Details'!$C$25)/$AV$11","v":0},{"$f":"(Calculator!$AR$13*A37*'Dose per unit release'!$Q37*'Dose per unit release'!$S37/'Assessment Details'!$C$25)/$AV$11","v":0},{"$f":"(Calculator!$AR$13*A37*'Dose per unit release'!$Q37*'Dose per unit release'!$T37/'Assessment Details'!$C$25)/$AV$11","v":0},{"$f":"(Calculator!$AR$13*A37*'Dose per unit release'!$Q37*'Dose per unit release'!$U37/'Assessment Details'!$C$25)/$AV$11","v":0},null,null,{"$f":"(Calculator!$AR$13*A37*'Dose per unit release'!$X37*'Dose per unit release'!$Y37/'Assessment Details'!$C$25)/$AV$11","v":0},{"$f":"(Calculator!$AR$13*A37*'Dose per unit release'!$X37*'Dose per unit release'!$Z37/'Assessment Details'!$C$25)/$AV$11","v":0},null,null,{"$f":"(Calculator!$AR$15*A37*'Dose per unit release'!$AC37*'Dose per unit release'!$AD37*100/'Assessment Details'!$C$39)/$AV$11","v":0},{"$f":"(Calculator!$AR$15*A37*'Dose per unit release'!$AC37*'Dose per unit release'!$AE37*100/'Assessment Details'!$C$39)/$AV$11","v":0},{"$f":"(Calculator!$AR$15*A37*'Dose per unit release'!$AC37*'Dose per unit release'!$AF37*100/'Assessment Details'!$C$39)/$AV$11","v":0},null,null,{"$f":"Calculator!$AR$13*A37*'Dose per unit release'!$AI37*'Dose per unit release'!$AJ37/'Assessment Details'!$C$25","v":0},null,null,{"$f":"Calculator!$AR$15*A37*'Dose per unit release'!$AL37*'Dose per unit release'!$AM37*100/'Assessment Details'!$C$39","v":0}]
[null,null,{"$f":"(A38*'Dose per unit release'!$A38*60/'Assessment Details'!$C$32)/$AV$11","v":0},{"$f":"(A38*'Dose per unit release'!$B38*60/'Assessment Details'!$C$32)/$AV$11","v":0},{"$f":"(A38*'Dose per unit release'!$C38*60/'Assessment Details'!$C$32)/$AV$11","v":0},null,null,{"$f":"(A38*'Dose per unit release'!$F38*60/'Assessment Details'!$C$32)/$AV$11","v":0},{"$f":"(A38*'Dose per unit release'!$G38*60/'Assessment Details'!$C$32)/$AV$11","v":0},{"$f":"(A38*'Dose per unit release'!$H38*60/'Assessment Details'!$C$32)/$AV$11","v":0},{"$f":"(A38*'Dose per unit release'!$I38*60/'Assessment Details'!$C$32)/$AV$11","v":0},null,null,{"$f":"(Calculator!$AR$11*A38*'Dose per unit release'!$L38*0.1/'Assessment Details'!$C$20)/$AV$11","v":0},{"$f":"(Calculator!$AR$11*A38*'Dose per unit release'!$M38*0.1/'Assessment Details'!$C$20)/$AV$11","v":0},{"$f":"(Calculator!$AR$11*A38*'Dose per unit release'!$N38*0.1/'Assessment Details'!$C$20)/$AV$11","v":0},null,null,{"$f":"(Calculator!$AR$13*A38*'Dose per unit release'!$Q38*'Dose per unit release'!$R38/'Assessment Details'!$C$25)/$AV$11","v":0},{"$f":"(Calculator!$AR$13*A38*'Dose per unit release'!$Q38*'Dose per unit release'!$S38/'Assessment Details'!$C$25)/$AV$11","v":0},{"$f":"(Calculator!$AR$13*A38*'Dose per unit release'!$Q38*'Dose per unit release'!$T38/'Assessment Details'!$C$25)/$AV$11","v":0},{"$f":"(Calculator!$AR$13*A38*'Dose per unit release'!$Q38*'Dose per unit release'!$U38/'Assessment Details'!$C$25)/$AV$11","v":0},null,null,{"$f":"(Calculator!$AR$13*A38*'Dose per unit release'!$X38*'Dose per unit release'!$Y38/'Assessment Details'!$C$25)/$AV$11","v":0},{"$f":"(Calculator!$AR$13*A38*'Dose per unit release'!$X38*'Dose per unit release'!$Z38/'Assessment Details'!$C$25)/$AV$11","v":0},null,null,{"$f":"(Calculator!$AR$15*A38*'Dose per unit release'!$AC38*'Dose per unit release'!$AD38*100/'Assessment Details'!$C$39)/$AV$11","v":0},{"$f":"(Calculator!$AR$15*A38*'Dose per unit release'!$AC38*'Dose per unit release'!$AE38*100/'Assessment Details'!$C$39)/$AV$11","v":0},{"$f":"(Calculator!$AR$15*A38*'Dose per unit release'!$AC38*'Dose per unit release'!$AF38*100/'Assessment Details'!$C$39)/$AV$11","v":0},null,null,{"$f":"Calculator!$AR$13*A38*'Dose per unit release'!$AI38*'Dose per unit release'!$AJ38/'Assessment Details'!$C$25","v":0},null,null,{"$f":"Calculator!$AR$15*A38*'Dose per unit release'!$AL38*'Dose per unit release'!$AM38*100/'Assessment Details'!$C$39","v":0}]
[null,null,{"$f":"(A39*'Dose per unit release'!$A39*60/'Assessment Details'!$C$32)/$AV$11","v":0},{"$f":"(A39*'Dose per unit release'!$B39*60/'Assessment Details'!$C$32)/$AV$11","v":0},{"$f":"(A39*'Dose per unit release'!$C39*60/'Assessment Details'!$C$32)/$AV$11","v":0},null,null,{"$f":"(A39*'Dose per unit release'!$F39*60/'Assessment Details'!$C$32)/$AV$11","v":0},{"$f":"(A39*'Dose per unit release'!$G39*60/'Assessment Details'!$C$32)/$AV$11","v":0},{"$f":"(A39*'Dose per unit release'!$H39*60/'Assessment Details'!$C$32)/$AV$11","v":0},{"$f":"(A39*'Dose per unit release'!$I39*60/'Assessment Details'!$C$32)/$AV$11","v":0},null,null,{"$f":"(Calculator!$AR$11*A39*'Dose per unit release'!$L39*0.1/'Assessment Details'!$C$20)/$AV$11","v":0},{"$f":"(Calculator!$AR$11*A39*'Dose per unit release'!$M39*0.1/'Assessment Details'!$C$20)/$AV$11","v":0},{"$f":"(Calculator!$AR$11*A39*'Dose per unit release'!$N39*0.1/'Assessment Details'!$C$20)/$AV$11","v":0},null,null,{"$f":"(Calculator!$AR$13*A39*'Dose per unit release'!$Q39*'Dose per unit release'!$R39/'Assessment Details'!$C$25)/$AV$11","v":0},{"$f":"(Calculator!$AR$13*A39*'Dose per unit release'!$Q39*'Dose per unit release'!$S39/'Assessment Details'!$C$25)/$AV$11","v":0},{"$f":"(Calculator!$AR$13*A39*'Dose per unit release'!$Q39*'Dose per unit release'!$T39/'Assessment Details'!$C$25)/$AV$11","v":0},{"$f":"(Calculator!$AR$13*A39*'Dose per unit release'!$Q39*'Dose per unit release'!$U39/'Assessment Details'!$C$25)/$AV$11","v":0},null,null,{"$f":"(Calculator!$AR$13*A39*'Dose per unit release'!$X39*'Dose per unit release'!$Y39/'Assessment Details'!$C$25)/$AV$11","v":0},{"$f":"(Calculator!$AR$13*A39*'Dose per unit release'!$X39*'Dose per unit release'!$Z39/'Assessment Details'!$C$25)/$AV$11","v":0},null,null,{"$f":"(Calculator!$AR$15*A39*'Dose per unit release'!$AC39*'Dose per unit release'!$AD39*100/'Assessment Details'!$C$39)/$AV$11","v":0},{"$f":"(Calculator!$AR$15*A39*'Dose per unit release'!$AC39*'Dose per unit release'!$AE39*100/'Assessment Details'!$C$39)/$AV$11","v":0},{"$f":"(Calculator!$AR$15*A39*'Dose per unit release'!$AC39*'Dose per unit release'!$AF39*100/'Assessment Details'!$C$39)/$AV$11","v":0},null,null,{"$f":"Calculator!$AR$13*A39*'Dose per unit release'!$AI39*'Dose per unit release'!$AJ39/'Assessment Details'!$C$25","v":0},null,null,{"$f":"Calculator!$AR$15*A39*'Dose per unit release'!$AL39*'Dose per unit release'!$AM39*100/'Assessment Details'!$C$39","v":0}]
[null,null,{"$f":"(A40*'Dose per unit release'!$A40*60/'Assessment Details'!$C$32)/$AV$11","v":0},{"$f":"(A40*'Dose per unit release'!$B40*60/'Assessment Details'!$C$32)/$AV$11","v":0},{"$f":"(A40*'Dose per unit release'!$C40*60/'Assessment Details'!$C$32)/$AV$11","v":0},null,null,{"$f":"(A40*'Dose per unit release'!$F40*60/'Assessment Details'!$C$32)/$AV$11","v":0},{"$f":"(A40*'Dose per unit release'!$G40*60/'Assessment Details'!$C$32)/$AV$11","v":0},{"$f":"(A40*'Dose per unit release'!$H40*60/'Assessment Details'!$C$32)/$AV$11","v":0},{"$f":"(A40*'Dose per unit release'!$I40*60/'Assessment Details'!$C$32)/$AV$11","v":0},null,null,{"$f":"(Calculator!$AR$11*A40*'Dose per unit release'!$L40*0.1/'Assessment Details'!$C$20)/$AV$11","v":0},{"$f":"(Calculator!$AR$11*A40*'Dose per unit release'!$M40*0.1/'Assessment Details'!$C$20)/$AV$11","v":0},{"$f":"(Calculator!$AR$11*A40*'Dose per unit release'!$N40*0.1/'Assessment Details'!$C$20)/$AV$11","v":0},null,null,{"$f":"(Calculator!$AR$13*A40*'Dose per unit release'!$Q40*'Dose per unit release'!$R40/'Assessment Details'!$C$25)/$AV$11","v":0},{"$f":"(Calculator!$AR$13*A40*'Dose per unit release'!$Q40*'Dose per unit release'!$S40/'Assessment Details'!$C$25)/$AV$11","v":0},{"$f":"(Calculator!$AR$13*A40*'Dose per unit release'!$Q40*'Dose per unit release'!$T40/'Assessment Details'!$C$25)/$AV$11","v":0},{"$f":"(Calculator!$AR$13*A40*'Dose per unit release'!$Q40*'Dose per unit release'!$U40/'Assessment Details'!$C$25)/$AV$11","v":0},null,null,{"$f":"(Calculator!$AR$13*A40*'Dose per unit release'!$X40*'Dose per unit release'!$Y40/'Assessment Details'!$C$25)/$AV$11","v":0},{"$f":"(Calculator!$AR$13*A40*'Dose per unit release'!$X40*'Dose per unit release'!$Z40/'Assessment Details'!$C$25)/$AV$11","v":0},null,null,{"$f":"(Calculator!$AR$15*A40*'Dose per unit release'!$AC40*'Dose per unit release'!$AD40*100/'Assessment Details'!$C$39)/$AV$11","v":0},{"$f":"(Calculator!$AR$15*A40*'Dose per unit release'!$AC40*'Dose per unit release'!$AE40*100/'Assessment Details'!$C$39)/$AV$11","v":0},{"$f":"(Calculator!$AR$15*A40*'Dose per unit release'!$AC40*'Dose per unit release'!$AF40*100/'Assessment Details'!$C$39)/$AV$11","v":0},null,null,{"$f":"Calculator!$AR$13*A40*'Dose per unit release'!$AI40*'Dose per unit release'!$AJ40/'Assessment Details'!$C$25","v":0},null,null,{"$f":"Calculator!$AR$15*A40*'Dose per unit release'!$AL40*'Dose per unit release'!$AM40*100/'Assessment Details'!$C$39","v":0}]
[null,null,{"$f":"(A41*'Dose per unit release'!$A41*60/'Assessment Details'!$C$32)/$AV$11","v":0},{"$f":"(A41*'Dose per unit release'!$B41*60/'Assessment Details'!$C$32)/$AV$11","v":0},{"$f":"(A41*'Dose per unit release'!$C41*60/'Assessment Details'!$C$32)/$AV$11","v":0},null,null,{"$f":"(A41*'Dose per unit release'!$F41*60/'Assessment Details'!$C$32)/$AV$11","v":0},{"$f":"(A41*'Dose per unit release'!$G41*60/'Assessment Details'!$C$32)/$AV$11","v":0},{"$f":"(A41*'Dose per unit release'!$H41*60/'Assessment Details'!$C$32)/$AV$11","v":0},{"$f":"(A41*'Dose per unit release'!$I41*60/'Assessment Details'!$C$32)/$AV$11","v":0},null,null,{"$f":"(Calculator!$AR$11*A41*'Dose per unit release'!$L41*0.1/'Assessment Details'!$C$20)/$AV$11","v":0},{"$f":"(Calculator!$AR$11*A41*'Dose per unit release'!$M41*0.1/'Assessment Details'!$C$20)/$AV$11","v":0},{"$f":"(Calculator!$AR$11*A41*'Dose per unit release'!$N41*0.1/'Assessment Details'!$C$20)/$AV$11","v":0},null,null,{"$f":"(Calculator!$AR$13*A41*'Dose per unit release'!$Q41*'Dose per unit release'!$R41/'Assessment Details'!$C$25)/$AV$11","v":0},{"$f":"(Calculator!$AR$13*A41*'Dose per unit release'!$Q41*'Dose per unit release'!$S41/'Assessment Details'!$C$25)/$AV$11","v":0},{"$f":"(Calculator!$AR$13*A41*'Dose per unit release'!$Q41*'Dose per unit release'!$T41/'Assessment Details'!$C$25)/$AV$11","v":0},{"$f":"(Calculator!$AR$13*A41*'Dose per unit release'!$Q41*'Dose per unit release'!$U41/'Assessment Details'!$C$25)/$AV$11","v":0},null,null,{"$f":"(Calculator!$AR$13*A41*'Dose per unit release'!$X41*'Dose per unit release'!$Y41/'Assessment Details'!$C$25)/$AV$11","v":0},{"$f":"(Calculator!$AR$13*A41*'Dose per unit release'!$X41*'Dose per unit release'!$Z41/'Assessment Details'!$C$25)/$AV$11","v":0},null,null,{"$f":"(Calculator!$AR$15*A41*'Dose per unit release'!$AC41*'Dose per unit release'!$AD41*100/'Assessment Details'!$C$39)/$AV$11","v":0},{"$f":"(Calculator!$AR$15*A41*'Dose per unit release'!$AC41*'Dose per unit release'!$AE41*100/'Assessment Details'!$C$39)/$AV$11","v":0},{"$f":"(Calculator!$AR$15*A41*'Dose per unit release'!$AC41*'Dose per unit release'!$AF41*100/'Assessment Details'!$C$39)/$AV$11","v":0},null,null,{"$f":"Calculator!$AR$13*A41*'Dose per unit release'!$AI41*'Dose per unit release'!$AJ41/'Assessment Details'!$C$25","v":0},null,null,{"$f":"Calculator!$AR$15*A41*'Dose per unit release'!$AL41*'Dose per unit release'!$AM41*100/'Assessment Details'!$C$39","v":0}]
[null,null,{"$f":"(A42*'Dose per unit release'!$A42*60/'Assessment Details'!$C$32)/$AV$11","v":0},{"$f":"(A42*'Dose per unit release'!$B42*60/'Assessment Details'!$C$32)/$AV$11","v":0},{"$f":"(A42*'Dose per unit release'!$C42*60/'Assessment Details'!$C$32)/$AV$11","v":0},null,null,{"$f":"(A42*'Dose per unit release'!$F42*60/'Assessment Details'!$C$32)/$AV$11","v":0},{"$f":"(A42*'Dose per unit release'!$G42*60/'Assessment Details'!$C$32)/$AV$11","v":0},{"$f":"(A42*'Dose per unit release'!$H42*60/'Assessment Details'!$C$32)/$AV$11","v":0},{"$f":"(A42*'Dose per unit release'!$I42*60/'Assessment Details'!$C$32)/$AV$11","v":0},null,null,{"$f":"(Calculator!$AR$11*A42*'Dose per unit release'!$L42*0.1/'Assessment Details'!$C$20)/$AV$11","v":0},{"$f":"(Calculator!$AR$11*A42*'Dose per unit release'!$M42*0.1/'Assessment Details'!$C$20)/$AV$11","v":0},{"$f":"(Calculator!$AR$11*A42*'Dose per unit release'!$N42*0.1/'Assessment Details'!$C$20)/$AV$11","v":0},null,null,{"$f":"(Calculator!$AR$13*A42*'Dose per unit release'!$Q42*'Dose per unit release'!$R42/'Assessment Details'!$C$25)/$AV$11","v":0},{"$f":"(Calculator!$AR$13*A42*'Dose per unit release'!$Q42*'Dose per unit release'!$S42/'Assessment Details'!$C$25)/$AV$11","v":0},{"$f":"(Calculator!$AR$13*A42*'Dose per unit release'!$Q42*'Dose per unit release'!$T42/'Assessment Details'!$C$25)/$AV$11","v":0},{"$f":"(Calculator!$AR$13*A42*'Dose per unit release'!$Q42*'Dose per unit release'!$U42/'Assessment Details'!$C$25)/$AV$11","v":0},null,null,{"$f":"(Calculator!$AR$13*A42*'Dose per unit release'!$X42*'Dose per unit release'!$Y42/'Assessment Details'!$C$25)/$AV$11","v":0},{"$f":"(Calculator!$AR$13*A42*'Dose per unit release'!$X42*'Dose per unit release'!$Z42/'Assessment Details'!$C$25)/$AV$11","v":0},null,null,{"$f":"(Calculator!$AR$15*A42*'Dose per unit release'!$AC42*'Dose per unit release'!$AD42*100/'Assessment Details'!$C$39)/$AV$11","v":0},{"$f":"(Calculator!$AR$15*A42*'Dose per unit release'!$AC42*'Dose per unit release'!$AE42*100/'Assessment Details'!$C$39)/$AV$11","v":0},{"$f":"(Calculator!$AR$15*A42*'Dose per unit release'!$AC42*'Dose per unit release'!$AF42*100/'Assessment Details'!$C$39)/$AV$11","v":0},null,null,{"$f":"Calculator!$AR$13*A42*'Dose per unit release'!$AI42*'Dose per unit release'!$AJ42/'Assessment Details'!$C$25","v":0},null,null,{"$f":"Calculator!$AR$15*A42*'Dose per unit release'!$AL42*'Dose per unit release'!$AM42*100/'Assessment Details'!$C$39","v":0}]
[null,null,{"$f":"(A43*'Dose per unit release'!$A43*60/'Assessment Details'!$C$32)/$AV$11","v":0},{"$f":"(A43*'Dose per unit release'!$B43*60/'Assessment Details'!$C$32)/$AV$11","v":0},{"$f":"(A43*'Dose per unit release'!$C43*60/'Assessment Details'!$C$32)/$AV$11","v":0},null,null,{"$f":"(A43*'Dose per unit release'!$F43*60/'Assessment Details'!$C$32)/$AV$11","v":0},{"$f":"(A43*'Dose per unit release'!$G43*60/'Assessment Details'!$C$32)/$AV$11","v":0},{"$f":"(A43*'Dose per unit release'!$H43*60/'Assessment Details'!$C$32)/$AV$11","v":0},{"$f":"(A43*'Dose per unit release'!$I43*60/'Assessment Details'!$C$32)/$AV$11","v":0},null,null,{"$f":"(Calculator!$AR$11*A43*'Dose per unit release'!$L43*0.1/'Assessment Details'!$C$20)/$AV$11","v":0},{"$f":"(Calculator!$AR$11*A43*'Dose per unit release'!$M43*0.1/'Assessment Details'!$C$20)/$AV$11","v":0},{"$f":"(Calculator!$AR$11*A43*'Dose per unit release'!$N43*0.1/'Assessment Details'!$C$20)/$AV$11","v":0},null,null,{"$f":"(Calculator!$AR$13*A43*'Dose per unit release'!$Q43*'Dose per unit release'!$R43/'Assessment Details'!$C$25)/$AV$11","v":0},{"$f":"(Calculator!$AR$13*A43*'Dose per unit release'!$Q43*'Dose per unit release'!$S43/'Assessment Details'!$C$25)/$AV$11","v":0},{"$f":"(Calculator!$AR$13*A43*'Dose per unit release'!$Q43*'Dose per unit release'!$T43/'Assessment Details'!$C$25)/$AV$11","v":0},{"$f":"(Calculator!$AR$13*A43*'Dose per unit release'!$Q43*'Dose per unit release'!$U43/'Assessment Details'!$C$25)/$AV$11","v":0},null,null,{"$f":"(Calculator!$AR$13*A43*'Dose per unit release'!$X43*'Dose per unit release'!$Y43/'Assessment Details'!$C$25)/$AV$11","v":0},{"$f":"(Calculator!$AR$13*A43*'Dose per unit release'!$X43*'Dose per unit release'!$Z43/'Assessment Details'!$C$25)/$AV$11","v":0},null,null,{"$f":"(Calculator!$AR$15*A43*'Dose per unit release'!$AC43*'Dose per unit release'!$AD43*100/'Assessment Details'!$C$39)/$AV$11","v":0},{"$f":"(Calculator!$AR$15*A43*'Dose per unit release'!$AC43*'Dose per unit release'!$AE43*100/'Assessment Details'!$C$39)/$AV$11","v":0},{"$f":"(Calculator!$AR$15*A43*'Dose per unit release'!$AC43*'Dose per unit release'!$AF43*100/'Assessment Details'!$C$39)/$AV$11","v":0},null,null,{"$f":"Calculator!$AR$13*A43*'Dose per unit release'!$AI43*'Dose per unit release'!$AJ43/'Assessment Details'!$C$25","v":0},null,null,{"$f":"Calculator!$AR$15*A43*'Dose per unit release'!$AL43*'Dose per unit release'!$AM43*100/'Assessment Details'!$C$39","v":0}]
[null,null,{"$f":"(A44*'Dose per unit release'!$A44*60/'Assessment Details'!$C$32)/$AV$11","v":0},{"$f":"(A44*'Dose per unit release'!$B44*60/'Assessment Details'!$C$32)/$AV$11","v":0},{"$f":"(A44*'Dose per unit release'!$C44*60/'Assessment Details'!$C$32)/$AV$11","v":0},null,null,{"$f":"(A44*'Dose per unit release'!$F44*60/'Assessment Details'!$C$32)/$AV$11","v":0},{"$f":"(A44*'Dose per unit release'!$G44*60/'Assessment Details'!$C$32)/$AV$11","v":0},{"$f":"(A44*'Dose per unit release'!$H44*60/'Assessment Details'!$C$32)/$AV$11","v":0},{"$f":"(A44*'Dose per unit release'!$I44*60/'Assessment Details'!$C$32)/$AV$11","v":0},null,null,{"$f":"(Calculator!$AR$11*A44*'Dose per unit release'!$L44*0.1/'Assessment Details'!$C$20)/$AV$11","v":0},{"$f":"(Calculator!$AR$11*A44*'Dose per unit release'!$M44*0.1/'Assessment Details'!$C$20)/$AV$11","v":0},{"$f":"(Calculator!$AR$11*A44*'Dose per unit release'!$N44*0.1/'Assessment Details'!$C$20)/$AV$11","v":0},null,null,{"$f":"(Calculator!$AR$13*A44*'Dose per unit release'!$Q44*'Dose per unit release'!$R44/'Assessment Details'!$C$25)/$AV$11","v":0},{"$f":"(Calculator!$AR$13*A44*'Dose per unit release'!$Q44*'Dose per unit release'!$S44/'Assessment Details'!$C$25)/$AV$11","v":0},{"$f":"(Calculator!$AR$13*A44*'Dose per unit release'!$Q44*'Dose per unit release'!$T44/'Assessment Details'!$C$25)/$AV$11","v":0},{"$f":"(Calculator!$AR$13*A44*'Dose per unit release'!$Q44*'Dose per unit release'!$U44/'Assessment Details'!$C$25)/$AV$11","v":0},null,null,{"$f":"(Calculator!$AR$13*A44*'Dose per unit release'!$X44*'Dose per unit release'!$Y44/'Assessment Details'!$C$25)/$AV$11","v":0},{"$f":"(Calculator!$AR$13*A44*'Dose per unit release'!$X44*'Dose per unit release'!$Z44/'Assessment Details'!$C$25)/$AV$11","v":0},null,null,{"$f":"(Calculator!$AR$15*A44*'Dose per unit release'!$AC44*'Dose per unit release'!$AD44*100/'Assessment Details'!$C$39)/$AV$11","v":0},{"$f":"(Calculator!$AR$15*A44*'Dose per unit release'!$AC44*'Dose per unit release'!$AE44*100/'Assessment Details'!$C$39)/$AV$11","v":0},{"$f":"(Calculator!$AR$15*A44*'Dose per unit release'!$AC44*'Dose per unit release'!$AF44*100/'Assessment Details'!$C$39)/$AV$11","v":0},null,null,{"$f":"Calculator!$AR$13*A44*'Dose per unit release'!$AI44*'Dose per unit release'!$AJ44/'Assessment Details'!$C$25","v":0},null,null,{"$f":"Calculator!$AR$15*A44*'Dose per unit release'!$AL44*'Dose per unit release'!$AM44*100/'Assessment Details'!$C$39","v":0}]
[null,null,{"$f":"(A45*'Dose per unit release'!$A45*60/'Assessment Details'!$C$32)/$AV$11","v":0},{"$f":"(A45*'Dose per unit release'!$B45*60/'Assessment Details'!$C$32)/$AV$11","v":0},{"$f":"(A45*'Dose per unit release'!$C45*60/'Assessment Details'!$C$32)/$AV$11","v":0},null,null,{"$f":"(A45*'Dose per unit release'!$F45*60/'Assessment Details'!$C$32)/$AV$11","v":0},{"$f":"(A45*'Dose per unit release'!$G45*60/'Assessment Details'!$C$32)/$AV$11","v":0},{"$f":"(A45*'Dose per unit release'!$H45*60/'Assessment Details'!$C$32)/$AV$11","v":0},{"$f":"(A45*'Dose per unit release'!$I45*60/'Assessment Details'!$C$32)/$AV$11","v":0},null,null,{"$f":"(Calculator!$AR$11*A45*'Dose per unit release'!$L45*0.1/'Assessment Details'!$C$20)/$AV$11","v":0},{"$f":"(Calculator!$AR$11*A45*'Dose per unit release'!$M45*0.1/'Assessment Details'!$C$20)/$AV$11","v":0},{"$f":"(Calculator!$AR$11*A45*'Dose per unit release'!$N45*0.1/'Assessment Details'!$C$20)/$AV$11","v":0},null,null,{"$f":"(Calculator!$AR$13*A45*'Dose per unit release'!$Q45*'Dose per unit release'!$R45/'Assessment Details'!$C$25)/$AV$11","v":0},{"$f":"(Calculator!$AR$13*A45*'Dose per unit release'!$Q45*'Dose per unit release'!$S45/'Assessment Details'!$C$25)/$AV$11","v":0},{"$f":"(Calculator!$AR$13*A45*'Dose per unit release'!$Q45*'Dose per unit release'!$T45/'Assessment Details'!$C$25)/$AV$11","v":0},{"$f":"(Calculator!$AR$13*A45*'Dose per unit release'!$Q45*'Dose per unit release'!$U45/'Assessment Details'!$C$25)/$AV$11","v":0},null,null,{"$f":"(Calculator!$AR$13*A45*'Dose per unit release'!$X45*'Dose per unit release'!$Y45/'Assessment Details'!$C$25)/$AV$11","v":0},{"$f":"(Calculator!$AR$13*A45*'Dose per unit release'!$X45*'Dose per unit release'!$Z45/'Assessment Details'!$C$25)/$AV$11","v":0},null,null,{"$f":"(Calculator!$AR$15*A45*'Dose per unit release'!$AC45*'Dose per unit release'!$AD45*100/'Assessment Details'!$C$39)/$AV$11","v":0},{"$f":"(Calculator!$AR$15*A45*'Dose per unit release'!$AC45*'Dose per unit release'!$AE45*100/'Assessment Details'!$C$39)/$AV$11","v":0},{"$f":"(Calculator!$AR$15*A45*'Dose per unit release'!$AC45*'Dose per unit release'!$AF45*100/'Assessment Details'!$C$39)/$AV$11","v":0},null,null,{"$f":"Calculator!$AR$13*A45*'Dose per unit release'!$AI45*'Dose per unit release'!$AJ45/'Assessment Details'!$C$25","v":0},null,null,{"$f":"Calculator!$AR$15*A45*'Dose per unit release'!$AL45*'Dose per unit release'!$AM45*100/'Assessment Details'!$C$39","v":0}]
[null,null,{"$f":"(A46*'Dose per unit release'!$A46*60/'Assessment Details'!$C$32)/$AV$11","v":0},{"$f":"(A46*'Dose per unit release'!$B46*60/'Assessment Details'!$C$32)/$AV$11","v":0},{"$f":"(A46*'Dose per unit release'!$C46*60/'Assessment Details'!$C$32)/$AV$11","v":0},null,null,{"$f":"(A46*'Dose per unit release'!$F46*60/'Assessment Details'!$C$32)/$AV$11","v":0},{"$f":"(A46*'Dose per unit release'!$G46*60/'Assessment Details'!$C$32)/$AV$11","v":0},{"$f":"(A46*'Dose per unit release'!$H46*60/'Assessment Details'!$C$32)/$AV$11","v":0},{"$f":"(A46*'Dose per unit release'!$I46*60/'Assessment Details'!$C$32)/$AV$11","v":0},null,null,{"$f":"(Calculator!$AR$11*A46*'Dose per unit release'!$L46*0.1/'Assessment Details'!$C$20)/$AV$11","v":0},{"$f":"(Calculator!$AR$11*A46*'Dose per unit release'!$M46*0.1/'Assessment Details'!$C$20)/$AV$11","v":0},{"$f":"(Calculator!$AR$11*A46*'Dose per unit release'!$N46*0.1/'Assessment Details'!$C$20)/$AV$11","v":0},null,null,{"$f":"(Calculator!$AR$13*A46*'Dose per unit release'!$Q46*'Dose per unit release'!$R46/'Assessment Details'!$C$25)/$AV$11","v":0},{"$f":"(Calculator!$AR$13*A46*'Dose per unit release'!$Q46*'Dose per unit release'!$S46/'Assessment Details'!$C$25)/$AV$11","v":0},{"$f":"(Calculator!$AR$13*A46*'Dose per unit release'!$Q46*'Dose per unit release'!$T46/'Assessment Details'!$C$25)/$AV$11","v":0},{"$f":"(Calculator!$AR$13*A46*'Dose per unit release'!$Q46*'Dose per unit release'!$U46/'Assessment Details'!$C$25)/$AV$11","v":0},null,null,{"$f":"(Calculator!$AR$13*A46*'Dose per unit release'!$X46*'Dose per unit release'!$Y46/'Assessment Details'!$C$25)/$AV$11","v":0},{"$f":"(Calculator!$AR$13*A46*'Dose per unit release'!$X46*'Dose per unit release'!$Z46/'Assessment Details'!$C$25)/$AV$11","v":0},null,null,{"$f":"(Calculator!$AR$15*A46*'Dose per unit release'!$AC46*'Dose per unit release'!$AD46*100/'Assessment Details'!$C$39)/$AV$11","v":0},{"$f":"(Calculator!$AR$15*A46*'Dose per unit release'!$AC46*'Dose per unit release'!$AE46*100/'Assessment Details'!$C$39)/$AV$11","v":0},{"$f":"(Calculator!$AR$15*A46*'Dose per unit release'!$AC46*'Dose per unit release'!$AF46*100/'Assessment Details'!$C$39)/$AV$11","v":0},null,null,{"$f":"Calculator!$AR$13*A46*'Dose per unit release'!$AI46*'Dose per unit release'!$AJ46/'Assessment Details'!$C$25","v":0},null,null,{"$f":"Calculator!$AR$15*A46*'Dose per unit release'!$AL46*'Dose per unit release'!$AM46*100/'Assessment Details'!$C$39","v":0}]
[null,null,{"$f":"(A47*'Dose per unit release'!$A47*60/'Assessment Details'!$C$32)/$AV$11","v":0},{"$f":"(A47*'Dose per unit release'!$B47*60/'Assessment Details'!$C$32)/$AV$11","v":0},{"$f":"(A47*'Dose per unit release'!$C47*60/'Assessment Details'!$C$32)/$AV$11","v":0},null,null,{"$f":"(A47*'Dose per unit release'!$F47*60/'Assessment Details'!$C$32)/$AV$11","v":0},{"$f":"(A47*'Dose per unit release'!$G47*60/'Assessment Details'!$C$32)/$AV$11","v":0},{"$f":"(A47*'Dose per unit release'!$H47*60/'Assessment Details'!$C$32)/$AV$11","v":0},{"$f":"(A47*'Dose per unit release'!$I47*60/'Assessment Details'!$C$32)/$AV$11","v":0},null,null,{"$f":"(Calculator!$AR$11*A47*'Dose per unit release'!$L47*0.1/'Assessment Details'!$C$20)/$AV$11","v":0},{"$f":"(Calculator!$AR$11*A47*'Dose per unit release'!$M47*0.1/'Assessment Details'!$C$20)/$AV$11","v":0},{"$f":"(Calculator!$AR$11*A47*'Dose per unit release'!$N47*0.1/'Assessment Details'!$C$20)/$AV$11","v":0},null,null,{"$f":"(Calculator!$AR$13*A47*'Dose per unit release'!$Q47*'Dose per unit release'!$R47/'Assessment Details'!$C$25)/$AV$11","v":0},{"$f":"(Calculator!$AR$13*A47*'Dose per unit release'!$Q47*'Dose per unit release'!$S47/'Assessment Details'!$C$25)/$AV$11","v":0},{"$f":"(Calculator!$AR$13*A47*'Dose per unit release'!$Q47*'Dose per unit release'!$T47/'Assessment Details'!$C$25)/$AV$11","v":0},{"$f":"(Calculator!$AR$13*A47*'Dose per unit release'!$Q47*'Dose per unit release'!$U47/'Assessment Details'!$C$25)/$AV$11","v":0},null,null,{"$f":"(Calculator!$AR$13*A47*'Dose per unit release'!$X47*'Dose per unit release'!$Y47/'Assessment Details'!$C$25)/$AV$11","v":0},{"$f":"(Calculator!$AR$13*A47*'Dose per unit release'!$X47*'Dose per unit release'!$Z47/'Assessment Details'!$C$25)/$AV$11","v":0},null,null,{"$f":"(Calculator!$AR$15*A47*'Dose per unit release'!$AC47*'Dose per unit release'!$AD47*100/'Assessment Details'!$C$39)/$AV$11","v":0},{"$f":"(Calculator!$AR$15*A47*'Dose per unit release'!$AC47*'Dose per unit release'!$AE47*100/'Assessment Details'!$C$39)/$AV$11","v":0},{"$f":"(Calculator!$AR$15*A47*'Dose per unit release'!$AC47*'Dose per unit release'!$AF47*100/'Assessment Details'!$C$39)/$AV$11","v":0},null,null,{"$f":"Calculator!$AR$13*A47*'Dose per unit release'!$AI47*'Dose per unit release'!$AJ47/'Assessment Details'!$C$25","v":0},null,null,{"$f":"Calculator!$AR$15*A47*'Dose per unit release'!$AL47*'Dose per unit release'!$AM47*100/'Assessment Details'!$C$39","v":0}]
[null,null,{"$f":"(A48*'Dose per unit release'!$A48*60/'Assessment Details'!$C$32)/$AV$11","v":0},{"$f":"(A48*'Dose per unit release'!$B48*60/'Assessment Details'!$C$32)/$AV$11","v":0},{"$f":"(A48*'Dose per unit release'!$C48*60/'Assessment Details'!$C$32)/$AV$11","v":0},null,null,{"$f":"(A48*'Dose per unit release'!$F48*60/'Assessment Details'!$C$32)/$AV$11","v":0},{"$f":"(A48*'Dose per unit release'!$G48*60/'Assessment Details'!$C$32)/$AV$11","v":0},{"$f":"(A48*'Dose per unit release'!$H48*60/'Assessment Details'!$C$32)/$AV$11","v":0},{"$f":"(A48*'Dose per unit release'!$I48*60/'Assessment Details'!$C$32)/$AV$11","v":0},null,null,{"$f":"(Calculator!$AR$11*A48*'Dose per unit release'!$L48*0.1/'Assessment Details'!$C$20)/$AV$11","v":0},{"$f":"(Calculator!$AR$11*A48*'Dose per unit release'!$M48*0.1/'Assessment Details'!$C$20)/$AV$11","v":0},{"$f":"(Calculator!$AR$11*A48*'Dose per unit release'!$N48*0.1/'Assessment Details'!$C$20)/$AV$11","v":0},null,null,{"$f":"(Calculator!$AR$13*A48*'Dose per unit release'!$Q48*'Dose per unit release'!$R48/'Assessment Details'!$C$25)/$AV$11","v":0},{"$f":"(Calculator!$AR$13*A48*'Dose per unit release'!$Q48*'Dose per unit release'!$S48/'Assessment Details'!$C$25)/$AV$11","v":0},{"$f":"(Calculator!$AR$13*A48*'Dose per unit release'!$Q48*'Dose per unit release'!$T48/'Assessment Details'!$C$25)/$AV$11","v":0},{"$f":"(Calculator!$AR$13*A48*'Dose per unit release'!$Q48*'Dose per unit release'!$U48/'Assessment Details'!$C$25)/$AV$11","v":0},null,null,{"$f":"(Calculator!$AR$13*A48*'Dose per unit release'!$X48*'Dose per unit release'!$Y48/'Assessment Details'!$C$25)/$AV$11","v":0},{"$f":"(Calculator!$AR$13*A48*'Dose per unit release'!$X48*'Dose per unit release'!$Z48/'Assessment Details'!$C$25)/$AV$11","v":0},null,null,{"$f":"(Calculator!$AR$15*A48*'Dose per unit release'!$AC48*'Dose per unit release'!$AD48*100/'Assessment Details'!$C$39)/$AV$11","v":0},{"$f":"(Calculator!$AR$15*A48*'Dose per unit release'!$AC48*'Dose per unit release'!$AE48*100/'Assessment Details'!$C$39)/$AV$11","v":0},{"$f":"(Calculator!$AR$15*A48*'Dose per unit release'!$AC48*'Dose per unit release'!$AF48*100/'Assessment Details'!$C$39)/$AV$11","v":0},null,null,{"$f":"Calculator!$AR$13*A48*'Dose per unit release'!$AI48*'Dose per unit release'!$AJ48/'Assessment Details'!$C$25","v":0},null,null,{"$f":"Calculator!$AR$15*A48*'Dose per unit release'!$AL48*'Dose per unit release'!$AM48*100/'Assessment Details'!$C$39","v":0}]
[null,null,{"$f":"(A49*'Dose per unit release'!$A49*60/'Assessment Details'!$C$32)/$AV$11","v":0},{"$f":"(A49*'Dose per unit release'!$B49*60/'Assessment Details'!$C$32)/$AV$11","v":0},{"$f":"(A49*'Dose per unit release'!$C49*60/'Assessment Details'!$C$32)/$AV$11","v":0},null,null,{"$f":"(A49*'Dose per unit release'!$F49*60/'Assessment Details'!$C$32)/$AV$11","v":0},{"$f":"(A49*'Dose per unit release'!$G49*60/'Assessment Details'!$C$32)/$AV$11","v":0},{"$f":"(A49*'Dose per unit release'!$H49*60/'Assessment Details'!$C$32)/$AV$11","v":0},{"$f":"(A49*'Dose per unit release'!$I49*60/'Assessment Details'!$C$32)/$AV$11","v":0},null,null,{"$f":"(Calculator!$AR$11*A49*'Dose per unit release'!$L49*0.1/'Assessment Details'!$C$20)/$AV$11","v":0},{"$f":"(Calculator!$AR$11*A49*'Dose per unit release'!$M49*0.1/'Assessment Details'!$C$20)/$AV$11","v":0},{"$f":"(Calculator!$AR$11*A49*'Dose per unit release'!$N49*0.1/'Assessment Details'!$C$20)/$AV$11","v":0},null,null,{"$f":"(Calculator!$AR$13*A49*'Dose per unit release'!$Q49*'Dose per unit release'!$R49/'Assessment Details'!$C$25)/$AV$11","v":0},{"$f":"(Calculator!$AR$13*A49*'Dose per unit release'!$Q49*'Dose per unit release'!$S49/'Assessment Details'!$C$25)/$AV$11","v":0},{"$f":"(Calculator!$AR$13*A49*'Dose per unit release'!$Q49*'Dose per unit release'!$T49/'Assessment Details'!$C$25)/$AV$11","v":0},{"$f":"(Calculator!$AR$13*A49*'Dose per unit release'!$Q49*'Dose per unit release'!$U49/'Assessment Details'!$C$25)/$AV$11","v":0},null,null,{"$f":"(Calculator!$AR$13*A49*'Dose per unit release'!$X49*'Dose per unit release'!$Y49/'Assessment Details'!$C$25)/$AV$11","v":0},{"$f":"(Calculator!$AR$13*A49*'Dose per unit release'!$X49*'Dose per unit release'!$Z49/'Assessment Details'!$C$25)/$AV$11","v":0},null,null,{"$f":"(Calculator!$AR$15*A49*'Dose per unit release'!$AC49*'Dose per unit release'!$AD49*100/'Assessment Details'!$C$39)/$AV$11","v":0},{"$f":"(Calculator!$AR$15*A49*'Dose per unit release'!$AC49*'Dose per unit release'!$AE49*100/'Assessment Details'!$C$39)/$AV$11","v":0},{"$f":"(Calculator!$AR$15*A49*'Dose per unit release'!$AC49*'Dose per unit release'!$AF49*100/'Assessment Details'!$C$39)/$AV$11","v":0},null,null,{"$f":"Calculator!$AR$13*A49*'Dose per unit release'!$AI49*'Dose per unit release'!$AJ49/'Assessment Details'!$C$25","v":0},null,null,{"$f":"Calculator!$AR$15*A49*'Dose per unit release'!$AL49*'Dose per unit release'!$AM49*100/'Assessment Details'!$C$39","v":0}]
[null,null,{"$f":"(A50*'Dose per unit release'!$A50*60/'Assessment Details'!$C$32)/$AV$11","v":0},{"$f":"(A50*'Dose per unit release'!$B50*60/'Assessment Details'!$C$32)/$AV$11","v":0},{"$f":"(A50*'Dose per unit release'!$C50*60/'Assessment Details'!$C$32)/$AV$11","v":0},null,null,{"$f":"(A50*'Dose per unit release'!$F50*60/'Assessment Details'!$C$32)/$AV$11","v":0},{"$f":"(A50*'Dose per unit release'!$G50*60/'Assessment Details'!$C$32)/$AV$11","v":0},{"$f":"(A50*'Dose per unit release'!$H50*60/'Assessment Details'!$C$32)/$AV$11","v":0},{"$f":"(A50*'Dose per unit release'!$I50*60/'Assessment Details'!$C$32)/$AV$11","v":0},null,null,{"$f":"(Calculator!$AR$11*A50*'Dose per unit release'!$L50*0.1/'Assessment Details'!$C$20)/$AV$11","v":0},{"$f":"(Calculator!$AR$11*A50*'Dose per unit release'!$M50*0.1/'Assessment Details'!$C$20)/$AV$11","v":0},{"$f":"(Calculator!$AR$11*A50*'Dose per unit release'!$N50*0.1/'Assessment Details'!$C$20)/$AV$11","v":0},null,null,{"$f":"(Calculator!$AR$13*A50*'Dose per unit release'!$Q50*'Dose per unit release'!$R50/'Assessment Details'!$C$25)/$AV$11","v":0},{"$f":"(Calculator!$AR$13*A50*'Dose per unit release'!$Q50*'Dose per unit release'!$S50/'Assessment Details'!$C$25)/$AV$11","v":0},{"$f":"(Calculator!$AR$13*A50*'Dose per unit release'!$Q50*'Dose per unit release'!$T50/'Assessment Details'!$C$25)/$AV$11","v":0},{"$f":"(Calculator!$AR$13*A50*'Dose per unit release'!$Q50*'Dose per unit release'!$U50/'Assessment Details'!$C$25)/$AV$11","v":0},null,null,{"$f":"(Calculator!$AR$13*A50*'Dose per unit release'!$X50*'Dose per unit release'!$Y50/'Assessment Details'!$C$25)/$AV$11","v":0},{"$f":"(Calculator!$AR$13*A50*'Dose per unit release'!$X50*'Dose per unit release'!$Z50/'Assessment Details'!$C$25)/$AV$11","v":0},null,null,{"$f":"(Calculator!$AR$15*A50*'Dose per unit release'!$AC50*'Dose per unit release'!$AD50*100/'Assessment Details'!$C$39)/$AV$11","v":0},{"$f":"(Calculator!$AR$15*A50*'Dose per unit release'!$AC50*'Dose per unit release'!$AE50*100/'Assessment Details'!$C$39)/$AV$11","v":0},{"$f":"(Calculator!$AR$15*A50*'Dose per unit release'!$AC50*'Dose per unit release'!$AF50*100/'Assessment Details'!$C$39)/$AV$11","v":0},null,null,{"$f":"Calculator!$AR$13*A50*'Dose per unit release'!$AI50*'Dose per unit release'!$AJ50/'Assessment Details'!$C$25","v":0},null,null,{"$f":"Calculator!$AR$15*A50*'Dose per unit release'!$AL50*'Dose per unit release'!$AM50*100/'Assessment Details'!$C$39","v":0}]
[null,null,{"$f":"(A51*'Dose per unit release'!$A51*60/'Assessment Details'!$C$32)/$AV$11","v":0},{"$f":"(A51*'Dose per unit release'!$B51*60/'Assessment Details'!$C$32)/$AV$11","v":0},{"$f":"(A51*'Dose per unit release'!$C51*60/'Assessment Details'!$C$32)/$AV$11","v":0},null,null,{"$f":"(A51*'Dose per unit release'!$F51*60/'Assessment Details'!$C$32)/$AV$11","v":0},{"$f":"(A51*'Dose per unit release'!$G51*60/'Assessment Details'!$C$32)/$AV$11","v":0},{"$f":"(A51*'Dose per unit release'!$H51*60/'Assessment Details'!$C$32)/$AV$11","v":0},{"$f":"(A51*'Dose per unit release'!$I51*60/'Assessment Details'!$C$32)/$AV$11","v":0},null,null,{"$f":"(Calculator!$AR$11*A51*'Dose per unit release'!$L51*0.1/'Assessment Details'!$C$20)/$AV$11","v":0},{"$f":"(Calculator!$AR$11*A51*'Dose per unit release'!$M51*0.1/'Assessment Details'!$C$20)/$AV$11","v":0},{"$f":"(Calculator!$AR$11*A51*'Dose per unit release'!$N51*0.1/'Assessment Details'!$C$20)/$AV$11","v":0},null,null,{"$f":"(Calculator!$AR$13*A51*'Dose per unit release'!$Q51*'Dose per unit release'!$R51/'Assessment Details'!$C$25)/$AV$11","v":0},{"$f":"(Calculator!$AR$13*A51*'Dose per unit release'!$Q51*'Dose per unit release'!$S51/'Assessment Details'!$C$25)/$AV$11","v":0},{"$f":"(Calculator!$AR$13*A51*'Dose per unit release'!$Q51*'Dose per unit release'!$T51/'Assessment Details'!$C$25)/$AV$11","v":0},{"$f":"(Calculator!$AR$13*A51*'Dose per unit release'!$Q51*'Dose per unit release'!$U51/'Assessment Details'!$C$25)/$AV$11","v":0},null,null,{"$f":"(Calculator!$AR$13*A51*'Dose per unit release'!$X51*'Dose per unit release'!$Y51/'Assessment Details'!$C$25)/$AV$11","v":0},{"$f":"(Calculator!$AR$13*A51*'Dose per unit release'!$X51*'Dose per unit release'!$Z51/'Assessment Details'!$C$25)/$AV$11","v":0},null,null,{"$f":"(Calculator!$AR$15*A51*'Dose per unit release'!$AC51*'Dose per unit release'!$AD51*100/'Assessment Details'!$C$39)/$AV$11","v":0},{"$f":"(Calculator!$AR$15*A51*'Dose per unit release'!$AC51*'Dose per unit release'!$AE51*100/'Assessment Details'!$C$39)/$AV$11","v":0},{"$f":"(Calculator!$AR$15*A51*'Dose per unit release'!$AC51*'Dose per unit release'!$AF51*100/'Assessment Details'!$C$39)/$AV$11","v":0},null,null,{"$f":"Calculator!$AR$13*A51*'Dose per unit release'!$AI51*'Dose per unit release'!$AJ51/'Assessment Details'!$C$25","v":0},null,null,{"$f":"Calculator!$AR$15*A51*'Dose per unit release'!$AL51*'Dose per unit release'!$AM51*100/'Assessment Details'!$C$39","v":0}]
[null,null,{"$f":"(A52*'Dose per unit release'!$A52*60/'Assessment Details'!$C$32)/$AV$11","v":0},{"$f":"(A52*'Dose per unit release'!$B52*60/'Assessment Details'!$C$32)/$AV$11","v":0},{"$f":"(A52*'Dose per unit release'!$C52*60/'Assessment Details'!$C$32)/$AV$11","v":0},null,null,{"$f":"(A52*'Dose per unit release'!$F52*60/'Assessment Details'!$C$32)/$AV$11","v":0},{"$f":"(A52*'Dose per unit release'!$G52*60/'Assessment Details'!$C$32)/$AV$11","v":0},{"$f":"(A52*'Dose per unit release'!$H52*60/'Assessment Details'!$C$32)/$AV$11","v":0},{"$f":"(A52*'Dose per unit release'!$I52*60/'Assessment Details'!$C$32)/$AV$11","v":0},null,null,{"$f":"(Calculator!$AR$11*A52*'Dose per unit release'!$L52*0.1/'Assessment Details'!$C$20)/$AV$11","v":0},{"$f":"(Calculator!$AR$11*A52*'Dose per unit release'!$M52*0.1/'Assessment Details'!$C$20)/$AV$11","v":0},{"$f":"(Calculator!$AR$11*A52*'Dose per unit release'!$N52*0.1/'Assessment Details'!$C$20)/$AV$11","v":0},null,null,{"$f":"(Calculator!$AR$13*A52*'Dose per unit release'!$Q52*'Dose per unit release'!$R52/'Assessment Details'!$C$25)/$AV$11","v":0},{"$f":"(Calculator!$AR$13*A52*'Dose per unit release'!$Q52*'Dose per unit release'!$S52/'Assessment Details'!$C$25)/$AV$11","v":0},{"$f":"(Calculator!$AR$13*A52*'Dose per unit release'!$Q52*'Dose per unit release'!$T52/'Assessment Details'!$C$25)/$AV$11","v":0},{"$f":"(Calculator!$AR$13*A52*'Dose per unit release'!$Q52*'Dose per unit release'!$U52/'Assessment Details'!$C$25)/$AV$11","v":0},null,null,{"$f":"(Calculator!$AR$13*A52*'Dose per unit release'!$X52*'Dose per unit release'!$Y52/'Assessment Details'!$C$25)/$AV$11","v":0},{"$f":"(Calculator!$AR$13*A52*'Dose per unit release'!$X52*'Dose per unit release'!$Z52/'Assessment Details'!$C$25)/$AV$11","v":0},null,null,{"$f":"(Calculator!$AR$15*A52*'Dose per unit release'!$AC52*'Dose per unit release'!$AD52*100/'Assessment Details'!$C$39)/$AV$11","v":0},{"$f":"(Calculator!$AR$15*A52*'Dose per unit release'!$AC52*'Dose per unit release'!$AE52*100/'Assessment Details'!$C$39)/$AV$11","v":0},{"$f":"(Calculator!$AR$15*A52*'Dose per unit release'!$AC52*'Dose per unit release'!$AF52*100/'Assessment Details'!$C$39)/$AV$11","v":0},null,null,{"$f":"Calculator!$AR$13*A52*'Dose per unit release'!$AI52*'Dose per unit release'!$AJ52/'Assessment Details'!$C$25","v":0},null,null,{"$f":"Calculator!$AR$15*A52*'Dose per unit release'!$AL52*'Dose per unit release'!$AM52*100/'Assessment Details'!$C$39","v":0}]
[null,null,{"$f":"(A53*'Dose per unit release'!$A53*60/'Assessment Details'!$C$32)/$AV$11","v":0},{"$f":"(A53*'Dose per unit release'!$B53*60/'Assessment Details'!$C$32)/$AV$11","v":0},{"$f":"(A53*'Dose per unit release'!$C53*60/'Assessment Details'!$C$32)/$AV$11","v":0},null,null,{"$f":"(A53*'Dose per unit release'!$F53*60/'Assessment Details'!$C$32)/$AV$11","v":0},{"$f":"(A53*'Dose per unit release'!$G53*60/'Assessment Details'!$C$32)/$AV$11","v":0},{"$f":"(A53*'Dose per unit release'!$H53*60/'Assessment Details'!$C$32)/$AV$11","v":0},{"$f":"(A53*'Dose per unit release'!$I53*60/'Assessment Details'!$C$32)/$AV$11","v":0},null,null,{"$f":"(Calculator!$AR$11*A53*'Dose per unit release'!$L53*0.1/'Assessment Details'!$C$20)/$AV$11","v":0},{"$f":"(Calculator!$AR$11*A53*'Dose per unit release'!$M53*0.1/'Assessment Details'!$C$20)/$AV$11","v":0},{"$f":"(Calculator!$AR$11*A53*'Dose per unit release'!$N53*0.1/'Assessment Details'!$C$20)/$AV$11","v":0},null,null,{"$f":"(Calculator!$AR$13*A53*'Dose per unit release'!$Q53*'Dose per unit release'!$R53/'Assessment Details'!$C$25)/$AV$11","v":0},{"$f":"(Calculator!$AR$13*A53*'Dose per unit release'!$Q53*'Dose per unit release'!$S53/'Assessment Details'!$C$25)/$AV$11","v":0},{"$f":"(Calculator!$AR$13*A53*'Dose per unit release'!$Q53*'Dose per unit release'!$T53/'Assessment Details'!$C$25)/$AV$11","v":0},{"$f":"(Calculator!$AR$13*A53*'Dose per unit release'!$Q53*'Dose per unit release'!$U53/'Assessment Details'!$C$25)/$AV$11","v":0},null,null,{"$f":"(Calculator!$AR$13*A53*'Dose per unit release'!$X53*'Dose per unit release'!$Y53/'Assessment Details'!$C$25)/$AV$11","v":0},{"$f":"(Calculator!$AR$13*A53*'Dose per unit release'!$X53*'Dose per unit release'!$Z53/'Assessment Details'!$C$25)/$AV$11","v":0},null,null,{"$f":"(Calculator!$AR$15*A53*'Dose per unit release'!$AC53*'Dose per unit release'!$AD53*100/'Assessment Details'!$C$39)/$AV$11","v":0},{"$f":"(Calculator!$AR$15*A53*'Dose per unit release'!$AC53*'Dose per unit release'!$AE53*100/'Assessment Details'!$C$39)/$AV$11","v":0},{"$f":"(Calculator!$AR$15*A53*'Dose per unit release'!$AC53*'Dose per unit release'!$AF53*100/'Assessment Details'!$C$39)/$AV$11","v":0},null,null,{"$f":"Calculator!$AR$13*A53*'Dose per unit release'!$AI53*'Dose per unit release'!$AJ53/'Assessment Details'!$C$25","v":0},null,null,{"$f":"Calculator!$AR$15*A53*'Dose per unit release'!$AL53*'Dose per unit release'!$AM53*100/'Assessment Details'!$C$39","v":0}]
[null,null,{"$f":"(A54*'Dose per unit release'!$A54*60/'Assessment Details'!$C$32)/$AV$11","v":0},{"$f":"(A54*'Dose per unit release'!$B54*60/'Assessment Details'!$C$32)/$AV$11","v":0},{"$f":"(A54*'Dose per unit release'!$C54*60/'Assessment Details'!$C$32)/$AV$11","v":0},null,null,{"$f":"(A54*'Dose per unit release'!$F54*60/'Assessment Details'!$C$32)/$AV$11","v":0},{"$f":"(A54*'Dose per unit release'!$G54*60/'Assessment Details'!$C$32)/$AV$11","v":0},{"$f":"(A54*'Dose per unit release'!$H54*60/'Assessment Details'!$C$32)/$AV$11","v":0},{"$f":"(A54*'Dose per unit release'!$I54*60/'Assessment Details'!$C$32)/$AV$11","v":0},null,null,{"$f":"(Calculator!$AR$11*A54*'Dose per unit release'!$L54*0.1/'Assessment Details'!$C$20)/$AV$11","v":0},{"$f":"(Calculator!$AR$11*A54*'Dose per unit release'!$M54*0.1/'Assessment Details'!$C$20)/$AV$11","v":0},{"$f":"(Calculator!$AR$11*A54*'Dose per unit release'!$N54*0.1/'Assessment Details'!$C$20)/$AV$11","v":0},null,null,{"$f":"(Calculator!$AR$13*A54*'Dose per unit release'!$Q54*'Dose per unit release'!$R54/'Assessment Details'!$C$25)/$AV$11","v":0},{"$f":"(Calculator!$AR$13*A54*'Dose per unit release'!$Q54*'Dose per unit release'!$S54/'Assessment Details'!$C$25)/$AV$11","v":0},{"$f":"(Calculator!$AR$13*A54*'Dose per unit release'!$Q54*'Dose per unit release'!$T54/'Assessment Details'!$C$25)/$AV$11","v":0},{"$f":"(Calculator!$AR$13*A54*'Dose per unit release'!$Q54*'Dose per unit release'!$U54/'Assessment Details'!$C$25)/$AV$11","v":0},null,null,{"$f":"(Calculator!$AR$13*A54*'Dose per unit release'!$X54*'Dose per unit release'!$Y54/'Assessment Details'!$C$25)/$AV$11","v":0},{"$f":"(Calculator!$AR$13*A54*'Dose per unit release'!$X54*'Dose per unit release'!$Z54/'Assessment Details'!$C$25)/$AV$11","v":0},null,null,{"$f":"(Calculator!$AR$15*A54*'Dose per unit release'!$AC54*'Dose per unit release'!$AD54*100/'Assessment Details'!$C$39)/$AV$11","v":0},{"$f":"(Calculator!$AR$15*A54*'Dose per unit release'!$AC54*'Dose per unit release'!$AE54*100/'Assessment Details'!$C$39)/$AV$11","v":0},{"$f":"(Calculator!$AR$15*A54*'Dose per unit release'!$AC54*'Dose per unit release'!$AF54*100/'Assessment Details'!$C$39)/$AV$11","v":0},null,null,{"$f":"Calculator!$AR$13*A54*'Dose per unit release'!$AI54*'Dose per unit release'!$AJ54/'Assessment Details'!$C$25","v":0},null,null,{"$f":"Calculator!$AR$15*A54*'Dose per unit release'!$AL54*'Dose per unit release'!$AM54*100/'Assessment Details'!$C$39","v":0}]
[null,null,{"$f":"(A55*'Dose per unit release'!$A55*60/'Assessment Details'!$C$32)/$AV$11","v":0},{"$f":"(A55*'Dose per unit release'!$B55*60/'Assessment Details'!$C$32)/$AV$11","v":0},{"$f":"(A55*'Dose per unit release'!$C55*60/'Assessment Details'!$C$32)/$AV$11","v":0},null,null,{"$f":"(A55*'Dose per unit release'!$F55*60/'Assessment Details'!$C$32)/$AV$11","v":0},{"$f":"(A55*'Dose per unit release'!$G55*60/'Assessment Details'!$C$32)/$AV$11","v":0},{"$f":"(A55*'Dose per unit release'!$H55*60/'Assessment Details'!$C$32)/$AV$11","v":0},{"$f":"(A55*'Dose per unit release'!$I55*60/'Assessment Details'!$C$32)/$AV$11","v":0},null,null,{"$f":"(Calculator!$AR$11*A55*'Dose per unit release'!$L55*0.1/'Assessment Details'!$C$20)/$AV$11","v":0},{"$f":"(Calculator!$AR$11*A55*'Dose per unit release'!$M55*0.1/'Assessment Details'!$C$20)/$AV$11","v":0},{"$f":"(Calculator!$AR$11*A55*'Dose per unit release'!$N55*0.1/'Assessment Details'!$C$20)/$AV$11","v":0},null,null,{"$f":"(Calculator!$AR$13*A55*'Dose per unit release'!$Q55*'Dose per unit release'!$R55/'Assessment Details'!$C$25)/$AV$11","v":0},{"$f":"(Calculator!$AR$13*A55*'Dose per unit release'!$Q55*'Dose per unit release'!$S55/'Assessment Details'!$C$25)/$AV$11","v":0},{"$f":"(Calculator!$AR$13*A55*'Dose per unit release'!$Q55*'Dose per unit release'!$T55/'Assessment Details'!$C$25)/$AV$11","v":0},{"$f":"(Calculator!$AR$13*A55*'Dose per unit release'!$Q55*'Dose per unit release'!$U55/'Assessment Details'!$C$25)/$AV$11","v":0},null,null,{"$f":"(Calculator!$AR$13*A55*'Dose per unit release'!$X55*'Dose per unit release'!$Y55/'Assessment Details'!$C$25)/$AV$11","v":0},{"$f":"(Calculator!$AR$13*A55*'Dose per unit release'!$X55*'Dose per unit release'!$Z55/'Assessment Details'!$C$25)/$AV$11","v":0},null,null,{"$f":"(Calculator!$AR$15*A55*'Dose per unit release'!$AC55*'Dose per unit release'!$AD55*100/'Assessment Details'!$C$39)/$AV$11","v":0},{"$f":"(Calculator!$AR$15*A55*'Dose per unit release'!$AC55*'Dose per unit release'!$AE55*100/'Assessment Details'!$C$39)/$AV$11","v":0},{"$f":"(Calculator!$AR$15*A55*'Dose per unit release'!$AC55*'Dose per unit release'!$AF55*100/'Assessment Details'!$C$39)/$AV$11","v":0},null,null,{"$f":"Calculator!$AR$13*A55*'Dose per unit release'!$AI55*'Dose per unit release'!$AJ55/'Assessment Details'!$C$25","v":0},null,null,{"$f":"Calculator!$AR$15*A55*'Dose per unit release'!$AL55*'Dose per unit release'!$AM55*100/'Assessment Details'!$C$39","v":0}]
[null,null,{"$f":"(A56*'Dose per unit release'!$A56*60/'Assessment Details'!$C$32)/$AV$11","v":0},{"$f":"(A56*'Dose per unit release'!$B56*60/'Assessment Details'!$C$32)/$AV$11","v":0},{"$f":"(A56*'Dose per unit release'!$C56*60/'Assessment Details'!$C$32)/$AV$11","v":0},null,null,{"$f":"(A56*'Dose per unit release'!$F56*60/'Assessment Details'!$C$32)/$AV$11","v":0},{"$f":"(A56*'Dose per unit release'!$G56*60/'Assessment Details'!$C$32)/$AV$11","v":0},{"$f":"(A56*'Dose per unit release'!$H56*60/'Assessment Details'!$C$32)/$AV$11","v":0},{"$f":"(A56*'Dose per unit release'!$I56*60/'Assessment Details'!$C$32)/$AV$11","v":0},null,null,{"$f":"(Calculator!$AR$11*A56*'Dose per unit release'!$L56*0.1/'Assessment Details'!$C$20)/$AV$11","v":0},{"$f":"(Calculator!$AR$11*A56*'Dose per unit release'!$M56*0.1/'Assessment Details'!$C$20)/$AV$11","v":0},{"$f":"(Calculator!$AR$11*A56*'Dose per unit release'!$N56*0.1/'Assessment Details'!$C$20)/$AV$11","v":0},null,null,{"$f":"(Calculator!$AR$13*A56*'Dose per unit release'!$Q56*'Dose per unit release'!$R56/'Assessment Details'!$C$25)/$AV$11","v":0},{"$f":"(Calculator!$AR$13*A56*'Dose per unit release'!$Q56*'Dose per unit release'!$S56/'Assessment Details'!$C$25)/$AV$11","v":0},{"$f":"(Calculator!$AR$13*A56*'Dose per unit release'!$Q56*'Dose per unit release'!$T56/'Assessment Details'!$C$25)/$AV$11","v":0},{"$f":"(Calculator!$AR$13*A56*'Dose per unit release'!$Q56*'Dose per unit release'!$U56/'Assessment Details'!$C$25)/$AV$11","v":0},null,null,{"$f":"(Calculator!$AR$13*A56*'Dose per unit release'!$X56*'Dose per unit release'!$Y56/'Assessment Details'!$C$25)/$AV$11","v":0},{"$f":"(Calculator!$AR$13*A56*'Dose per unit release'!$X56*'Dose per unit release'!$Z56/'Assessment Details'!$C$25)/$AV$11","v":0},null,null,{"$f":"(Calculator!$AR$15*A56*'Dose per unit release'!$AC56*'Dose per unit release'!$AD56*100/'Assessment Details'!$C$39)/$AV$11","v":0},{"$f":"(Calculator!$AR$15*A56*'Dose per unit release'!$AC56*'Dose per unit release'!$AE56*100/'Assessment Details'!$C$39)/$AV$11","v":0},{"$f":"(Calculator!$AR$15*A56*'Dose per unit release'!$AC56*'Dose per unit release'!$AF56*100/'Assessment Details'!$C$39)/$AV$11","v":0},null,null,{"$f":"Calculator!$AR$13*A56*'Dose per unit release'!$AI56*'Dose per unit release'!$AJ56/'Assessment Details'!$C$25","v":0},null,null,{"$f":"Calculator!$AR$15*A56*'Dose per unit release'!$AL56*'Dose per unit release'!$AM56*100/'Assessment Details'!$C$39","v":0}]
[null,null,{"$f":"(A57*'Dose per unit release'!$A57*60/'Assessment Details'!$C$32)/$AV$11","v":0},{"$f":"(A57*'Dose per unit release'!$B57*60/'Assessment Details'!$C$32)/$AV$11","v":0},{"$f":"(A57*'Dose per unit release'!$C57*60/'Assessment Details'!$C$32)/$AV$11","v":0},null,null,{"$f":"(A57*'Dose per unit release'!$F57*60/'Assessment Details'!$C$32)/$AV$11","v":0},{"$f":"(A57*'Dose per unit release'!$G57*60/'Assessment Details'!$C$32)/$AV$11","v":0},{"$f":"(A57*'Dose per unit release'!$H57*60/'Assessment Details'!$C$32)/$AV$11","v":0},{"$f":"(A57*'Dose per unit release'!$I57*60/'Assessment Details'!$C$32)/$AV$11","v":0},null,null,{"$f":"(Calculator!$AR$11*A57*'Dose per unit release'!$L57*0.1/'Assessment Details'!$C$20)/$AV$11","v":0},{"$f":"(Calculator!$AR$11*A57*'Dose per unit release'!$M57*0.1/'Assessment Details'!$C$20)/$AV$11","v":0},{"$f":"(Calculator!$AR$11*A57*'Dose per unit release'!$N57*0.1/'Assessment Details'!$C$20)/$AV$11","v":0},null,null,{"$f":"(Calculator!$AR$13*A57*'Dose per unit release'!$Q57*'Dose per unit release'!$R57/'Assessment Details'!$C$25)/$AV$11","v":0},{"$f":"(Calculator!$AR$13*A57*'Dose per unit release'!$Q57*'Dose per unit release'!$S57/'Assessment Details'!$C$25)/$AV$11","v":0},{"$f":"(Calculator!$AR$13*A57*'Dose per unit release'!$Q57*'Dose per unit release'!$T57/'Assessment Details'!$C$25)/$AV$11","v":0},{"$f":"(Calculator!$AR$13*A57*'Dose per unit release'!$Q57*'Dose per unit release'!$U57/'Assessment Details'!$C$25)/$AV$11","v":0},null,null,{"$f":"(Calculator!$AR$13*A57*'Dose per unit release'!$X57*'Dose per unit release'!$Y57/'Assessment Details'!$C$25)/$AV$11","v":0},{"$f":"(Calculator!$AR$13*A57*'Dose per unit release'!$X57*'Dose per unit release'!$Z57/'Assessment Details'!$C$25)/$AV$11","v":0},null,null,{"$f":"(Calculator!$AR$15*A57*'Dose per unit release'!$AC57*'Dose per unit release'!$AD57*100/'Assessment Details'!$C$39)/$AV$11","v":0},{"$f":"(Calculator!$AR$15*A57*'Dose per unit release'!$AC57*'Dose per unit release'!$AE57*100/'Assessment Details'!$C$39)/$AV$11","v":0},{"$f":"(Calculator!$AR$15*A57*'Dose per unit release'!$AC57*'Dose per unit release'!$AF57*100/'Assessment Details'!$C$39)/$AV$11","v":0},null,null,{"$f":"Calculator!$AR$13*A57*'Dose per unit release'!$AI57*'Dose per unit release'!$AJ57/'Assessment Details'!$C$25","v":0},null,null,{"$f":"Calculator!$AR$15*A57*'Dose per unit release'!$AL57*'Dose per unit release'!$AM57*100/'Assessment Details'!$C$39","v":0}]
[null,null,{"$f":"(A58*'Dose per unit release'!$A58*60/'Assessment Details'!$C$32)/$AV$11","v":0},{"$f":"(A58*'Dose per unit release'!$B58*60/'Assessment Details'!$C$32)/$AV$11","v":0},{"$f":"(A58*'Dose per unit release'!$C58*60/'Assessment Details'!$C$32)/$AV$11","v":0},null,null,{"$f":"(A58*'Dose per unit release'!$F58*60/'Assessment Details'!$C$32)/$AV$11","v":0},{"$f":"(A58*'Dose per unit release'!$G58*60/'Assessment Details'!$C$32)/$AV$11","v":0},{"$f":"(A58*'Dose per unit release'!$H58*60/'Assessment Details'!$C$32)/$AV$11","v":0},{"$f":"(A58*'Dose per unit release'!$I58*60/'Assessment Details'!$C$32)/$AV$11","v":0},null,null,{"$f":"(Calculator!$AR$11*A58*'Dose per unit release'!$L58*0.1/'Assessment Details'!$C$20)/$AV$11","v":0},{"$f":"(Calculator!$AR$11*A58*'Dose per unit release'!$M58*0.1/'Assessment Details'!$C$20)/$AV$11","v":0},{"$f":"(Calculator!$AR$11*A58*'Dose per unit release'!$N58*0.1/'Assessment Details'!$C$20)/$AV$11","v":0},null,null,{"$f":"(Calculator!$AR$13*A58*'Dose per unit release'!$Q58*'Dose per unit release'!$R58/'Assessment Details'!$C$25)/$AV$11","v":0},{"$f":"(Calculator!$AR$13*A58*'Dose per unit release'!$Q58*'Dose per unit release'!$S58/'Assessment Details'!$C$25)/$AV$11","v":0},{"$f":"(Calculator!$AR$13*A58*'Dose per unit release'!$Q58*'Dose per unit release'!$T58/'Assessment Details'!$C$25)/$AV$11","v":0},{"$f":"(Calculator!$AR$13*A58*'Dose per unit release'!$Q58*'Dose per unit release'!$U58/'Assessment Details'!$C$25)/$AV$11","v":0},null,null,{"$f":"(Calculator!$AR$13*A58*'Dose per unit release'!$X58*'Dose per unit release'!$Y58/'Assessment Details'!$C$25)/$AV$11","v":0},{"$f":"(Calculator!$AR$13*A58*'Dose per unit release'!$X58*'Dose per unit release'!$Z58/'Assessment Details'!$C$25)/$AV$11","v":0},null,null,{"$f":"(Calculator!$AR$15*A58*'Dose per unit release'!$AC58*'Dose per unit release'!$AD58*100/'Assessment Details'!$C$39)/$AV$11","v":0},{"$f":"(Calculator!$AR$15*A58*'Dose per unit release'!$AC58*'Dose per unit release'!$AE58*100/'Assessment Details'!$C$39)/$AV$11","v":0},{"$f":"(Calculator!$AR$15*A58*'Dose per unit release'!$AC58*'Dose per unit release'!$AF58*100/'Assessment Details'!$C$39)/$AV$11","v":0},null,null,{"$f":"Calculator!$AR$13*A58*'Dose per unit release'!$AI58*'Dose per unit release'!$AJ58/'Assessment Details'!$C$25","v":0},null,null,{"$f":"Calculator!$AR$15*A58*'Dose per unit release'!$AL58*'Dose per unit release'!$AM58*100/'Assessment Details'!$C$39","v":0}]
[null,null,{"$f":"(A59*'Dose per unit release'!$A59*60/'Assessment Details'!$C$32)/$AV$11","v":0},{"$f":"(A59*'Dose per unit release'!$B59*60/'Assessment Details'!$C$32)/$AV$11","v":0},{"$f":"(A59*'Dose per unit release'!$C59*60/'Assessment Details'!$C$32)/$AV$11","v":0},null,null,{"$f":"(A59*'Dose per unit release'!$F59*60/'Assessment Details'!$C$32)/$AV$11","v":0},{"$f":"(A59*'Dose per unit release'!$G59*60/'Assessment Details'!$C$32)/$AV$11","v":0},{"$f":"(A59*'Dose per unit release'!$H59*60/'Assessment Details'!$C$32)/$AV$11","v":0},{"$f":"(A59*'Dose per unit release'!$I59*60/'Assessment Details'!$C$32)/$AV$11","v":0},null,null,{"$f":"(Calculator!$AR$11*A59*'Dose per unit release'!$L59*0.1/'Assessment Details'!$C$20)/$AV$11","v":0},{"$f":"(Calculator!$AR$11*A59*'Dose per unit release'!$M59*0.1/'Assessment Details'!$C$20)/$AV$11","v":0},{"$f":"(Calculator!$AR$11*A59*'Dose per unit release'!$N59*0.1/'Assessment Details'!$C$20)/$AV$11","v":0},null,null,{"$f":"(Calculator!$AR$13*A59*'Dose per unit release'!$Q59*'Dose per unit release'!$R59/'Assessment Details'!$C$25)/$AV$11","v":0},{"$f":"(Calculator!$AR$13*A59*'Dose per unit release'!$Q59*'Dose per unit release'!$S59/'Assessment Details'!$C$25)/$AV$11","v":0},{"$f":"(Calculator!$AR$13*A59*'Dose per unit release'!$Q59*'Dose per unit release'!$T59/'Assessment Details'!$C$25)/$AV$11","v":0},{"$f":"(Calculator!$AR$13*A59*'Dose per unit release'!$Q59*'Dose per unit release'!$U59/'Assessment Details'!$C$25)/$AV$11","v":0},null,null,{"$f":"(Calculator!$AR$13*A59*'Dose per unit release'!$X59*'Dose per unit release'!$Y59/'Assessment Details'!$C$25)/$AV$11","v":0},{"$f":"(Calculator!$AR$13*A59*'Dose per unit release'!$X59*'Dose per unit release'!$Z59/'Assessment Details'!$C$25)/$AV$11","v":0},null,null,{"$f":"(Calculator!$AR$15*A59*'Dose per unit release'!$AC59*'Dose per unit release'!$AD59*100/'Assessment Details'!$C$39)/$AV$11","v":0},{"$f":"(Calculator!$AR$15*A59*'Dose per unit release'!$AC59*'Dose per unit release'!$AE59*100/'Assessment Details'!$C$39)/$AV$11","v":0},{"$f":"(Calculator!$AR$15*A59*'Dose per unit release'!$AC59*'Dose per unit release'!$AF59*100/'Assessment Details'!$C$39)/$AV$11","v":0},null,null,{"$f":"Calculator!$AR$13*A59*'Dose per unit release'!$AI59*'Dose per unit release'!$AJ59/'Assessment Details'!$C$25","v":0},null,null,{"$f":"Calculator!$AR$15*A59*'Dose per unit release'!$AL59*'Dose per unit release'!$AM59*100/'Assessment Details'!$C$39","v":0}]
[null,null,{"$f":"(A60*'Dose per unit release'!$A60*60/'Assessment Details'!$C$32)/$AV$11","v":0},{"$f":"(A60*'Dose per unit release'!$B60*60/'Assessment Details'!$C$32)/$AV$11","v":0},{"$f":"(A60*'Dose per unit release'!$C60*60/'Assessment Details'!$C$32)/$AV$11","v":0},null,null,{"$f":"(A60*'Dose per unit release'!$F60*60/'Assessment Details'!$C$32)/$AV$11","v":0},{"$f":"(A60*'Dose per unit release'!$G60*60/'Assessment Details'!$C$32)/$AV$11","v":0},{"$f":"(A60*'Dose per unit release'!$H60*60/'Assessment Details'!$C$32)/$AV$11","v":0},{"$f":"(A60*'Dose per unit release'!$I60*60/'Assessment Details'!$C$32)/$AV$11","v":0},null,null,{"$f":"(Calculator!$AR$11*A60*'Dose per unit release'!$L60*0.1/'Assessment Details'!$C$20)/$AV$11","v":0},{"$f":"(Calculator!$AR$11*A60*'Dose per unit release'!$M60*0.1/'Assessment Details'!$C$20)/$AV$11","v":0},{"$f":"(Calculator!$AR$11*A60*'Dose per unit release'!$N60*0.1/'Assessment Details'!$C$20)/$AV$11","v":0},null,null,{"$f":"(Calculator!$AR$13*A60*'Dose per unit release'!$Q60*'Dose per unit release'!$R60/'Assessment Details'!$C$25)/$AV$11","v":0},{"$f":"(Calculator!$AR$13*A60*'Dose per unit release'!$Q60*'Dose per unit release'!$S60/'Assessment Details'!$C$25)/$AV$11","v":0},{"$f":"(Calculator!$AR$13*A60*'Dose per unit release'!$Q60*'Dose per unit release'!$T60/'Assessment Details'!$C$25)/$AV$11","v":0},{"$f":"(Calculator!$AR$13*A60*'Dose per unit release'!$Q60*'Dose per unit release'!$U60/'Assessment Details'!$C$25)/$AV$11","v":0},null,null,{"$f":"(Calculator!$AR$13*A60*'Dose per unit release'!$X60*'Dose per unit release'!$Y60/'Assessment Details'!$C$25)/$AV$11","v":0},{"$f":"(Calculator!$AR$13*A60*'Dose per unit release'!$X60*'Dose per unit release'!$Z60/'Assessment Details'!$C$25)/$AV$11","v":0},null,null,{"$f":"(Calculator!$AR$15*A60*'Dose per unit release'!$AC60*'Dose per unit release'!$AD60*100/'Assessment Details'!$C$39)/$AV$11","v":0},{"$f":"(Calculator!$AR$15*A60*'Dose per unit release'!$AC60*'Dose per unit release'!$AE60*100/'Assessment Details'!$C$39)/$AV$11","v":0},{"$f":"(Calculator!$AR$15*A60*'Dose per unit release'!$AC60*'Dose per unit release'!$AF60*100/'Assessment Details'!$C$39)/$AV$11","v":0},null,null,{"$f":"Calculator!$AR$13*A60*'Dose per unit release'!$AI60*'Dose per unit release'!$AJ60/'Assessment Details'!$C$25","v":0},null,null,{"$f":"Calculator!$AR$15*A60*'Dose per unit release'!$AL60*'Dose per unit release'!$AM60*100/'Assessment Details'!$C$39","v":0}]
[null,null,{"$f":"(A61*'Dose per unit release'!$A61*60/'Assessment Details'!$C$32)/$AV$11","v":0},{"$f":"(A61*'Dose per unit release'!$B61*60/'Assessment Details'!$C$32)/$AV$11","v":0},{"$f":"(A61*'Dose per unit release'!$C61*60/'Assessment Details'!$C$32)/$AV$11","v":0},null,null,{"$f":"(A61*'Dose per unit release'!$F61*60/'Assessment Details'!$C$32)/$AV$11","v":0},{"$f":"(A61*'Dose per unit release'!$G61*60/'Assessment Details'!$C$32)/$AV$11","v":0},{"$f":"(A61*'Dose per unit release'!$H61*60/'Assessment Details'!$C$32)/$AV$11","v":0},{"$f":"(A61*'Dose per unit release'!$I61*60/'Assessment Details'!$C$32)/$AV$11","v":0},null,null,{"$f":"(Calculator!$AR$11*A61*'Dose per unit release'!$L61*0.1/'Assessment Details'!$C$20)/$AV$11","v":0},{"$f":"(Calculator!$AR$11*A61*'Dose per unit release'!$M61*0.1/'Assessment Details'!$C$20)/$AV$11","v":0},{"$f":"(Calculator!$AR$11*A61*'Dose per unit release'!$N61*0.1/'Assessment Details'!$C$20)/$AV$11","v":0},null,null,{"$f":"(Calculator!$AR$13*A61*'Dose per unit release'!$Q61*'Dose per unit release'!$R61/'Assessment Details'!$C$25)/$AV$11","v":0},{"$f":"(Calculator!$AR$13*A61*'Dose per unit release'!$Q61*'Dose per unit release'!$S61/'Assessment Details'!$C$25)/$AV$11","v":0},{"$f":"(Calculator!$AR$13*A61*'Dose per unit release'!$Q61*'Dose per unit release'!$T61/'Assessment Details'!$C$25)/$AV$11","v":0},{"$f":"(Calculator!$AR$13*A61*'Dose per unit release'!$Q61*'Dose per unit release'!$U61/'Assessment Details'!$C$25)/$AV$11","v":0},null,null,{"$f":"(Calculator!$AR$13*A61*'Dose per unit release'!$X61*'Dose per unit release'!$Y61/'Assessment Details'!$C$25)/$AV$11","v":0},{"$f":"(Calculator!$AR$13*A61*'Dose per unit release'!$X61*'Dose per unit release'!$Z61/'Assessment Details'!$C$25)/$AV$11","v":0},null,null,{"$f":"(Calculator!$AR$15*A61*'Dose per unit release'!$AC61*'Dose per unit release'!$AD61*100/'Assessment Details'!$C$39)/$AV$11","v":0},{"$f":"(Calculator!$AR$15*A61*'Dose per unit release'!$AC61*'Dose per unit release'!$AE61*100/'Assessment Details'!$C$39)/$AV$11","v":0},{"$f":"(Calculator!$AR$15*A61*'Dose per unit release'!$AC61*'Dose per unit release'!$AF61*100/'Assessment Details'!$C$39)/$AV$11","v":0},null,null,{"$f":"Calculator!$AR$13*A61*'Dose per unit release'!$AI61*'Dose per unit release'!$AJ61/'Assessment Details'!$C$25","v":0},null,null,{"$f":"Calculator!$AR$15*A61*'Dose per unit release'!$AL61*'Dose per unit release'!$AM61*100/'Assessment Details'!$C$39","v":0}]
[null,null,{"$f":"(A62*'Dose per unit release'!$A62*60/'Assessment Details'!$C$32)/$AV$11","v":0},{"$f":"(A62*'Dose per unit release'!$B62*60/'Assessment Details'!$C$32)/$AV$11","v":0},{"$f":"(A62*'Dose per unit release'!$C62*60/'Assessment Details'!$C$32)/$AV$11","v":0},null,null,{"$f":"(A62*'Dose per unit release'!$F62*60/'Assessment Details'!$C$32)/$AV$11","v":0},{"$f":"(A62*'Dose per unit release'!$G62*60/'Assessment Details'!$C$32)/$AV$11","v":0},{"$f":"(A62*'Dose per unit release'!$H62*60/'Assessment Details'!$C$32)/$AV$11","v":0},{"$f":"(A62*'Dose per unit release'!$I62*60/'Assessment Details'!$C$32)/$AV$11","v":0},null,null,{"$f":"(Calculator!$AR$11*A62*'Dose per unit release'!$L62*0.1/'Assessment Details'!$C$20)/$AV$11","v":0},{"$f":"(Calculator!$AR$11*A62*'Dose per unit release'!$M62*0.1/'Assessment Details'!$C$20)/$AV$11","v":0},{"$f":"(Calculator!$AR$11*A62*'Dose per unit release'!$N62*0.1/'Assessment Details'!$C$20)/$AV$11","v":0},null,null,{"$f":"(Calculator!$AR$13*A62*'Dose per unit release'!$Q62*'Dose per unit release'!$R62/'Assessment Details'!$C$25)/$AV$11","v":0},{"$f":"(Calculator!$AR$13*A62*'Dose per unit release'!$Q62*'Dose per unit release'!$S62/'Assessment Details'!$C$25)/$AV$11","v":0},{"$f":"(Calculator!$AR$13*A62*'Dose per unit release'!$Q62*'Dose per unit release'!$T62/'Assessment Details'!$C$25)/$AV$11","v":0},{"$f":"(Calculator!$AR$13*A62*'Dose per unit release'!$Q62*'Dose per unit release'!$U62/'Assessment Details'!$C$25)/$AV$11","v":0},null,null,{"$f":"(Calculator!$AR$13*A62*'Dose per unit release'!$X62*'Dose per unit release'!$Y62/'Assessment Details'!$C$25)/$AV$11","v":0},{"$f":"(Calculator!$AR$13*A62*'Dose per unit release'!$X62*'Dose per unit release'!$Z62/'Assessment Details'!$C$25)/$AV$11","v":0},null,null,{"$f":"(Calculator!$AR$15*A62*'Dose per unit release'!$AC62*'Dose per unit release'!$AD62*100/'Assessment Details'!$C$39)/$AV$11","v":0},{"$f":"(Calculator!$AR$15*A62*'Dose per unit release'!$AC62*'Dose per unit release'!$AE62*100/'Assessment Details'!$C$39)/$AV$11","v":0},{"$f":"(Calculator!$AR$15*A62*'Dose per unit release'!$AC62*'Dose per unit release'!$AF62*100/'Assessment Details'!$C$39)/$AV$11","v":0},null,null,{"$f":"Calculator!$AR$13*A62*'Dose per unit release'!$AI62*'Dose per unit release'!$AJ62/'Assessment Details'!$C$25","v":0},null,null,{"$f":"Calculator!$AR$15*A62*'Dose per unit release'!$AL62*'Dose per unit release'!$AM62*100/'Assessment Details'!$C$39","v":0}]
[null,null,{"$f":"(A63*'Dose per unit release'!$A63*60/'Assessment Details'!$C$32)/$AV$11","v":0},{"$f":"(A63*'Dose per unit release'!$B63*60/'Assessment Details'!$C$32)/$AV$11","v":0},{"$f":"(A63*'Dose per unit release'!$C63*60/'Assessment Details'!$C$32)/$AV$11","v":0},null,null,{"$f":"(A63*'Dose per unit release'!$F63*60/'Assessment Details'!$C$32)/$AV$11","v":0},{"$f":"(A63*'Dose per unit release'!$G63*60/'Assessment Details'!$C$32)/$AV$11","v":0},{"$f":"(A63*'Dose per unit release'!$H63*60/'Assessment Details'!$C$32)/$AV$11","v":0},{"$f":"(A63*'Dose per unit release'!$I63*60/'Assessment Details'!$C$32)/$AV$11","v":0},null,null,{"$f":"(Calculator!$AR$11*A63*'Dose per unit release'!$L63*0.1/'Assessment Details'!$C$20)/$AV$11","v":0},{"$f":"(Calculator!$AR$11*A63*'Dose per unit release'!$M63*0.1/'Assessment Details'!$C$20)/$AV$11","v":0},{"$f":"(Calculator!$AR$11*A63*'Dose per unit release'!$N63*0.1/'Assessment Details'!$C$20)/$AV$11","v":0},null,null,{"$f":"(Calculator!$AR$13*A63*'Dose per unit release'!$Q63*'Dose per unit release'!$R63/'Assessment Details'!$C$25)/$AV$11","v":0},{"$f":"(Calculator!$AR$13*A63*'Dose per unit release'!$Q63*'Dose per unit release'!$S63/'Assessment Details'!$C$25)/$AV$11","v":0},{"$f":"(Calculator!$AR$13*A63*'Dose per unit release'!$Q63*'Dose per unit release'!$T63/'Assessment Details'!$C$25)/$AV$11","v":0},{"$f":"(Calculator!$AR$13*A63*'Dose per unit release'!$Q63*'Dose per unit release'!$U63/'Assessment Details'!$C$25)/$AV$11","v":0},null,null,{"$f":"(Calculator!$AR$13*A63*'Dose per unit release'!$X63*'Dose per unit release'!$Y63/'Assessment Details'!$C$25)/$AV$11","v":0},{"$f":"(Calculator!$AR$13*A63*'Dose per unit release'!$X63*'Dose per unit release'!$Z63/'Assessment Details'!$C$25)/$AV$11","v":0},null,null,{"$f":"(Calculator!$AR$15*A63*'Dose per unit release'!$AC63*'Dose per unit release'!$AD63*100/'Assessment Details'!$C$39)/$AV$11","v":0},{"$f":"(Calculator!$AR$15*A63*'Dose per unit release'!$AC63*'Dose per unit release'!$AE63*100/'Assessment Details'!$C$39)/$AV$11","v":0},{"$f":"(Calculator!$AR$15*A63*'Dose per unit release'!$AC63*'Dose per unit release'!$AF63*100/'Assessment Details'!$C$39)/$AV$11","v":0},null,null,{"$f":"Calculator!$AR$13*A63*'Dose per unit release'!$AI63*'Dose per unit release'!$AJ63/'Assessment Details'!$C$25","v":0},null,null,{"$f":"Calculator!$AR$15*A63*'Dose per unit release'!$AL63*'Dose per unit release'!$AM63*100/'Assessment Details'!$C$39","v":0}]
[null,null,{"$f":"(A64*'Dose per unit release'!$A64*60/'Assessment Details'!$C$32)/$AV$11","v":0},{"$f":"(A64*'Dose per unit release'!$B64*60/'Assessment Details'!$C$32)/$AV$11","v":0},{"$f":"(A64*'Dose per unit release'!$C64*60/'Assessment Details'!$C$32)/$AV$11","v":0},null,null,{"$f":"(A64*'Dose per unit release'!$F64*60/'Assessment Details'!$C$32)/$AV$11","v":0},{"$f":"(A64*'Dose per unit release'!$G64*60/'Assessment Details'!$C$32)/$AV$11","v":0},{"$f":"(A64*'Dose per unit release'!$H64*60/'Assessment Details'!$C$32)/$AV$11","v":0},{"$f":"(A64*'Dose per unit release'!$I64*60/'Assessment Details'!$C$32)/$AV$11","v":0},null,null,{"$f":"(Calculator!$AR$11*A64*'Dose per unit release'!$L64*0.1/'Assessment Details'!$C$20)/$AV$11","v":0},{"$f":"(Calculator!$AR$11*A64*'Dose per unit release'!$M64*0.1/'Assessment Details'!$C$20)/$AV$11","v":0},{"$f":"(Calculator!$AR$11*A64*'Dose per unit release'!$N64*0.1/'Assessment Details'!$C$20)/$AV$11","v":0},null,null,{"$f":"(Calculator!$AR$13*A64*'Dose per unit release'!$Q64*'Dose per unit release'!$R64/'Assessment Details'!$C$25)/$AV$11","v":0},{"$f":"(Calculator!$AR$13*A64*'Dose per unit release'!$Q64*'Dose per unit release'!$S64/'Assessment Details'!$C$25)/$AV$11","v":0},{"$f":"(Calculator!$AR$13*A64*'Dose per unit release'!$Q64*'Dose per unit release'!$T64/'Assessment Details'!$C$25)/$AV$11","v":0},{"$f":"(Calculator!$AR$13*A64*'Dose per unit release'!$Q64*'Dose per unit release'!$U64/'Assessment Details'!$C$25)/$AV$11","v":0},null,null,{"$f":"(Calculator!$AR$13*A64*'Dose per unit release'!$X64*'Dose per unit release'!$Y64/'Assessment Details'!$C$25)/$AV$11","v":0},{"$f":"(Calculator!$AR$13*A64*'Dose per unit release'!$X64*'Dose per unit release'!$Z64/'Assessment Details'!$C$25)/$AV$11","v":0},null,null,{"$f":"(Calculator!$AR$15*A64*'Dose per unit release'!$AC64*'Dose per unit release'!$AD64*100/'Assessment Details'!$C$39)/$AV$11","v":0},{"$f":"(Calculator!$AR$15*A64*'Dose per unit release'!$AC64*'Dose per unit release'!$AE64*100/'Assessment Details'!$C$39)/$AV$11","v":0},{"$f":"(Calculator!$AR$15*A64*'Dose per unit release'!$AC64*'Dose per unit release'!$AF64*100/'Assessment Details'!$C$39)/$AV$11","v":0},null,null,{"$f":"Calculator!$AR$13*A64*'Dose per unit release'!$AI64*'Dose per unit release'!$AJ64/'Assessment Details'!$C$25","v":0},null,null,{"$f":"Calculator!$AR$15*A64*'Dose per unit release'!$AL64*'Dose per unit release'!$AM64*100/'Assessment Details'!$C$39","v":0}]
[null,null,{"$f":"(A65*'Dose per unit release'!$A65*60/'Assessment Details'!$C$32)/$AV$11","v":0},{"$f":"(A65*'Dose per unit release'!$B65*60/'Assessment Details'!$C$32)/$AV$11","v":0},{"$f":"(A65*'Dose per unit release'!$C65*60/'Assessment Details'!$C$32)/$AV$11","v":0},null,null,{"$f":"(A65*'Dose per unit release'!$F65*60/'Assessment Details'!$C$32)/$AV$11","v":0},{"$f":"(A65*'Dose per unit release'!$G65*60/'Assessment Details'!$C$32)/$AV$11","v":0},{"$f":"(A65*'Dose per unit release'!$H65*60/'Assessment Details'!$C$32)/$AV$11","v":0},{"$f":"(A65*'Dose per unit release'!$I65*60/'Assessment Details'!$C$32)/$AV$11","v":0},null,null,{"$f":"(Calculator!$AR$11*A65*'Dose per unit release'!$L65*0.1/'Assessment Details'!$C$20)/$AV$11","v":0},{"$f":"(Calculator!$AR$11*A65*'Dose per unit release'!$M65*0.1/'Assessment Details'!$C$20)/$AV$11","v":0},{"$f":"(Calculator!$AR$11*A65*'Dose per unit release'!$N65*0.1/'Assessment Details'!$C$20)/$AV$11","v":0},null,null,{"$f":"(Calculator!$AR$13*A65*'Dose per unit release'!$Q65*'Dose per unit release'!$R65/'Assessment Details'!$C$25)/$AV$11","v":0},{"$f":"(Calculator!$AR$13*A65*'Dose per unit release'!$Q65*'Dose per unit release'!$S65/'Assessment Details'!$C$25)/$AV$11","v":0},{"$f":"(Calculator!$AR$13*A65*'Dose per unit release'!$Q65*'Dose per unit release'!$T65/'Assessment Details'!$C$25)/$AV$11","v":0},{"$f":"(Calculator!$AR$13*A65*'Dose per unit release'!$Q65*'Dose per unit release'!$U65/'Assessment Details'!$C$25)/$AV$11","v":0},null,null,{"$f":"(Calculator!$AR$13*A65*'Dose per unit release'!$X65*'Dose per unit release'!$Y65/'Assessment Details'!$C$25)/$AV$11","v":0},{"$f":"(Calculator!$AR$13*A65*'Dose per unit release'!$X65*'Dose per unit release'!$Z65/'Assessment Details'!$C$25)/$AV$11","v":0},null,null,{"$f":"(Calculator!$AR$15*A65*'Dose per unit release'!$AC65*'Dose per unit release'!$AD65*100/'Assessment Details'!$C$39)/$AV$11","v":0},{"$f":"(Calculator!$AR$15*A65*'Dose per unit release'!$AC65*'Dose per unit release'!$AE65*100/'Assessment Details'!$C$39)/$AV$11","v":0},{"$f":"(Calculator!$AR$15*A65*'Dose per unit release'!$AC65*'Dose per unit release'!$AF65*100/'Assessment Details'!$C$39)/$AV$11","v":0},null,null,{"$f":"Calculator!$AR$13*A65*'Dose per unit release'!$AI65*'Dose per unit release'!$AJ65/'Assessment Details'!$C$25","v":0},null,null,{"$f":"Calculator!$AR$15*A65*'Dose per unit release'!$AL65*'Dose per unit release'!$AM65*100/'Assessment Details'!$C$39","v":0}]
[null,null,{"$f":"(A66*'Dose per unit release'!$A66*60/'Assessment Details'!$C$32)/$AV$11","v":0},{"$f":"(A66*'Dose per unit release'!$B66*60/'Assessment Details'!$C$32)/$AV$11","v":0},{"$f":"(A66*'Dose per unit release'!$C66*60/'Assessment Details'!$C$32)/$AV$11","v":0},null,null,{"$f":"(A66*'Dose per unit release'!$F66*60/'Assessment Details'!$C$32)/$AV$11","v":0},{"$f":"(A66*'Dose per unit release'!$G66*60/'Assessment Details'!$C$32)/$AV$11","v":0},{"$f":"(A66*'Dose per unit release'!$H66*60/'Assessment Details'!$C$32)/$AV$11","v":0},{"$f":"(A66*'Dose per unit release'!$I66*60/'Assessment Details'!$C$32)/$AV$11","v":0},null,null,{"$f":"(Calculator!$AR$11*A66*'Dose per unit release'!$L66*0.1/'Assessment Details'!$C$20)/$AV$11","v":0},{"$f":"(Calculator!$AR$11*A66*'Dose per unit release'!$M66*0.1/'Assessment Details'!$C$20)/$AV$11","v":0},{"$f":"(Calculator!$AR$11*A66*'Dose per unit release'!$N66*0.1/'Assessment Details'!$C$20)/$AV$11","v":0},null,null,{"$f":"(Calculator!$AR$13*A66*'Dose per unit release'!$Q66*'Dose per unit release'!$R66/'Assessment Details'!$C$25)/$AV$11","v":0},{"$f":"(Calculator!$AR$13*A66*'Dose per unit release'!$Q66*'Dose per unit release'!$S66/'Assessment Details'!$C$25)/$AV$11","v":0},{"$f":"(Calculator!$AR$13*A66*'Dose per unit release'!$Q66*'Dose per unit release'!$T66/'Assessment Details'!$C$25)/$AV$11","v":0},{"$f":"(Calculator!$AR$13*A66*'Dose per unit release'!$Q66*'Dose per unit release'!$U66/'Assessment Details'!$C$25)/$AV$11","v":0},null,null,{"$f":"(Calculator!$AR$13*A66*'Dose per unit release'!$X66*'Dose per unit release'!$Y66/'Assessment Details'!$C$25)/$AV$11","v":0},{"$f":"(Calculator!$AR$13*A66*'Dose per unit release'!$X66*'Dose per unit release'!$Z66/'Assessment Details'!$C$25)/$AV$11","v":0},null,null,{"$f":"(Calculator!$AR$15*A66*'Dose per unit release'!$AC66*'Dose per unit release'!$AD66*100/'Assessment Details'!$C$39)/$AV$11","v":0},{"$f":"(Calculator!$AR$15*A66*'Dose per unit release'!$AC66*'Dose per unit release'!$AE66*100/'Assessment Details'!$C$39)/$AV$11","v":0},{"$f":"(Calculator!$AR$15*A66*'Dose per unit release'!$AC66*'Dose per unit release'!$AF66*100/'Assessment Details'!$C$39)/$AV$11","v":0},null,null,{"$f":"Calculator!$AR$13*A66*'Dose per unit release'!$AI66*'Dose per unit release'!$AJ66/'Assessment Details'!$C$25","v":0},null,null,{"$f":"Calculator!$AR$15*A66*'Dose per unit release'!$AL66*'Dose per unit release'!$AM66*100/'Assessment Details'!$C$39","v":0}]
[null,null,{"$f":"(A67*'Dose per unit release'!$A67*60/'Assessment Details'!$C$32)/$AV$11","v":0},{"$f":"(A67*'Dose per unit release'!$B67*60/'Assessment Details'!$C$32)/$AV$11","v":0},{"$f":"(A67*'Dose per unit release'!$C67*60/'Assessment Details'!$C$32)/$AV$11","v":0},null,null,{"$f":"(A67*'Dose per unit release'!$F67*60/'Assessment Details'!$C$32)/$AV$11","v":0},{"$f":"(A67*'Dose per unit release'!$G67*60/'Assessment Details'!$C$32)/$AV$11","v":0},{"$f":"(A67*'Dose per unit release'!$H67*60/'Assessment Details'!$C$32)/$AV$11","v":0},{"$f":"(A67*'Dose per unit release'!$I67*60/'Assessment Details'!$C$32)/$AV$11","v":0},null,null,{"$f":"(Calculator!$AR$11*A67*'Dose per unit release'!$L67*0.1/'Assessment Details'!$C$20)/$AV$11","v":0},{"$f":"(Calculator!$AR$11*A67*'Dose per unit release'!$M67*0.1/'Assessment Details'!$C$20)/$AV$11","v":0},{"$f":"(Calculator!$AR$11*A67*'Dose per unit release'!$N67*0.1/'Assessment Details'!$C$20)/$AV$11","v":0},null,null,{"$f":"(Calculator!$AR$13*A67*'Dose per unit release'!$Q67*'Dose per unit release'!$R67/'Assessment Details'!$C$25)/$AV$11","v":0},{"$f":"(Calculator!$AR$13*A67*'Dose per unit release'!$Q67*'Dose per unit release'!$S67/'Assessment Details'!$C$25)/$AV$11","v":0},{"$f":"(Calculator!$AR$13*A67*'Dose per unit release'!$Q67*'Dose per unit release'!$T67/'Assessment Details'!$C$25)/$AV$11","v":0},{"$f":"(Calculator!$AR$13*A67*'Dose per unit release'!$Q67*'Dose per unit release'!$U67/'Assessment Details'!$C$25)/$AV$11","v":0},null,null,{"$f":"(Calculator!$AR$13*A67*'Dose per unit release'!$X67*'Dose per unit release'!$Y67/'Assessment Details'!$C$25)/$AV$11","v":0},{"$f":"(Calculator!$AR$13*A67*'Dose per unit release'!$X67*'Dose per unit release'!$Z67/'Assessment Details'!$C$25)/$AV$11","v":0},null,null,{"$f":"(Calculator!$AR$15*A67*'Dose per unit release'!$AC67*'Dose per unit release'!$AD67*100/'Assessment Details'!$C$39)/$AV$11","v":0},{"$f":"(Calculator!$AR$15*A67*'Dose per unit release'!$AC67*'Dose per unit release'!$AE67*100/'Assessment Details'!$C$39)/$AV$11","v":0},{"$f":"(Calculator!$AR$15*A67*'Dose per unit release'!$AC67*'Dose per unit release'!$AF67*100/'Assessment Details'!$C$39)/$AV$11","v":0},null,null,{"$f":"Calculator!$AR$13*A67*'Dose per unit release'!$AI67*'Dose per unit release'!$AJ67/'Assessment Details'!$C$25","v":0},null,null,{"$f":"Calculator!$AR$15*A67*'Dose per unit release'!$AL67*'Dose per unit release'!$AM67*100/'Assessment Details'!$C$39","v":0}]
[null,null,{"$f":"(A68*'Dose per unit release'!$A68*60/'Assessment Details'!$C$32)/$AV$11","v":0},{"$f":"(A68*'Dose per unit release'!$B68*60/'Assessment Details'!$C$32)/$AV$11","v":0},{"$f":"(A68*'Dose per unit release'!$C68*60/'Assessment Details'!$C$32)/$AV$11","v":0},null,null,{"$f":"(A68*'Dose per unit release'!$F68*60/'Assessment Details'!$C$32)/$AV$11","v":0},{"$f":"(A68*'Dose per unit release'!$G68*60/'Assessment Details'!$C$32)/$AV$11","v":0},{"$f":"(A68*'Dose per unit release'!$H68*60/'Assessment Details'!$C$32)/$AV$11","v":0},{"$f":"(A68*'Dose per unit release'!$I68*60/'Assessment Details'!$C$32)/$AV$11","v":0},null,null,{"$f":"(Calculator!$AR$11*A68*'Dose per unit release'!$L68*0.1/'Assessment Details'!$C$20)/$AV$11","v":0},{"$f":"(Calculator!$AR$11*A68*'Dose per unit release'!$M68*0.1/'Assessment Details'!$C$20)/$AV$11","v":0},{"$f":"(Calculator!$AR$11*A68*'Dose per unit release'!$N68*0.1/'Assessment Details'!$C$20)/$AV$11","v":0},null,null,{"$f":"(Calculator!$AR$13*A68*'Dose per unit release'!$Q68*'Dose per unit release'!$R68/'Assessment Details'!$C$25)/$AV$11","v":0},{"$f":"(Calculator!$AR$13*A68*'Dose per unit release'!$Q68*'Dose per unit release'!$S68/'Assessment Details'!$C$25)/$AV$11","v":0},{"$f":"(Calculator!$AR$13*A68*'Dose per unit release'!$Q68*'Dose per unit release'!$T68/'Assessment Details'!$C$25)/$AV$11","v":0},{"$f":"(Calculator!$AR$13*A68*'Dose per unit release'!$Q68*'Dose per unit release'!$U68/'Assessment Details'!$C$25)/$AV$11","v":0},null,null,{"$f":"(Calculator!$AR$13*A68*'Dose per unit release'!$X68*'Dose per unit release'!$Y68/'Assessment Details'!$C$25)/$AV$11","v":0},{"$f":"(Calculator!$AR$13*A68*'Dose per unit release'!$X68*'Dose per unit release'!$Z68/'Assessment Details'!$C$25)/$AV$11","v":0},null,null,{"$f":"(Calculator!$AR$15*A68*'Dose per unit release'!$AC68*'Dose per unit release'!$AD68*100/'Assessment Details'!$C$39)/$AV$11","v":0},{"$f":"(Calculator!$AR$15*A68*'Dose per unit release'!$AC68*'Dose per unit release'!$AE68*100/'Assessment Details'!$C$39)/$AV$11","v":0},{"$f":"(Calculator!$AR$15*A68*'Dose per unit release'!$AC68*'Dose per unit release'!$AF68*100/'Assessment Details'!$C$39)/$AV$11","v":0},null,null,{"$f":"Calculator!$AR$13*A68*'Dose per unit release'!$AI68*'Dose per unit release'!$AJ68/'Assessment Details'!$C$25","v":0},null,null,{"$f":"Calculator!$AR$15*A68*'Dose per unit release'!$AL68*'Dose per unit release'!$AM68*100/'Assessment Details'!$C$39","v":0}]
[null,null,{"$f":"(A69*'Dose per unit release'!$A69*60/'Assessment Details'!$C$32)/$AV$11","v":0},{"$f":"(A69*'Dose per unit release'!$B69*60/'Assessment Details'!$C$32)/$AV$11","v":0},{"$f":"(A69*'Dose per unit release'!$C69*60/'Assessment Details'!$C$32)/$AV$11","v":0},null,null,{"$f":"(A69*'Dose per unit release'!$F69*60/'Assessment Details'!$C$32)/$AV$11","v":0},{"$f":"(A69*'Dose per unit release'!$G69*60/'Assessment Details'!$C$32)/$AV$11","v":0},{"$f":"(A69*'Dose per unit release'!$H69*60/'Assessment Details'!$C$32)/$AV$11","v":0},{"$f":"(A69*'Dose per unit release'!$I69*60/'Assessment Details'!$C$32)/$AV$11","v":0},null,null,{"$f":"(Calculator!$AR$11*A69*'Dose per unit release'!$L69*0.1/'Assessment Details'!$C$20)/$AV$11","v":0},{"$f":"(Calculator!$AR$11*A69*'Dose per unit release'!$M69*0.1/'Assessment Details'!$C$20)/$AV$11","v":0},{"$f":"(Calculator!$AR$11*A69*'Dose per unit release'!$N69*0.1/'Assessment Details'!$C$20)/$AV$11","v":0},null,null,{"$f":"(Calculator!$AR$13*A69*'Dose per unit release'!$Q69*'Dose per unit release'!$R69/'Assessment Details'!$C$25)/$AV$11","v":0},{"$f":"(Calculator!$AR$13*A69*'Dose per unit release'!$Q69*'Dose per unit release'!$S69/'Assessment Details'!$C$25)/$AV$11","v":0},{"$f":"(Calculator!$AR$13*A69*'Dose per unit release'!$Q69*'Dose per unit release'!$T69/'Assessment Details'!$C$25)/$AV$11","v":0},{"$f":"(Calculator!$AR$13*A69*'Dose per unit release'!$Q69*'Dose per unit release'!$U69/'Assessment Details'!$C$25)/$AV$11","v":0},null,null,{"$f":"(Calculator!$AR$13*A69*'Dose per unit release'!$X69*'Dose per unit release'!$Y69/'Assessment Details'!$C$25)/$AV$11","v":0},{"$f":"(Calculator!$AR$13*A69*'Dose per unit release'!$X69*'Dose per unit release'!$Z69/'Assessment Details'!$C$25)/$AV$11","v":0},null,null,{"$f":"(Calculator!$AR$15*A69*'Dose per unit release'!$AC69*'Dose per unit release'!$AD69*100/'Assessment Details'!$C$39)/$AV$11","v":0},{"$f":"(Calculator!$AR$15*A69*'Dose per unit release'!$AC69*'Dose per unit release'!$AE69*100/'Assessment Details'!$C$39)/$AV$11","v":0},{"$f":"(Calculator!$AR$15*A69*'Dose per unit release'!$AC69*'Dose per unit release'!$AF69*100/'Assessment Details'!$C$39)/$AV$11","v":0},null,null,{"$f":"Calculator!$AR$13*A69*'Dose per unit release'!$AI69*'Dose per unit release'!$AJ69/'Assessment Details'!$C$25","v":0},null,null,{"$f":"Calculator!$AR$15*A69*'Dose per unit release'!$AL69*'Dose per unit release'!$AM69*100/'Assessment Details'!$C$39","v":0}]
[null,null,{"$f":"(A70*'Dose per unit release'!$A70*60/'Assessment Details'!$C$32)/$AV$11","v":0},{"$f":"(A70*'Dose per unit release'!$B70*60/'Assessment Details'!$C$32)/$AV$11","v":0},{"$f":"(A70*'Dose per unit release'!$C70*60/'Assessment Details'!$C$32)/$AV$11","v":0},null,null,{"$f":"(A70*'Dose per unit release'!$F70*60/'Assessment Details'!$C$32)/$AV$11","v":0},{"$f":"(A70*'Dose per unit release'!$G70*60/'Assessment Details'!$C$32)/$AV$11","v":0},{"$f":"(A70*'Dose per unit release'!$H70*60/'Assessment Details'!$C$32)/$AV$11","v":0},{"$f":"(A70*'Dose per unit release'!$I70*60/'Assessment Details'!$C$32)/$AV$11","v":0},null,null,{"$f":"(Calculator!$AR$11*A70*'Dose per unit release'!$L70*0.1/'Assessment Details'!$C$20)/$AV$11","v":0},{"$f":"(Calculator!$AR$11*A70*'Dose per unit release'!$M70*0.1/'Assessment Details'!$C$20)/$AV$11","v":0},{"$f":"(Calculator!$AR$11*A70*'Dose per unit release'!$N70*0.1/'Assessment Details'!$C$20)/$AV$11","v":0},null,null,{"$f":"(Calculator!$AR$13*A70*'Dose per unit release'!$Q70*'Dose per unit release'!$R70/'Assessment Details'!$C$25)/$AV$11","v":0},{"$f":"(Calculator!$AR$13*A70*'Dose per unit release'!$Q70*'Dose per unit release'!$S70/'Assessment Details'!$C$25)/$AV$11","v":0},{"$f":"(Calculator!$AR$13*A70*'Dose per unit release'!$Q70*'Dose per unit release'!$T70/'Assessment Details'!$C$25)/$AV$11","v":0},{"$f":"(Calculator!$AR$13*A70*'Dose per unit release'!$Q70*'Dose per unit release'!$U70/'Assessment Details'!$C$25)/$AV$11","v":0},null,null,{"$f":"(Calculator!$AR$13*A70*'Dose per unit release'!$X70*'Dose per unit release'!$Y70/'Assessment Details'!$C$25)/$AV$11","v":0},{"$f":"(Calculator!$AR$13*A70*'Dose per unit release'!$X70*'Dose per unit release'!$Z70/'Assessment Details'!$C$25)/$AV$11","v":0},null,null,{"$f":"(Calculator!$AR$15*A70*'Dose per unit release'!$AC70*'Dose per unit release'!$AD70*100/'Assessment Details'!$C$39)/$AV$11","v":0},{"$f":"(Calculator!$AR$15*A70*'Dose per unit release'!$AC70*'Dose per unit release'!$AE70*100/'Assessment Details'!$C$39)/$AV$11","v":0},{"$f":"(Calculator!$AR$15*A70*'Dose per unit release'!$AC70*'Dose per unit release'!$AF70*100/'Assessment Details'!$C$39)/$AV$11","v":0},null,null,{"$f":"Calculator!$AR$13*A70*'Dose per unit release'!$AI70*'Dose per unit release'!$AJ70/'Assessment Details'!$C$25","v":0},null,null,{"$f":"Calculator!$AR$15*A70*'Dose per unit release'!$AL70*'Dose per unit release'!$AM70*100/'Assessment Details'!$C$39","v":0}]
[null,null,{"$f":"(A71*'Dose per unit release'!$A71*60/'Assessment Details'!$C$32)/$AV$11","v":0},{"$f":"(A71*'Dose per unit release'!$B71*60/'Assessment Details'!$C$32)/$AV$11","v":0},{"$f":"(A71*'Dose per unit release'!$C71*60/'Assessment Details'!$C$32)/$AV$11","v":0},null,null,{"$f":"(A71*'Dose per unit release'!$F71*60/'Assessment Details'!$C$32)/$AV$11","v":0},{"$f":"(A71*'Dose per unit release'!$G71*60/'Assessment Details'!$C$32)/$AV$11","v":0},{"$f":"(A71*'Dose per unit release'!$H71*60/'Assessment Details'!$C$32)/$AV$11","v":0},{"$f":"(A71*'Dose per unit release'!$I71*60/'Assessment Details'!$C$32)/$AV$11","v":0},null,null,{"$f":"(Calculator!$AR$11*A71*'Dose per unit release'!$L71*0.1/'Assessment Details'!$C$20)/$AV$11","v":0},{"$f":"(Calculator!$AR$11*A71*'Dose per unit release'!$M71*0.1/'Assessment Details'!$C$20)/$AV$11","v":0},{"$f":"(Calculator!$AR$11*A71*'Dose per unit release'!$N71*0.1/'Assessment Details'!$C$20)/$AV$11","v":0},null,null,{"$f":"(Calculator!$AR$13*A71*'Dose per unit release'!$Q71*'Dose per unit release'!$R71/'Assessment Details'!$C$25)/$AV$11","v":0},{"$f":"(Calculator!$AR$13*A71*'Dose per unit release'!$Q71*'Dose per unit release'!$S71/'Assessment Details'!$C$25)/$AV$11","v":0},{"$f":"(Calculator!$AR$13*A71*'Dose per unit release'!$Q71*'Dose per unit release'!$T71/'Assessment Details'!$C$25)/$AV$11","v":0},{"$f":"(Calculator!$AR$13*A71*'Dose per unit release'!$Q71*'Dose per unit release'!$U71/'Assessment Details'!$C$25)/$AV$11","v":0},null,null,{"$f":"(Calculator!$AR$13*A71*'Dose per unit release'!$X71*'Dose per unit release'!$Y71/'Assessment Details'!$C$25)/$AV$11","v":0},{"$f":"(Calculator!$AR$13*A71*'Dose per unit release'!$X71*'Dose per unit release'!$Z71/'Assessment Details'!$C$25)/$AV$11","v":0},null,null,{"$f":"(Calculator!$AR$15*A71*'Dose per unit release'!$AC71*'Dose per unit release'!$AD71*100/'Assessment Details'!$C$39)/$AV$11","v":0},{"$f":"(Calculator!$AR$15*A71*'Dose per unit release'!$AC71*'Dose per unit release'!$AE71*100/'Assessment Details'!$C$39)/$AV$11","v":0},{"$f":"(Calculator!$AR$15*A71*'Dose per unit release'!$AC71*'Dose per unit release'!$AF71*100/'Assessment Details'!$C$39)/$AV$11","v":0},null,null,{"$f":"Calculator!$AR$13*A71*'Dose per unit release'!$AI71*'Dose per unit release'!$AJ71/'Assessment Details'!$C$25","v":0},null,null,{"$f":"Calculator!$AR$15*A71*'Dose per unit release'!$AL71*'Dose per unit release'!$AM71*100/'Assessment Details'!$C$39","v":0}]
[null,null,{"$f":"(A72*'Dose per unit release'!$A72*60/'Assessment Details'!$C$32)/$AV$11","v":0},{"$f":"(A72*'Dose per unit release'!$B72*60/'Assessment Details'!$C$32)/$AV$11","v":0},{"$f":"(A72*'Dose per unit release'!$C72*60/'Assessment Details'!$C$32)/$AV$11","v":0},null,null,{"$f":"(A72*'Dose per unit release'!$F72*60/'Assessment Details'!$C$32)/$AV$11","v":0},{"$f":"(A72*'Dose per unit release'!$G72*60/'Assessment Details'!$C$32)/$AV$11","v":0},{"$f":"(A72*'Dose per unit release'!$H72*60/'Assessment Details'!$C$32)/$AV$11","v":0},{"$f":"(A72*'Dose per unit release'!$I72*60/'Assessment Details'!$C$32)/$AV$11","v":0},null,null,{"$f":"(Calculator!$AR$11*A72*'Dose per unit release'!$L72*0.1/'Assessment Details'!$C$20)/$AV$11","v":0},{"$f":"(Calculator!$AR$11*A72*'Dose per unit release'!$M72*0.1/'Assessment Details'!$C$20)/$AV$11","v":0},{"$f":"(Calculator!$AR$11*A72*'Dose per unit release'!$N72*0.1/'Assessment Details'!$C$20)/$AV$11","v":0},null,null,{"$f":"(Calculator!$AR$13*A72*'Dose per unit release'!$Q72*'Dose per unit release'!$R72/'Assessment Details'!$C$25)/$AV$11","v":0},{"$f":"(Calculator!$AR$13*A72*'Dose per unit release'!$Q72*'Dose per unit release'!$S72/'Assessment Details'!$C$25)/$AV$11","v":0},{"$f":"(Calculator!$AR$13*A72*'Dose per unit release'!$Q72*'Dose per unit release'!$T72/'Assessment Details'!$C$25)/$AV$11","v":0},{"$f":"(Calculator!$AR$13*A72*'Dose per unit release'!$Q72*'Dose per unit release'!$U72/'Assessment Details'!$C$25)/$AV$11","v":0},null,null,{"$f":"(Calculator!$AR$13*A72*'Dose per unit release'!$X72*'Dose per unit release'!$Y72/'Assessment Details'!$C$25)/$AV$11","v":0},{"$f":"(Calculator!$AR$13*A72*'Dose per unit release'!$X72*'Dose per unit release'!$Z72/'Assessment Details'!$C$25)/$AV$11","v":0},null,null,{"$f":"(Calculator!$AR$15*A72*'Dose per unit release'!$AC72*'Dose per unit release'!$AD72*100/'Assessment Details'!$C$39)/$AV$11","v":0},{"$f":"(Calculator!$AR$15*A72*'Dose per unit release'!$AC72*'Dose per unit release'!$AE72*100/'Assessment Details'!$C$39)/$AV$11","v":0},{"$f":"(Calculator!$AR$15*A72*'Dose per unit release'!$AC72*'Dose per unit release'!$AF72*100/'Assessment Details'!$C$39)/$AV$11","v":0},null,null,{"$f":"Calculator!$AR$13*A72*'Dose per unit release'!$AI72*'Dose per unit release'!$AJ72/'Assessment Details'!$C$25","v":0},null,null,{"$f":"Calculator!$AR$15*A72*'Dose per unit release'!$AL72*'Dose per unit release'!$AM72*100/'Assessment Details'!$C$39","v":0}]
[null,null,{"$f":"(A73*'Dose per unit release'!$A73*60/'Assessment Details'!$C$32)/$AV$11","v":0},{"$f":"(A73*'Dose per unit release'!$B73*60/'Assessment Details'!$C$32)/$AV$11","v":0},{"$f":"(A73*'Dose per unit release'!$C73*60/'Assessment Details'!$C$32)/$AV$11","v":0},null,null,{"$f":"(A73*'Dose per unit release'!$F73*60/'Assessment Details'!$C$32)/$AV$11","v":0},{"$f":"(A73*'Dose per unit release'!$G73*60/'Assessment Details'!$C$32)/$AV$11","v":0},{"$f":"(A73*'Dose per unit release'!$H73*60/'Assessment Details'!$C$32)/$AV$11","v":0},{"$f":"(A73*'Dose per unit release'!$I73*60/'Assessment Details'!$C$32)/$AV$11","v":0},null,null,{"$f":"(Calculator!$AR$11*A73*'Dose per unit release'!$L73*0.1/'Assessment Details'!$C$20)/$AV$11","v":0},{"$f":"(Calculator!$AR$11*A73*'Dose per unit release'!$M73*0.1/'Assessment Details'!$C$20)/$AV$11","v":0},{"$f":"(Calculator!$AR$11*A73*'Dose per unit release'!$N73*0.1/'Assessment Details'!$C$20)/$AV$11","v":0},null,null,{"$f":"(Calculator!$AR$13*A73*'Dose per unit release'!$Q73*'Dose per unit release'!$R73/'Assessment Details'!$C$25)/$AV$11","v":0},{"$f":"(Calculator!$AR$13*A73*'Dose per unit release'!$Q73*'Dose per unit release'!$S73/'Assessment Details'!$C$25)/$AV$11","v":0},{"$f":"(Calculator!$AR$13*A73*'Dose per unit release'!$Q73*'Dose per unit release'!$T73/'Assessment Details'!$C$25)/$AV$11","v":0},{"$f":"(Calculator!$AR$13*A73*'Dose per unit release'!$Q73*'Dose per unit release'!$U73/'Assessment Details'!$C$25)/$AV$11","v":0},null,null,{"$f":"(Calculator!$AR$13*A73*'Dose per unit release'!$X73*'Dose per unit release'!$Y73/'Assessment Details'!$C$25)/$AV$11","v":0},{"$f":"(Calculator!$AR$13*A73*'Dose per unit release'!$X73*'Dose per unit release'!$Z73/'Assessment Details'!$C$25)/$AV$11","v":0},null,null,{"$f":"(Calculator!$AR$15*A73*'Dose per unit release'!$AC73*'Dose per unit release'!$AD73*100/'Assessment Details'!$C$39)/$AV$11","v":0},{"$f":"(Calculator!$AR$15*A73*'Dose per unit release'!$AC73*'Dose per unit release'!$AE73*100/'Assessment Details'!$C$39)/$AV$11","v":0},{"$f":"(Calculator!$AR$15*A73*'Dose per unit release'!$AC73*'Dose per unit release'!$AF73*100/'Assessment Details'!$C$39)/$AV$11","v":0},null,null,{"$f":"Calculator!$AR$13*A73*'Dose per unit release'!$AI73*'Dose per unit release'!$AJ73/'Assessment Details'!$C$25","v":0},null,null,{"$f":"Calculator!$AR$15*A73*'Dose per unit release'!$AL73*'Dose per unit release'!$AM73*100/'Assessment Details'!$C$39","v":0}]
[null,null,{"$f":"(A74*'Dose per unit release'!$A74*60/'Assessment Details'!$C$32)/$AV$11","v":0},{"$f":"(A74*'Dose per unit release'!$B74*60/'Assessment Details'!$C$32)/$AV$11","v":0},{"$f":"(A74*'Dose per unit release'!$C74*60/'Assessment Details'!$C$32)/$AV$11","v":0},null,null,{"$f":"(A74*'Dose per unit release'!$F74*60/'Assessment Details'!$C$32)/$AV$11","v":0},{"$f":"(A74*'Dose per unit release'!$G74*60/'Assessment Details'!$C$32)/$AV$11","v":0},{"$f":"(A74*'Dose per unit release'!$H74*60/'Assessment Details'!$C$32)/$AV$11","v":0},{"$f":"(A74*'Dose per unit release'!$I74*60/'Assessment Details'!$C$32)/$AV$11","v":0},null,null,{"$f":"(Calculator!$AR$11*A74*'Dose per unit release'!$L74*0.1/'Assessment Details'!$C$20)/$AV$11","v":0},{"$f":"(Calculator!$AR$11*A74*'Dose per unit release'!$M74*0.1/'Assessment Details'!$C$20)/$AV$11","v":0},{"$f":"(Calculator!$AR$11*A74*'Dose per unit release'!$N74*0.1/'Assessment Details'!$C$20)/$AV$11","v":0},null,null,{"$f":"(Calculator!$AR$13*A74*'Dose per unit release'!$Q74*'Dose per unit release'!$R74/'Assessment Details'!$C$25)/$AV$11","v":0},{"$f":"(Calculator!$AR$13*A74*'Dose per unit release'!$Q74*'Dose per unit release'!$S74/'Assessment Details'!$C$25)/$AV$11","v":0},{"$f":"(Calculator!$AR$13*A74*'Dose per unit release'!$Q74*'Dose per unit release'!$T74/'Assessment Details'!$C$25)/$AV$11","v":0},{"$f":"(Calculator!$AR$13*A74*'Dose per unit release'!$Q74*'Dose per unit release'!$U74/'Assessment Details'!$C$25)/$AV$11","v":0},null,null,{"$f":"(Calculator!$AR$13*A74*'Dose per unit release'!$X74*'Dose per unit release'!$Y74/'Assessment Details'!$C$25)/$AV$11","v":0},{"$f":"(Calculator!$AR$13*A74*'Dose per unit release'!$X74*'Dose per unit release'!$Z74/'Assessment Details'!$C$25)/$AV$11","v":0},null,null,{"$f":"(Calculator!$AR$15*A74*'Dose per unit release'!$AC74*'Dose per unit release'!$AD74*100/'Assessment Details'!$C$39)/$AV$11","v":0},{"$f":"(Calculator!$AR$15*A74*'Dose per unit release'!$AC74*'Dose per unit release'!$AE74*100/'Assessment Details'!$C$39)/$AV$11","v":0},{"$f":"(Calculator!$AR$15*A74*'Dose per unit release'!$AC74*'Dose per unit release'!$AF74*100/'Assessment Details'!$C$39)/$AV$11","v":0},null,null,{"$f":"Calculator!$AR$13*A74*'Dose per unit release'!$AI74*'Dose per unit release'!$AJ74/'Assessment Details'!$C$25","v":0},null,null,{"$f":"Calculator!$AR$15*A74*'Dose per unit release'!$AL74*'Dose per unit release'!$AM74*100/'Assessment Details'!$C$39","v":0}]
[null,null,{"$f":"(A75*'Dose per unit release'!$A75*60/'Assessment Details'!$C$32)/$AV$11","v":0},{"$f":"(A75*'Dose per unit release'!$B75*60/'Assessment Details'!$C$32)/$AV$11","v":0},{"$f":"(A75*'Dose per unit release'!$C75*60/'Assessment Details'!$C$32)/$AV$11","v":0},null,null,{"$f":"(A75*'Dose per unit release'!$F75*60/'Assessment Details'!$C$32)/$AV$11","v":0},{"$f":"(A75*'Dose per unit release'!$G75*60/'Assessment Details'!$C$32)/$AV$11","v":0},{"$f":"(A75*'Dose per unit release'!$H75*60/'Assessment Details'!$C$32)/$AV$11","v":0},{"$f":"(A75*'Dose per unit release'!$I75*60/'Assessment Details'!$C$32)/$AV$11","v":0},null,null,{"$f":"(Calculator!$AR$11*A75*'Dose per unit release'!$L75*0.1/'Assessment Details'!$C$20)/$AV$11","v":0},{"$f":"(Calculator!$AR$11*A75*'Dose per unit release'!$M75*0.1/'Assessment Details'!$C$20)/$AV$11","v":0},{"$f":"(Calculator!$AR$11*A75*'Dose per unit release'!$N75*0.1/'Assessment Details'!$C$20)/$AV$11","v":0},null,null,{"$f":"(Calculator!$AR$13*A75*'Dose per unit release'!$Q75*'Dose per unit release'!$R75/'Assessment Details'!$C$25)/$AV$11","v":0},{"$f":"(Calculator!$AR$13*A75*'Dose per unit release'!$Q75*'Dose per unit release'!$S75/'Assessment Details'!$C$25)/$AV$11","v":0},{"$f":"(Calculator!$AR$13*A75*'Dose per unit release'!$Q75*'Dose per unit release'!$T75/'Assessment Details'!$C$25)/$AV$11","v":0},{"$f":"(Calculator!$AR$13*A75*'Dose per unit release'!$Q75*'Dose per unit release'!$U75/'Assessment Details'!$C$25)/$AV$11","v":0},null,null,{"$f":"(Calculator!$AR$13*A75*'Dose per unit release'!$X75*'Dose per unit release'!$Y75/'Assessment Details'!$C$25)/$AV$11","v":0},{"$f":"(Calculator!$AR$13*A75*'Dose per unit release'!$X75*'Dose per unit release'!$Z75/'Assessment Details'!$C$25)/$AV$11","v":0},null,null,{"$f":"(Calculator!$AR$15*A75*'Dose per unit release'!$AC75*'Dose per unit release'!$AD75*100/'Assessment Details'!$C$39)/$AV$11","v":0},{"$f":"(Calculator!$AR$15*A75*'Dose per unit release'!$AC75*'Dose per unit release'!$AE75*100/'Assessment Details'!$C$39)/$AV$11","v":0},{"$f":"(Calculator!$AR$15*A75*'Dose per unit release'!$AC75*'Dose per unit release'!$AF75*100/'Assessment Details'!$C$39)/$AV$11","v":0},null,null,{"$f":"Calculator!$AR$13*A75*'Dose per unit release'!$AI75*'Dose per unit release'!$AJ75/'Assessment Details'!$C$25","v":0},null,null,{"$f":"Calculator!$AR$15*A75*'Dose per unit release'!$AL75*'Dose per unit release'!$AM75*100/'Assessment Details'!$C$39","v":0}]
[null,null,{"$f":"(A76*'Dose per unit release'!$A76*60/'Assessment Details'!$C$32)/$AV$11","v":0},{"$f":"(A76*'Dose per unit release'!$B76*60/'Assessment Details'!$C$32)/$AV$11","v":0},{"$f":"(A76*'Dose per unit release'!$C76*60/'Assessment Details'!$C$32)/$AV$11","v":0},null,null,{"$f":"(A76*'Dose per unit release'!$F76*60/'Assessment Details'!$C$32)/$AV$11","v":0},{"$f":"(A76*'Dose per unit release'!$G76*60/'Assessment Details'!$C$32)/$AV$11","v":0},{"$f":"(A76*'Dose per unit release'!$H76*60/'Assessment Details'!$C$32)/$AV$11","v":0},{"$f":"(A76*'Dose per unit release'!$I76*60/'Assessment Details'!$C$32)/$AV$11","v":0},null,null,{"$f":"(Calculator!$AR$11*A76*'Dose per unit release'!$L76*0.1/'Assessment Details'!$C$20)/$AV$11","v":0},{"$f":"(Calculator!$AR$11*A76*'Dose per unit release'!$M76*0.1/'Assessment Details'!$C$20)/$AV$11","v":0},{"$f":"(Calculator!$AR$11*A76*'Dose per unit release'!$N76*0.1/'Assessment Details'!$C$20)/$AV$11","v":0},null,null,{"$f":"(Calculator!$AR$13*A76*'Dose per unit release'!$Q76*'Dose per unit release'!$R76/'Assessment Details'!$C$25)/$AV$11","v":0},{"$f":"(Calculator!$AR$13*A76*'Dose per unit release'!$Q76*'Dose per unit release'!$S76/'Assessment Details'!$C$25)/$AV$11","v":0},{"$f":"(Calculator!$AR$13*A76*'Dose per unit release'!$Q76*'Dose per unit release'!$T76/'Assessment Details'!$C$25)/$AV$11","v":0},{"$f":"(Calculator!$AR$13*A76*'Dose per unit release'!$Q76*'Dose per unit release'!$U76/'Assessment Details'!$C$25)/$AV$11","v":0},null,null,{"$f":"(Calculator!$AR$13*A76*'Dose per unit release'!$X76*'Dose per unit release'!$Y76/'Assessment Details'!$C$25)/$AV$11","v":0},{"$f":"(Calculator!$AR$13*A76*'Dose per unit release'!$X76*'Dose per unit release'!$Z76/'Assessment Details'!$C$25)/$AV$11","v":0},null,null,{"$f":"(Calculator!$AR$15*A76*'Dose per unit release'!$AC76*'Dose per unit release'!$AD76*100/'Assessment Details'!$C$39)/$AV$11","v":0},{"$f":"(Calculator!$AR$15*A76*'Dose per unit release'!$AC76*'Dose per unit release'!$AE76*100/'Assessment Details'!$C$39)/$AV$11","v":0},{"$f":"(Calculator!$AR$15*A76*'Dose per unit release'!$AC76*'Dose per unit release'!$AF76*100/'Assessment Details'!$C$39)/$AV$11","v":0},null,null,{"$f":"Calculator!$AR$13*A76*'Dose per unit release'!$AI76*'Dose per unit release'!$AJ76/'Assessment Details'!$C$25","v":0},null,null,{"$f":"Calculator!$AR$15*A76*'Dose per unit release'!$AL76*'Dose per unit release'!$AM76*100/'Assessment Details'!$C$39","v":0}]
[null,null,{"$f":"(A77*'Dose per unit release'!$A77*60/'Assessment Details'!$C$32)/$AV$11","v":0},{"$f":"(A77*'Dose per unit release'!$B77*60/'Assessment Details'!$C$32)/$AV$11","v":0},{"$f":"(A77*'Dose per unit release'!$C77*60/'Assessment Details'!$C$32)/$AV$11","v":0},null,null,{"$f":"(A77*'Dose per unit release'!$F77*60/'Assessment Details'!$C$32)/$AV$11","v":0},{"$f":"(A77*'Dose per unit release'!$G77*60/'Assessment Details'!$C$32)/$AV$11","v":0},{"$f":"(A77*'Dose per unit release'!$H77*60/'Assessment Details'!$C$32)/$AV$11","v":0},{"$f":"(A77*'Dose per unit release'!$I77*60/'Assessment Details'!$C$32)/$AV$11","v":0},null,null,{"$f":"(Calculator!$AR$11*A77*'Dose per unit release'!$L77*0.1/'Assessment Details'!$C$20)/$AV$11","v":0},{"$f":"(Calculator!$AR$11*A77*'Dose per unit release'!$M77*0.1/'Assessment Details'!$C$20)/$AV$11","v":0},{"$f":"(Calculator!$AR$11*A77*'Dose per unit release'!$N77*0.1/'Assessment Details'!$C$20)/$AV$11","v":0},null,null,{"$f":"(Calculator!$AR$13*A77*'Dose per unit release'!$Q77*'Dose per unit release'!$R77/'Assessment Details'!$C$25)/$AV$11","v":0},{"$f":"(Calculator!$AR$13*A77*'Dose per unit release'!$Q77*'Dose per unit release'!$S77/'Assessment Details'!$C$25)/$AV$11","v":0},{"$f":"(Calculator!$AR$13*A77*'Dose per unit release'!$Q77*'Dose per unit release'!$T77/'Assessment Details'!$C$25)/$AV$11","v":0},{"$f":"(Calculator!$AR$13*A77*'Dose per unit release'!$Q77*'Dose per unit release'!$U77/'Assessment Details'!$C$25)/$AV$11","v":0},null,null,{"$f":"(Calculator!$AR$13*A77*'Dose per unit release'!$X77*'Dose per unit release'!$Y77/'Assessment Details'!$C$25)/$AV$11","v":0},{"$f":"(Calculator!$AR$13*A77*'Dose per unit release'!$X77*'Dose per unit release'!$Z77/'Assessment Details'!$C$25)/$AV$11","v":0},null,null,{"$f":"(Calculator!$AR$15*A77*'Dose per unit release'!$AC77*'Dose per unit release'!$AD77*100/'Assessment Details'!$C$39)/$AV$11","v":0},{"$f":"(Calculator!$AR$15*A77*'Dose per unit release'!$AC77*'Dose per unit release'!$AE77*100/'Assessment Details'!$C$39)/$AV$11","v":0},{"$f":"(Calculator!$AR$15*A77*'Dose per unit release'!$AC77*'Dose per unit release'!$AF77*100/'Assessment Details'!$C$39)/$AV$11","v":0},null,null,{"$f":"Calculator!$AR$13*A77*'Dose per unit release'!$AI77*'Dose per unit release'!$AJ77/'Assessment Details'!$C$25","v":0},null,null,{"$f":"Calculator!$AR$15*A77*'Dose per unit release'!$AL77*'Dose per unit release'!$AM77*100/'Assessment Details'!$C$39","v":0}]
[null,null,{"$f":"(A78*'Dose per unit release'!$A78*60/'Assessment Details'!$C$32)/$AV$11","v":0},{"$f":"(A78*'Dose per unit release'!$B78*60/'Assessment Details'!$C$32)/$AV$11","v":0},{"$f":"(A78*'Dose per unit release'!$C78*60/'Assessment Details'!$C$32)/$AV$11","v":0},null,null,{"$f":"(A78*'Dose per unit release'!$F78*60/'Assessment Details'!$C$32)/$AV$11","v":0},{"$f":"(A78*'Dose per unit release'!$G78*60/'Assessment Details'!$C$32)/$AV$11","v":0},{"$f":"(A78*'Dose per unit release'!$H78*60/'Assessment Details'!$C$32)/$AV$11","v":0},{"$f":"(A78*'Dose per unit release'!$I78*60/'Assessment Details'!$C$32)/$AV$11","v":0},null,null,{"$f":"(Calculator!$AR$11*A78*'Dose per unit release'!$L78*0.1/'Assessment Details'!$C$20)/$AV$11","v":0},{"$f":"(Calculator!$AR$11*A78*'Dose per unit release'!$M78*0.1/'Assessment Details'!$C$20)/$AV$11","v":0},{"$f":"(Calculator!$AR$11*A78*'Dose per unit release'!$N78*0.1/'Assessment Details'!$C$20)/$AV$11","v":0},null,null,{"$f":"(Calculator!$AR$13*A78*'Dose per unit release'!$Q78*'Dose per unit release'!$R78/'Assessment Details'!$C$25)/$AV$11","v":0},{"$f":"(Calculator!$AR$13*A78*'Dose per unit release'!$Q78*'Dose per unit release'!$S78/'Assessment Details'!$C$25)/$AV$11","v":0},{"$f":"(Calculator!$AR$13*A78*'Dose per unit release'!$Q78*'Dose per unit release'!$T78/'Assessment Details'!$C$25)/$AV$11","v":0},{"$f":"(Calculator!$AR$13*A78*'Dose per unit release'!$Q78*'Dose per unit release'!$U78/'Assessment Details'!$C$25)/$AV$11","v":0},null,null,{"$f":"(Calculator!$AR$13*A78*'Dose per unit release'!$X78*'Dose per unit release'!$Y78/'Assessment Details'!$C$25)/$AV$11","v":0},{"$f":"(Calculator!$AR$13*A78*'Dose per unit release'!$X78*'Dose per unit release'!$Z78/'Assessment Details'!$C$25)/$AV$11","v":0},null,null,{"$f":"(Calculator!$AR$15*A78*'Dose per unit release'!$AC78*'Dose per unit release'!$AD78*100/'Assessment Details'!$C$39)/$AV$11","v":0},{"$f":"(Calculator!$AR$15*A78*'Dose per unit release'!$AC78*'Dose per unit release'!$AE78*100/'Assessment Details'!$C$39)/$AV$11","v":0},{"$f":"(Calculator!$AR$15*A78*'Dose per unit release'!$AC78*'Dose per unit release'!$AF78*100/'Assessment Details'!$C$39)/$AV$11","v":0},null,null,{"$f":"Calculator!$AR$13*A78*'Dose per unit release'!$AI78*'Dose per unit release'!$AJ78/'Assessment Details'!$C$25","v":0},null,null,{"$f":"Calculator!$AR$15*A78*'Dose per unit release'!$AL78*'Dose per unit release'!$AM78*100/'Assessment Details'!$C$39","v":0}]
[null,null,{"$f":"(A79*'Dose per unit release'!$A79*60/'Assessment Details'!$C$32)/$AV$11","v":0},{"$f":"(A79*'Dose per unit release'!$B79*60/'Assessment Details'!$C$32)/$AV$11","v":0},{"$f":"(A79*'Dose per unit release'!$C79*60/'Assessment Details'!$C$32)/$AV$11","v":0},null,null,{"$f":"(A79*'Dose per unit release'!$F79*60/'Assessment Details'!$C$32)/$AV$11","v":0},{"$f":"(A79*'Dose per unit release'!$G79*60/'Assessment Details'!$C$32)/$AV$11","v":0},{"$f":"(A79*'Dose per unit release'!$H79*60/'Assessment Details'!$C$32)/$AV$11","v":0},{"$f":"(A79*'Dose per unit release'!$I79*60/'Assessment Details'!$C$32)/$AV$11","v":0},null,null,{"$f":"(Calculator!$AR$11*A79*'Dose per unit release'!$L79*0.1/'Assessment Details'!$C$20)/$AV$11","v":0},{"$f":"(Calculator!$AR$11*A79*'Dose per unit release'!$M79*0.1/'Assessment Details'!$C$20)/$AV$11","v":0},{"$f":"(Calculator!$AR$11*A79*'Dose per unit release'!$N79*0.1/'Assessment Details'!$C$20)/$AV$11","v":0},null,null,{"$f":"(Calculator!$AR$13*A79*'Dose per unit release'!$Q79*'Dose per unit release'!$R79/'Assessment Details'!$C$25)/$AV$11","v":0},{"$f":"(Calculator!$AR$13*A79*'Dose per unit release'!$Q79*'Dose per unit release'!$S79/'Assessment Details'!$C$25)/$AV$11","v":0},{"$f":"(Calculator!$AR$13*A79*'Dose per unit release'!$Q79*'Dose per unit release'!$T79/'Assessment Details'!$C$25)/$AV$11","v":0},{"$f":"(Calculator!$AR$13*A79*'Dose per unit release'!$Q79*'Dose per unit release'!$U79/'Assessment Details'!$C$25)/$AV$11","v":0},null,null,{"$f":"(Calculator!$AR$13*A79*'Dose per unit release'!$X79*'Dose per unit release'!$Y79/'Assessment Details'!$C$25)/$AV$11","v":0},{"$f":"(Calculator!$AR$13*A79*'Dose per unit release'!$X79*'Dose per unit release'!$Z79/'Assessment Details'!$C$25)/$AV$11","v":0},null,null,{"$f":"(Calculator!$AR$15*A79*'Dose per unit release'!$AC79*'Dose per unit release'!$AD79*100/'Assessment Details'!$C$39)/$AV$11","v":0},{"$f":"(Calculator!$AR$15*A79*'Dose per unit release'!$AC79*'Dose per unit release'!$AE79*100/'Assessment Details'!$C$39)/$AV$11","v":0},{"$f":"(Calculator!$AR$15*A79*'Dose per unit release'!$AC79*'Dose per unit release'!$AF79*100/'Assessment Details'!$C$39)/$AV$11","v":0},null,null,{"$f":"Calculator!$AR$13*A79*'Dose per unit release'!$AI79*'Dose per unit release'!$AJ79/'Assessment Details'!$C$25","v":0},null,null,{"$f":"Calculator!$AR$15*A79*'Dose per unit release'!$AL79*'Dose per unit release'!$AM79*100/'Assessment Details'!$C$39","v":0}]
[null,null,{"$f":"(A80*'Dose per unit release'!$A80*60/'Assessment Details'!$C$32)/$AV$11","v":0},{"$f":"(A80*'Dose per unit release'!$B80*60/'Assessment Details'!$C$32)/$AV$11","v":0},{"$f":"(A80*'Dose per unit release'!$C80*60/'Assessment Details'!$C$32)/$AV$11","v":0},null,null,{"$f":"(A80*'Dose per unit release'!$F80*60/'Assessment Details'!$C$32)/$AV$11","v":0},{"$f":"(A80*'Dose per unit release'!$G80*60/'Assessment Details'!$C$32)/$AV$11","v":0},{"$f":"(A80*'Dose per unit release'!$H80*60/'Assessment Details'!$C$32)/$AV$11","v":0},{"$f":"(A80*'Dose per unit release'!$I80*60/'Assessment Details'!$C$32)/$AV$11","v":0},null,null,{"$f":"(Calculator!$AR$11*A80*'Dose per unit release'!$L80*0.1/'Assessment Details'!$C$20)/$AV$11","v":0},{"$f":"(Calculator!$AR$11*A80*'Dose per unit release'!$M80*0.1/'Assessment Details'!$C$20)/$AV$11","v":0},{"$f":"(Calculator!$AR$11*A80*'Dose per unit release'!$N80*0.1/'Assessment Details'!$C$20)/$AV$11","v":0},null,null,{"$f":"(Calculator!$AR$13*A80*'Dose per unit release'!$Q80*'Dose per unit release'!$R80/'Assessment Details'!$C$25)/$AV$11","v":0},{"$f":"(Calculator!$AR$13*A80*'Dose per unit release'!$Q80*'Dose per unit release'!$S80/'Assessment Details'!$C$25)/$AV$11","v":0},{"$f":"(Calculator!$AR$13*A80*'Dose per unit release'!$Q80*'Dose per unit release'!$T80/'Assessment Details'!$C$25)/$AV$11","v":0},{"$f":"(Calculator!$AR$13*A80*'Dose per unit release'!$Q80*'Dose per unit release'!$U80/'Assessment Details'!$C$25)/$AV$11","v":0},null,null,{"$f":"(Calculator!$AR$13*A80*'Dose per unit release'!$X80*'Dose per unit release'!$Y80/'Assessment Details'!$C$25)/$AV$11","v":0},{"$f":"(Calculator!$AR$13*A80*'Dose per unit release'!$X80*'Dose per unit release'!$Z80/'Assessment Details'!$C$25)/$AV$11","v":0},null,null,{"$f":"(Calculator!$AR$15*A80*'Dose per unit release'!$AC80*'Dose per unit release'!$AD80*100/'Assessment Details'!$C$39)/$AV$11","v":0},{"$f":"(Calculator!$AR$15*A80*'Dose per unit release'!$AC80*'Dose per unit release'!$AE80*100/'Assessment Details'!$C$39)/$AV$11","v":0},{"$f":"(Calculator!$AR$15*A80*'Dose per unit release'!$AC80*'Dose per unit release'!$AF80*100/'Assessment Details'!$C$39)/$AV$11","v":0},null,null,{"$f":"Calculator!$AR$13*A80*'Dose per unit release'!$AI80*'Dose per unit release'!$AJ80/'Assessment Details'!$C$25","v":0},null,null,{"$f":"Calculator!$AR$15*A80*'Dose per unit release'!$AL80*'Dose per unit release'!$AM80*100/'Assessment Details'!$C$39","v":0}]
[null,null,{"$f":"(A81*'Dose per unit release'!$A81*60/'Assessment Details'!$C$32)/$AV$11","v":0},{"$f":"(A81*'Dose per unit release'!$B81*60/'Assessment Details'!$C$32)/$AV$11","v":0},{"$f":"(A81*'Dose per unit release'!$C81*60/'Assessment Details'!$C$32)/$AV$11","v":0},null,null,{"$f":"(A81*'Dose per unit release'!$F81*60/'Assessment Details'!$C$32)/$AV$11","v":0},{"$f":"(A81*'Dose per unit release'!$G81*60/'Assessment Details'!$C$32)/$AV$11","v":0},{"$f":"(A81*'Dose per unit release'!$H81*60/'Assessment Details'!$C$32)/$AV$11","v":0},{"$f":"(A81*'Dose per unit release'!$I81*60/'Assessment Details'!$C$32)/$AV$11","v":0},null,null,{"$f":"(Calculator!$AR$11*A81*'Dose per unit release'!$L81*0.1/'Assessment Details'!$C$20)/$AV$11","v":0},{"$f":"(Calculator!$AR$11*A81*'Dose per unit release'!$M81*0.1/'Assessment Details'!$C$20)/$AV$11","v":0},{"$f":"(Calculator!$AR$11*A81*'Dose per unit release'!$N81*0.1/'Assessment Details'!$C$20)/$AV$11","v":0},null,null,{"$f":"(Calculator!$AR$13*A81*'Dose per unit release'!$Q81*'Dose per unit release'!$R81/'Assessment Details'!$C$25)/$AV$11","v":0},{"$f":"(Calculator!$AR$13*A81*'Dose per unit release'!$Q81*'Dose per unit release'!$S81/'Assessment Details'!$C$25)/$AV$11","v":0},{"$f":"(Calculator!$AR$13*A81*'Dose per unit release'!$Q81*'Dose per unit release'!$T81/'Assessment Details'!$C$25)/$AV$11","v":0},{"$f":"(Calculator!$AR$13*A81*'Dose per unit release'!$Q81*'Dose per unit release'!$U81/'Assessment Details'!$C$25)/$AV$11","v":0},null,null,{"$f":"(Calculator!$AR$13*A81*'Dose per unit release'!$X81*'Dose per unit release'!$Y81/'Assessment Details'!$C$25)/$AV$11","v":0},{"$f":"(Calculator!$AR$13*A81*'Dose per unit release'!$X81*'Dose per unit release'!$Z81/'Assessment Details'!$C$25)/$AV$11","v":0},null,null,{"$f":"(Calculator!$AR$15*A81*'Dose per unit release'!$AC81*'Dose per unit release'!$AD81*100/'Assessment Details'!$C$39)/$AV$11","v":0},{"$f":"(Calculator!$AR$15*A81*'Dose per unit release'!$AC81*'Dose per unit release'!$AE81*100/'Assessment Details'!$C$39)/$AV$11","v":0},{"$f":"(Calculator!$AR$15*A81*'Dose per unit release'!$AC81*'Dose per unit release'!$AF81*100/'Assessment Details'!$C$39)/$AV$11","v":0},null,null,{"$f":"Calculator!$AR$13*A81*'Dose per unit release'!$AI81*'Dose per unit release'!$AJ81/'Assessment Details'!$C$25","v":0},null,null,{"$f":"Calculator!$AR$15*A81*'Dose per unit release'!$AL81*'Dose per unit release'!$AM81*100/'Assessment Details'!$C$39","v":0}]
[null,null,{"$f":"(A82*'Dose per unit release'!$A82*60/'Assessment Details'!$C$32)/$AV$11","v":0},{"$f":"(A82*'Dose per unit release'!$B82*60/'Assessment Details'!$C$32)/$AV$11","v":0},{"$f":"(A82*'Dose per unit release'!$C82*60/'Assessment Details'!$C$32)/$AV$11","v":0},null,null,{"$f":"(A82*'Dose per unit release'!$F82*60/'Assessment Details'!$C$32)/$AV$11","v":0},{"$f":"(A82*'Dose per unit release'!$G82*60/'Assessment Details'!$C$32)/$AV$11","v":0},{"$f":"(A82*'Dose per unit release'!$H82*60/'Assessment Details'!$C$32)/$AV$11","v":0},{"$f":"(A82*'Dose per unit release'!$I82*60/'Assessment Details'!$C$32)/$AV$11","v":0},null,null,{"$f":"(Calculator!$AR$11*A82*'Dose per unit release'!$L82*0.1/'Assessment Details'!$C$20)/$AV$11","v":0},{"$f":"(Calculator!$AR$11*A82*'Dose per unit release'!$M82*0.1/'Assessment Details'!$C$20)/$AV$11","v":0},{"$f":"(Calculator!$AR$11*A82*'Dose per unit release'!$N82*0.1/'Assessment Details'!$C$20)/$AV$11","v":0},null,null,{"$f":"(Calculator!$AR$13*A82*'Dose per unit release'!$Q82*'Dose per unit release'!$R82/'Assessment Details'!$C$25)/$AV$11","v":0},{"$f":"(Calculator!$AR$13*A82*'Dose per unit release'!$Q82*'Dose per unit release'!$S82/'Assessment Details'!$C$25)/$AV$11","v":0},{"$f":"(Calculator!$AR$13*A82*'Dose per unit release'!$Q82*'Dose per unit release'!$T82/'Assessment Details'!$C$25)/$AV$11","v":0},{"$f":"(Calculator!$AR$13*A82*'Dose per unit release'!$Q82*'Dose per unit release'!$U82/'Assessment Details'!$C$25)/$AV$11","v":0},null,null,{"$f":"(Calculator!$AR$13*A82*'Dose per unit release'!$X82*'Dose per unit release'!$Y82/'Assessment Details'!$C$25)/$AV$11","v":0},{"$f":"(Calculator!$AR$13*A82*'Dose per unit release'!$X82*'Dose per unit release'!$Z82/'Assessment Details'!$C$25)/$AV$11","v":0},null,null,{"$f":"(Calculator!$AR$15*A82*'Dose per unit release'!$AC82*'Dose per unit release'!$AD82*100/'Assessment Details'!$C$39)/$AV$11","v":0},{"$f":"(Calculator!$AR$15*A82*'Dose per unit release'!$AC82*'Dose per unit release'!$AE82*100/'Assessment Details'!$C$39)/$AV$11","v":0},{"$f":"(Calculator!$AR$15*A82*'Dose per unit release'!$AC82*'Dose per unit release'!$AF82*100/'Assessment Details'!$C$39)/$AV$11","v":0},null,null,{"$f":"Calculator!$AR$13*A82*'Dose per unit release'!$AI82*'Dose per unit release'!$AJ82/'Assessment Details'!$C$25","v":0},null,null,{"$f":"Calculator!$AR$15*A82*'Dose per unit release'!$AL82*'Dose per unit release'!$AM82*100/'Assessment Details'!$C$39","v":0}]
[null,null,{"$f":"(A83*'Dose per unit release'!$A83*60/'Assessment Details'!$C$32)/$AV$11","v":0},{"$f":"(A83*'Dose per unit release'!$B83*60/'Assessment Details'!$C$32)/$AV$11","v":0},{"$f":"(A83*'Dose per unit release'!$C83*60/'Assessment Details'!$C$32)/$AV$11","v":0},null,null,{"$f":"(A83*'Dose per unit release'!$F83*60/'Assessment Details'!$C$32)/$AV$11","v":0},{"$f":"(A83*'Dose per unit release'!$G83*60/'Assessment Details'!$C$32)/$AV$11","v":0},{"$f":"(A83*'Dose per unit release'!$H83*60/'Assessment Details'!$C$32)/$AV$11","v":0},{"$f":"(A83*'Dose per unit release'!$I83*60/'Assessment Details'!$C$32)/$AV$11","v":0},null,null,{"$f":"(Calculator!$AR$11*A83*'Dose per unit release'!$L83*0.1/'Assessment Details'!$C$20)/$AV$11","v":0},{"$f":"(Calculator!$AR$11*A83*'Dose per unit release'!$M83*0.1/'Assessment Details'!$C$20)/$AV$11","v":0},{"$f":"(Calculator!$AR$11*A83*'Dose per unit release'!$N83*0.1/'Assessment Details'!$C$20)/$AV$11","v":0},null,null,{"$f":"(Calculator!$AR$13*A83*'Dose per unit release'!$Q83*'Dose per unit release'!$R83/'Assessment Details'!$C$25)/$AV$11","v":0},{"$f":"(Calculator!$AR$13*A83*'Dose per unit release'!$Q83*'Dose per unit release'!$S83/'Assessment Details'!$C$25)/$AV$11","v":0},{"$f":"(Calculator!$AR$13*A83*'Dose per unit release'!$Q83*'Dose per unit release'!$T83/'Assessment Details'!$C$25)/$AV$11","v":0},{"$f":"(Calculator!$AR$13*A83*'Dose per unit release'!$Q83*'Dose per unit release'!$U83/'Assessment Details'!$C$25)/$AV$11","v":0},null,null,{"$f":"(Calculator!$AR$13*A83*'Dose per unit release'!$X83*'Dose per unit release'!$Y83/'Assessment Details'!$C$25)/$AV$11","v":0},{"$f":"(Calculator!$AR$13*A83*'Dose per unit release'!$X83*'Dose per unit release'!$Z83/'Assessment Details'!$C$25)/$AV$11","v":0},null,null,{"$f":"(Calculator!$AR$15*A83*'Dose per unit release'!$AC83*'Dose per unit release'!$AD83*100/'Assessment Details'!$C$39)/$AV$11","v":0},{"$f":"(Calculator!$AR$15*A83*'Dose per unit release'!$AC83*'Dose per unit release'!$AE83*100/'Assessment Details'!$C$39)/$AV$11","v":0},{"$f":"(Calculator!$AR$15*A83*'Dose per unit release'!$AC83*'Dose per unit release'!$AF83*100/'Assessment Details'!$C$39)/$AV$11","v":0},null,null,{"$f":"Calculator!$AR$13*A83*'Dose per unit release'!$AI83*'Dose per unit release'!$AJ83/'Assessment Details'!$C$25","v":0},null,null,{"$f":"Calculator!$AR$15*A83*'Dose per unit release'!$AL83*'Dose per unit release'!$AM83*100/'Assessment Details'!$C$39","v":0}]
[null,null,{"$f":"(A84*'Dose per unit release'!$A84*60/'Assessment Details'!$C$32)/$AV$11","v":0},{"$f":"(A84*'Dose per unit release'!$B84*60/'Assessment Details'!$C$32)/$AV$11","v":0},{"$f":"(A84*'Dose per unit release'!$C84*60/'Assessment Details'!$C$32)/$AV$11","v":0},null,null,{"$f":"(A84*'Dose per unit release'!$F84*60/'Assessment Details'!$C$32)/$AV$11","v":0},{"$f":"(A84*'Dose per unit release'!$G84*60/'Assessment Details'!$C$32)/$AV$11","v":0},{"$f":"(A84*'Dose per unit release'!$H84*60/'Assessment Details'!$C$32)/$AV$11","v":0},{"$f":"(A84*'Dose per unit release'!$I84*60/'Assessment Details'!$C$32)/$AV$11","v":0},null,null,{"$f":"(Calculator!$AR$11*A84*'Dose per unit release'!$L84*0.1/'Assessment Details'!$C$20)/$AV$11","v":0},{"$f":"(Calculator!$AR$11*A84*'Dose per unit release'!$M84*0.1/'Assessment Details'!$C$20)/$AV$11","v":0},{"$f":"(Calculator!$AR$11*A84*'Dose per unit release'!$N84*0.1/'Assessment Details'!$C$20)/$AV$11","v":0},null,null,{"$f":"(Calculator!$AR$13*A84*'Dose per unit release'!$Q84*'Dose per unit release'!$R84/'Assessment Details'!$C$25)/$AV$11","v":0},{"$f":"(Calculator!$AR$13*A84*'Dose per unit release'!$Q84*'Dose per unit release'!$S84/'Assessment Details'!$C$25)/$AV$11","v":0},{"$f":"(Calculator!$AR$13*A84*'Dose per unit release'!$Q84*'Dose per unit release'!$T84/'Assessment Details'!$C$25)/$AV$11","v":0},{"$f":"(Calculator!$AR$13*A84*'Dose per unit release'!$Q84*'Dose per unit release'!$U84/'Assessment Details'!$C$25)/$AV$11","v":0},null,null,{"$f":"(Calculator!$AR$13*A84*'Dose per unit release'!$X84*'Dose per unit release'!$Y84/'Assessment Details'!$C$25)/$AV$11","v":0},{"$f":"(Calculator!$AR$13*A84*'Dose per unit release'!$X84*'Dose per unit release'!$Z84/'Assessment Details'!$C$25)/$AV$11","v":0},null,null,{"$f":"(Calculator!$AR$15*A84*'Dose per unit release'!$AC84*'Dose per unit release'!$AD84*100/'Assessment Details'!$C$39)/$AV$11","v":0},{"$f":"(Calculator!$AR$15*A84*'Dose per unit release'!$AC84*'Dose per unit release'!$AE84*100/'Assessment Details'!$C$39)/$AV$11","v":0},{"$f":"(Calculator!$AR$15*A84*'Dose per unit release'!$AC84*'Dose per unit release'!$AF84*100/'Assessment Details'!$C$39)/$AV$11","v":0},null,null,{"$f":"Calculator!$AR$13*A84*'Dose per unit release'!$AI84*'Dose per unit release'!$AJ84/'Assessment Details'!$C$25","v":0},null,null,{"$f":"Calculator!$AR$15*A84*'Dose per unit release'!$AL84*'Dose per unit release'!$AM84*100/'Assessment Details'!$C$39","v":0}]
[null,null,{"$f":"(A85*'Dose per unit release'!$A85*60/'Assessment Details'!$C$32)/$AV$11","v":0},{"$f":"(A85*'Dose per unit release'!$B85*60/'Assessment Details'!$C$32)/$AV$11","v":0},{"$f":"(A85*'Dose per unit release'!$C85*60/'Assessment Details'!$C$32)/$AV$11","v":0},null,null,{"$f":"(A85*'Dose per unit release'!$F85*60/'Assessment Details'!$C$32)/$AV$11","v":0},{"$f":"(A85*'Dose per unit release'!$G85*60/'Assessment Details'!$C$32)/$AV$11","v":0},{"$f":"(A85*'Dose per unit release'!$H85*60/'Assessment Details'!$C$32)/$AV$11","v":0},{"$f":"(A85*'Dose per unit release'!$I85*60/'Assessment Details'!$C$32)/$AV$11","v":0},null,null,{"$f":"(Calculator!$AR$11*A85*'Dose per unit release'!$L85*0.1/'Assessment Details'!$C$20)/$AV$11","v":0},{"$f":"(Calculator!$AR$11*A85*'Dose per unit release'!$M85*0.1/'Assessment Details'!$C$20)/$AV$11","v":0},{"$f":"(Calculator!$AR$11*A85*'Dose per unit release'!$N85*0.1/'Assessment Details'!$C$20)/$AV$11","v":0},null,null,{"$f":"(Calculator!$AR$13*A85*'Dose per unit release'!$Q85*'Dose per unit release'!$R85/'Assessment Details'!$C$25)/$AV$11","v":0},{"$f":"(Calculator!$AR$13*A85*'Dose per unit release'!$Q85*'Dose per unit release'!$S85/'Assessment Details'!$C$25)/$AV$11","v":0},{"$f":"(Calculator!$AR$13*A85*'Dose per unit release'!$Q85*'Dose per unit release'!$T85/'Assessment Details'!$C$25)/$AV$11","v":0},{"$f":"(Calculator!$AR$13*A85*'Dose per unit release'!$Q85*'Dose per unit release'!$U85/'Assessment Details'!$C$25)/$AV$11","v":0},null,null,{"$f":"(Calculator!$AR$13*A85*'Dose per unit release'!$X85*'Dose per unit release'!$Y85/'Assessment Details'!$C$25)/$AV$11","v":0},{"$f":"(Calculator!$AR$13*A85*'Dose per unit release'!$X85*'Dose per unit release'!$Z85/'Assessment Details'!$C$25)/$AV$11","v":0},null,null,{"$f":"(Calculator!$AR$15*A85*'Dose per unit release'!$AC85*'Dose per unit release'!$AD85*100/'Assessment Details'!$C$39)/$AV$11","v":0},{"$f":"(Calculator!$AR$15*A85*'Dose per unit release'!$AC85*'Dose per unit release'!$AE85*100/'Assessment Details'!$C$39)/$AV$11","v":0},{"$f":"(Calculator!$AR$15*A85*'Dose per unit release'!$AC85*'Dose per unit release'!$AF85*100/'Assessment Details'!$C$39)/$AV$11","v":0},null,null,{"$f":"Calculator!$AR$13*A85*'Dose per unit release'!$AI85*'Dose per unit release'!$AJ85/'Assessment Details'!$C$25","v":0},null,null,{"$f":"Calculator!$AR$15*A85*'Dose per unit release'!$AL85*'Dose per unit release'!$AM85*100/'Assessment Details'!$C$39","v":0}]
[null,null,{"$f":"(A86*'Dose per unit release'!$A86*60/'Assessment Details'!$C$32)/$AV$11","v":0},{"$f":"(A86*'Dose per unit release'!$B86*60/'Assessment Details'!$C$32)/$AV$11","v":0},{"$f":"(A86*'Dose per unit release'!$C86*60/'Assessment Details'!$C$32)/$AV$11","v":0},null,null,{"$f":"(A86*'Dose per unit release'!$F86*60/'Assessment Details'!$C$32)/$AV$11","v":0},{"$f":"(A86*'Dose per unit release'!$G86*60/'Assessment Details'!$C$32)/$AV$11","v":0},{"$f":"(A86*'Dose per unit release'!$H86*60/'Assessment Details'!$C$32)/$AV$11","v":0},{"$f":"(A86*'Dose per unit release'!$I86*60/'Assessment Details'!$C$32)/$AV$11","v":0},null,null,{"$f":"(Calculator!$AR$11*A86*'Dose per unit release'!$L86*0.1/'Assessment Details'!$C$20)/$AV$11","v":0},{"$f":"(Calculator!$AR$11*A86*'Dose per unit release'!$M86*0.1/'Assessment Details'!$C$20)/$AV$11","v":0},{"$f":"(Calculator!$AR$11*A86*'Dose per unit release'!$N86*0.1/'Assessment Details'!$C$20)/$AV$11","v":0},null,null,{"$f":"(Calculator!$AR$13*A86*'Dose per unit release'!$Q86*'Dose per unit release'!$R86/'Assessment Details'!$C$25)/$AV$11","v":0},{"$f":"(Calculator!$AR$13*A86*'Dose per unit release'!$Q86*'Dose per unit release'!$S86/'Assessment Details'!$C$25)/$AV$11","v":0},{"$f":"(Calculator!$AR$13*A86*'Dose per unit release'!$Q86*'Dose per unit release'!$T86/'Assessment Details'!$C$25)/$AV$11","v":0},{"$f":"(Calculator!$AR$13*A86*'Dose per unit release'!$Q86*'Dose per unit release'!$U86/'Assessment Details'!$C$25)/$AV$11","v":0},null,null,{"$f":"(Calculator!$AR$13*A86*'Dose per unit release'!$X86*'Dose per unit release'!$Y86/'Assessment Details'!$C$25)/$AV$11","v":0},{"$f":"(Calculator!$AR$13*A86*'Dose per unit release'!$X86*'Dose per unit release'!$Z86/'Assessment Details'!$C$25)/$AV$11","v":0},null,null,{"$f":"(Calculator!$AR$15*A86*'Dose per unit release'!$AC86*'Dose per unit release'!$AD86*100/'Assessment Details'!$C$39)/$AV$11","v":0},{"$f":"(Calculator!$AR$15*A86*'Dose per unit release'!$AC86*'Dose per unit release'!$AE86*100/'Assessment Details'!$C$39)/$AV$11","v":0},{"$f":"(Calculator!$AR$15*A86*'Dose per unit release'!$AC86*'Dose per unit release'!$AF86*100/'Assessment Details'!$C$39)/$AV$11","v":0},null,null,{"$f":"Calculator!$AR$13*A86*'Dose per unit release'!$AI86*'Dose per unit release'!$AJ86/'Assessment Details'!$C$25","v":0},null,null,{"$f":"Calculator!$AR$15*A86*'Dose per unit release'!$AL86*'Dose per unit release'!$AM86*100/'Assessment Details'!$C$39","v":0}]
[null,null,{"$f":"(A87*'Dose per unit release'!$A87*60/'Assessment Details'!$C$32)/$AV$11","v":0},{"$f":"(A87*'Dose per unit release'!$B87*60/'Assessment Details'!$C$32)/$AV$11","v":0},{"$f":"(A87*'Dose per unit release'!$C87*60/'Assessment Details'!$C$32)/$AV$11","v":0},null,null,{"$f":"(A87*'Dose per unit release'!$F87*60/'Assessment Details'!$C$32)/$AV$11","v":0},{"$f":"(A87*'Dose per unit release'!$G87*60/'Assessment Details'!$C$32)/$AV$11","v":0},{"$f":"(A87*'Dose per unit release'!$H87*60/'Assessment Details'!$C$32)/$AV$11","v":0},{"$f":"(A87*'Dose per unit release'!$I87*60/'Assessment Details'!$C$32)/$AV$11","v":0},null,null,{"$f":"(Calculator!$AR$11*A87*'Dose per unit release'!$L87*0.1/'Assessment Details'!$C$20)/$AV$11","v":0},{"$f":"(Calculator!$AR$11*A87*'Dose per unit release'!$M87*0.1/'Assessment Details'!$C$20)/$AV$11","v":0},{"$f":"(Calculator!$AR$11*A87*'Dose per unit release'!$N87*0.1/'Assessment Details'!$C$20)/$AV$11","v":0},null,null,{"$f":"(Calculator!$AR$13*A87*'Dose per unit release'!$Q87*'Dose per unit release'!$R87/'Assessment Details'!$C$25)/$AV$11","v":0},{"$f":"(Calculator!$AR$13*A87*'Dose per unit release'!$Q87*'Dose per unit release'!$S87/'Assessment Details'!$C$25)/$AV$11","v":0},{"$f":"(Calculator!$AR$13*A87*'Dose per unit release'!$Q87*'Dose per unit release'!$T87/'Assessment Details'!$C$25)/$AV$11","v":0},{"$f":"(Calculator!$AR$13*A87*'Dose per unit release'!$Q87*'Dose per unit release'!$U87/'Assessment Details'!$C$25)/$AV$11","v":0},null,null,{"$f":"(Calculator!$AR$13*A87*'Dose per unit release'!$X87*'Dose per unit release'!$Y87/'Assessment Details'!$C$25)/$AV$11","v":0},{"$f":"(Calculator!$AR$13*A87*'Dose per unit release'!$X87*'Dose per unit release'!$Z87/'Assessment Details'!$C$25)/$AV$11","v":0},null,null,{"$f":"(Calculator!$AR$15*A87*'Dose per unit release'!$AC87*'Dose per unit release'!$AD87*100/'Assessment Details'!$C$39)/$AV$11","v":0},{"$f":"(Calculator!$AR$15*A87*'Dose per unit release'!$AC87*'Dose per unit release'!$AE87*100/'Assessment Details'!$C$39)/$AV$11","v":0},{"$f":"(Calculator!$AR$15*A87*'Dose per unit release'!$AC87*'Dose per unit release'!$AF87*100/'Assessment Details'!$C$39)/$AV$11","v":0},null,null,{"$f":"Calculator!$AR$13*A87*'Dose per unit release'!$AI87*'Dose per unit release'!$AJ87/'Assessment Details'!$C$25","v":0},null,null,{"$f":"Calculator!$AR$15*A87*'Dose per unit release'!$AL87*'Dose per unit release'!$AM87*100/'Assessment Details'!$C$39","v":0}]
[null,null,{"$f":"(A88*'Dose per unit release'!$A88*60/'Assessment Details'!$C$32)/$AV$11","v":0},{"$f":"(A88*'Dose per unit release'!$B88*60/'Assessment Details'!$C$32)/$AV$11","v":0},{"$f":"(A88*'Dose per unit release'!$C88*60/'Assessment Details'!$C$32)/$AV$11","v":0},null,null,{"$f":"(A88*'Dose per unit release'!$F88*60/'Assessment Details'!$C$32)/$AV$11","v":0},{"$f":"(A88*'Dose per unit release'!$G88*60/'Assessment Details'!$C$32)/$AV$11","v":0},{"$f":"(A88*'Dose per unit release'!$H88*60/'Assessment Details'!$C$32)/$AV$11","v":0},{"$f":"(A88*'Dose per unit release'!$I88*60/'Assessment Details'!$C$32)/$AV$11","v":0},null,null,{"$f":"(Calculator!$AR$11*A88*'Dose per unit release'!$L88*0.1/'Assessment Details'!$C$20)/$AV$11","v":0},{"$f":"(Calculator!$AR$11*A88*'Dose per unit release'!$M88*0.1/'Assessment Details'!$C$20)/$AV$11","v":0},{"$f":"(Calculator!$AR$11*A88*'Dose per unit release'!$N88*0.1/'Assessment Details'!$C$20)/$AV$11","v":0},null,null,{"$f":"(Calculator!$AR$13*A88*'Dose per unit release'!$Q88*'Dose per unit release'!$R88/'Assessment Details'!$C$25)/$AV$11","v":0},{"$f":"(Calculator!$AR$13*A88*'Dose per unit release'!$Q88*'Dose per unit release'!$S88/'Assessment Details'!$C$25)/$AV$11","v":0},{"$f":"(Calculator!$AR$13*A88*'Dose per unit release'!$Q88*'Dose per unit release'!$T88/'Assessment Details'!$C$25)/$AV$11","v":0},{"$f":"(Calculator!$AR$13*A88*'Dose per unit release'!$Q88*'Dose per unit release'!$U88/'Assessment Details'!$C$25)/$AV$11","v":0},null,null,{"$f":"(Calculator!$AR$13*A88*'Dose per unit release'!$X88*'Dose per unit release'!$Y88/'Assessment Details'!$C$25)/$AV$11","v":0},{"$f":"(Calculator!$AR$13*A88*'Dose per unit release'!$X88*'Dose per unit release'!$Z88/'Assessment Details'!$C$25)/$AV$11","v":0},null,null,{"$f":"(Calculator!$AR$15*A88*'Dose per unit release'!$AC88*'Dose per unit release'!$AD88*100/'Assessment Details'!$C$39)/$AV$11","v":0},{"$f":"(Calculator!$AR$15*A88*'Dose per unit release'!$AC88*'Dose per unit release'!$AE88*100/'Assessment Details'!$C$39)/$AV$11","v":0},{"$f":"(Calculator!$AR$15*A88*'Dose per unit release'!$AC88*'Dose per unit release'!$AF88*100/'Assessment Details'!$C$39)/$AV$11","v":0},null,null,{"$f":"Calculator!$AR$13*A88*'Dose per unit release'!$AI88*'Dose per unit release'!$AJ88/'Assessment Details'!$C$25","v":0},null,null,{"$f":"Calculator!$AR$15*A88*'Dose per unit release'!$AL88*'Dose per unit release'!$AM88*100/'Assessment Details'!$C$39","v":0}]
[null,null,{"$f":"(A89*'Dose per unit release'!$A89*60/'Assessment Details'!$C$32)/$AV$11","v":0},{"$f":"(A89*'Dose per unit release'!$B89*60/'Assessment Details'!$C$32)/$AV$11","v":0},{"$f":"(A89*'Dose per unit release'!$C89*60/'Assessment Details'!$C$32)/$AV$11","v":0},null,null,{"$f":"(A89*'Dose per unit release'!$F89*60/'Assessment Details'!$C$32)/$AV$11","v":0},{"$f":"(A89*'Dose per unit release'!$G89*60/'Assessment Details'!$C$32)/$AV$11","v":0},{"$f":"(A89*'Dose per unit release'!$H89*60/'Assessment Details'!$C$32)/$AV$11","v":0},{"$f":"(A89*'Dose per unit release'!$I89*60/'Assessment Details'!$C$32)/$AV$11","v":0},null,null,{"$f":"(Calculator!$AR$11*A89*'Dose per unit release'!$L89*0.1/'Assessment Details'!$C$20)/$AV$11","v":0},{"$f":"(Calculator!$AR$11*A89*'Dose per unit release'!$M89*0.1/'Assessment Details'!$C$20)/$AV$11","v":0},{"$f":"(Calculator!$AR$11*A89*'Dose per unit release'!$N89*0.1/'Assessment Details'!$C$20)/$AV$11","v":0},null,null,{"$f":"(Calculator!$AR$13*A89*'Dose per unit release'!$Q89*'Dose per unit release'!$R89/'Assessment Details'!$C$25)/$AV$11","v":0},{"$f":"(Calculator!$AR$13*A89*'Dose per unit release'!$Q89*'Dose per unit release'!$S89/'Assessment Details'!$C$25)/$AV$11","v":0},{"$f":"(Calculator!$AR$13*A89*'Dose per unit release'!$Q89*'Dose per unit release'!$T89/'Assessment Details'!$C$25)/$AV$11","v":0},{"$f":"(Calculator!$AR$13*A89*'Dose per unit release'!$Q89*'Dose per unit release'!$U89/'Assessment Details'!$C$25)/$AV$11","v":0},null,null,{"$f":"(Calculator!$AR$13*A89*'Dose per unit release'!$X89*'Dose per unit release'!$Y89/'Assessment Details'!$C$25)/$AV$11","v":0},{"$f":"(Calculator!$AR$13*A89*'Dose per unit release'!$X89*'Dose per unit release'!$Z89/'Assessment Details'!$C$25)/$AV$11","v":0},null,null,{"$f":"(Calculator!$AR$15*A89*'Dose per unit release'!$AC89*'Dose per unit release'!$AD89*100/'Assessment Details'!$C$39)/$AV$11","v":0},{"$f":"(Calculator!$AR$15*A89*'Dose per unit release'!$AC89*'Dose per unit release'!$AE89*100/'Assessment Details'!$C$39)/$AV$11","v":0},{"$f":"(Calculator!$AR$15*A89*'Dose per unit release'!$AC89*'Dose per unit release'!$AF89*100/'Assessment Details'!$C$39)/$AV$11","v":0},null,null,{"$f":"Calculator!$AR$13*A89*'Dose per unit release'!$AI89*'Dose per unit release'!$AJ89/'Assessment Details'!$C$25","v":0},null,null,{"$f":"Calculator!$AR$15*A89*'Dose per unit release'!$AL89*'Dose per unit release'!$AM89*100/'Assessment Details'!$C$39","v":0}]
[null,null,{"$f":"(A90*'Dose per unit release'!$A90*60/'Assessment Details'!$C$32)/$AV$11","v":0},{"$f":"(A90*'Dose per unit release'!$B90*60/'Assessment Details'!$C$32)/$AV$11","v":0},{"$f":"(A90*'Dose per unit release'!$C90*60/'Assessment Details'!$C$32)/$AV$11","v":0},null,null,{"$f":"(A90*'Dose per unit release'!$F90*60/'Assessment Details'!$C$32)/$AV$11","v":0},{"$f":"(A90*'Dose per unit release'!$G90*60/'Assessment Details'!$C$32)/$AV$11","v":0},{"$f":"(A90*'Dose per unit release'!$H90*60/'Assessment Details'!$C$32)/$AV$11","v":0},{"$f":"(A90*'Dose per unit release'!$I90*60/'Assessment Details'!$C$32)/$AV$11","v":0},null,null,{"$f":"(Calculator!$AR$11*A90*'Dose per unit release'!$L90*0.1/'Assessment Details'!$C$20)/$AV$11","v":0},{"$f":"(Calculator!$AR$11*A90*'Dose per unit release'!$M90*0.1/'Assessment Details'!$C$20)/$AV$11","v":0},{"$f":"(Calculator!$AR$11*A90*'Dose per unit release'!$N90*0.1/'Assessment Details'!$C$20)/$AV$11","v":0},null,null,{"$f":"(Calculator!$AR$13*A90*'Dose per unit release'!$Q90*'Dose per unit release'!$R90/'Assessment Details'!$C$25)/$AV$11","v":0},{"$f":"(Calculator!$AR$13*A90*'Dose per unit release'!$Q90*'Dose per unit release'!$S90/'Assessment Details'!$C$25)/$AV$11","v":0},{"$f":"(Calculator!$AR$13*A90*'Dose per unit release'!$Q90*'Dose per unit release'!$T90/'Assessment Details'!$C$25)/$AV$11","v":0},{"$f":"(Calculator!$AR$13*A90*'Dose per unit release'!$Q90*'Dose per unit release'!$U90/'Assessment Details'!$C$25)/$AV$11","v":0},null,null,{"$f":"(Calculator!$AR$13*A90*'Dose per unit release'!$X90*'Dose per unit release'!$Y90/'Assessment Details'!$C$25)/$AV$11","v":0},{"$f":"(Calculator!$AR$13*A90*'Dose per unit release'!$X90*'Dose per unit release'!$Z90/'Assessment Details'!$C$25)/$AV$11","v":0},null,null,{"$f":"(Calculator!$AR$15*A90*'Dose per unit release'!$AC90*'Dose per unit release'!$AD90*100/'Assessment Details'!$C$39)/$AV$11","v":0},{"$f":"(Calculator!$AR$15*A90*'Dose per unit release'!$AC90*'Dose per unit release'!$AE90*100/'Assessment Details'!$C$39)/$AV$11","v":0},{"$f":"(Calculator!$AR$15*A90*'Dose per unit release'!$AC90*'Dose per unit release'!$AF90*100/'Assessment Details'!$C$39)/$AV$11","v":0},null,null,{"$f":"Calculator!$AR$13*A90*'Dose per unit release'!$AI90*'Dose per unit release'!$AJ90/'Assessment Details'!$C$25","v":0},null,null,{"$f":"Calculator!$AR$15*A90*'Dose per unit release'!$AL90*'Dose per unit release'!$AM90*100/'Assessment Details'!$C$39","v":0}]
[null,null,{"$f":"(A91*'Dose per unit release'!$A91*60/'Assessment Details'!$C$32)/$AV$11","v":0},{"$f":"(A91*'Dose per unit release'!$B91*60/'Assessment Details'!$C$32)/$AV$11","v":0},{"$f":"(A91*'Dose per unit release'!$C91*60/'Assessment Details'!$C$32)/$AV$11","v":0},null,null,{"$f":"(A91*'Dose per unit release'!$F91*60/'Assessment Details'!$C$32)/$AV$11","v":0},{"$f":"(A91*'Dose per unit release'!$G91*60/'Assessment Details'!$C$32)/$AV$11","v":0},{"$f":"(A91*'Dose per unit release'!$H91*60/'Assessment Details'!$C$32)/$AV$11","v":0},{"$f":"(A91*'Dose per unit release'!$I91*60/'Assessment Details'!$C$32)/$AV$11","v":0},null,null,{"$f":"(Calculator!$AR$11*A91*'Dose per unit release'!$L91*0.1/'Assessment Details'!$C$20)/$AV$11","v":0},{"$f":"(Calculator!$AR$11*A91*'Dose per unit release'!$M91*0.1/'Assessment Details'!$C$20)/$AV$11","v":0},{"$f":"(Calculator!$AR$11*A91*'Dose per unit release'!$N91*0.1/'Assessment Details'!$C$20)/$AV$11","v":0},null,null,{"$f":"(Calculator!$AR$13*A91*'Dose per unit release'!$Q91*'Dose per unit release'!$R91/'Assessment Details'!$C$25)/$AV$11","v":0},{"$f":"(Calculator!$AR$13*A91*'Dose per unit release'!$Q91*'Dose per unit release'!$S91/'Assessment Details'!$C$25)/$AV$11","v":0},{"$f":"(Calculator!$AR$13*A91*'Dose per unit release'!$Q91*'Dose per unit release'!$T91/'Assessment Details'!$C$25)/$AV$11","v":0},{"$f":"(Calculator!$AR$13*A91*'Dose per unit release'!$Q91*'Dose per unit release'!$U91/'Assessment Details'!$C$25)/$AV$11","v":0},null,null,{"$f":"(Calculator!$AR$13*A91*'Dose per unit release'!$X91*'Dose per unit release'!$Y91/'Assessment Details'!$C$25)/$AV$11","v":0},{"$f":"(Calculator!$AR$13*A91*'Dose per unit release'!$X91*'Dose per unit release'!$Z91/'Assessment Details'!$C$25)/$AV$11","v":0},null,null,{"$f":"(Calculator!$AR$15*A91*'Dose per unit release'!$AC91*'Dose per unit release'!$AD91*100/'Assessment Details'!$C$39)/$AV$11","v":0},{"$f":"(Calculator!$AR$15*A91*'Dose per unit release'!$AC91*'Dose per unit release'!$AE91*100/'Assessment Details'!$C$39)/$AV$11","v":0},{"$f":"(Calculator!$AR$15*A91*'Dose per unit release'!$AC91*'Dose per unit release'!$AF91*100/'Assessment Details'!$C$39)/$AV$11","v":0},null,null,{"$f":"Calculator!$AR$13*A91*'Dose per unit release'!$AI91*'Dose per unit release'!$AJ91/'Assessment Details'!$C$25","v":0},null,null,{"$f":"Calculator!$AR$15*A91*'Dose per unit release'!$AL91*'Dose per unit release'!$AM91*100/'Assessment Details'!$C$39","v":0}]
[null,null,{"$f":"(A92*'Dose per unit release'!$A92*60/'Assessment Details'!$C$32)/$AV$11","v":0},{"$f":"(A92*'Dose per unit release'!$B92*60/'Assessment Details'!$C$32)/$AV$11","v":0},{"$f":"(A92*'Dose per unit release'!$C92*60/'Assessment Details'!$C$32)/$AV$11","v":0},null,null,{"$f":"(A92*'Dose per unit release'!$F92*60/'Assessment Details'!$C$32)/$AV$11","v":0},{"$f":"(A92*'Dose per unit release'!$G92*60/'Assessment Details'!$C$32)/$AV$11","v":0},{"$f":"(A92*'Dose per unit release'!$H92*60/'Assessment Details'!$C$32)/$AV$11","v":0},{"$f":"(A92*'Dose per unit release'!$I92*60/'Assessment Details'!$C$32)/$AV$11","v":0},null,null,{"$f":"(Calculator!$AR$11*A92*'Dose per unit release'!$L92*0.1/'Assessment Details'!$C$20)/$AV$11","v":0},{"$f":"(Calculator!$AR$11*A92*'Dose per unit release'!$M92*0.1/'Assessment Details'!$C$20)/$AV$11","v":0},{"$f":"(Calculator!$AR$11*A92*'Dose per unit release'!$N92*0.1/'Assessment Details'!$C$20)/$AV$11","v":0},null,null,{"$f":"(Calculator!$AR$13*A92*'Dose per unit release'!$Q92*'Dose per unit release'!$R92/'Assessment Details'!$C$25)/$AV$11","v":0},{"$f":"(Calculator!$AR$13*A92*'Dose per unit release'!$Q92*'Dose per unit release'!$S92/'Assessment Details'!$C$25)/$AV$11","v":0},{"$f":"(Calculator!$AR$13*A92*'Dose per unit release'!$Q92*'Dose per unit release'!$T92/'Assessment Details'!$C$25)/$AV$11","v":0},{"$f":"(Calculator!$AR$13*A92*'Dose per unit release'!$Q92*'Dose per unit release'!$U92/'Assessment Details'!$C$25)/$AV$11","v":0},null,null,{"$f":"(Calculator!$AR$13*A92*'Dose per unit release'!$X92*'Dose per unit release'!$Y92/'Assessment Details'!$C$25)/$AV$11","v":0},{"$f":"(Calculator!$AR$13*A92*'Dose per unit release'!$X92*'Dose per unit release'!$Z92/'Assessment Details'!$C$25)/$AV$11","v":0},null,null,{"$f":"(Calculator!$AR$15*A92*'Dose per unit release'!$AC92*'Dose per unit release'!$AD92*100/'Assessment Details'!$C$39)/$AV$11","v":0},{"$f":"(Calculator!$AR$15*A92*'Dose per unit release'!$AC92*'Dose per unit release'!$AE92*100/'Assessment Details'!$C$39)/$AV$11","v":0},{"$f":"(Calculator!$AR$15*A92*'Dose per unit release'!$AC92*'Dose per unit release'!$AF92*100/'Assessment Details'!$C$39)/$AV$11","v":0},null,null,{"$f":"Calculator!$AR$13*A92*'Dose per unit release'!$AI92*'Dose per unit release'!$AJ92/'Assessment Details'!$C$25","v":0},null,null,{"$f":"Calculator!$AR$15*A92*'Dose per unit release'!$AL92*'Dose per unit release'!$AM92*100/'Assessment Details'!$C$39","v":0}]
[null,null,{"$f":"(A93*'Dose per unit release'!$A93*60/'Assessment Details'!$C$32)/$AV$11","v":0},{"$f":"(A93*'Dose per unit release'!$B93*60/'Assessment Details'!$C$32)/$AV$11","v":0},{"$f":"(A93*'Dose per unit release'!$C93*60/'Assessment Details'!$C$32)/$AV$11","v":0},null,null,{"$f":"(A93*'Dose per unit release'!$F93*60/'Assessment Details'!$C$32)/$AV$11","v":0},{"$f":"(A93*'Dose per unit release'!$G93*60/'Assessment Details'!$C$32)/$AV$11","v":0},{"$f":"(A93*'Dose per unit release'!$H93*60/'Assessment Details'!$C$32)/$AV$11","v":0},{"$f":"(A93*'Dose per unit release'!$I93*60/'Assessment Details'!$C$32)/$AV$11","v":0},null,null,{"$f":"(Calculator!$AR$11*A93*'Dose per unit release'!$L93*0.1/'Assessment Details'!$C$20)/$AV$11","v":0},{"$f":"(Calculator!$AR$11*A93*'Dose per unit release'!$M93*0.1/'Assessment Details'!$C$20)/$AV$11","v":0},{"$f":"(Calculator!$AR$11*A93*'Dose per unit release'!$N93*0.1/'Assessment Details'!$C$20)/$AV$11","v":0},null,null,{"$f":"(Calculator!$AR$13*A93*'Dose per unit release'!$Q93*'Dose per unit release'!$R93/'Assessment Details'!$C$25)/$AV$11","v":0},{"$f":"(Calculator!$AR$13*A93*'Dose per unit release'!$Q93*'Dose per unit release'!$S93/'Assessment Details'!$C$25)/$AV$11","v":0},{"$f":"(Calculator!$AR$13*A93*'Dose per unit release'!$Q93*'Dose per unit release'!$T93/'Assessment Details'!$C$25)/$AV$11","v":0},{"$f":"(Calculator!$AR$13*A93*'Dose per unit release'!$Q93*'Dose per unit release'!$U93/'Assessment Details'!$C$25)/$AV$11","v":0},null,null,{"$f":"(Calculator!$AR$13*A93*'Dose per unit release'!$X93*'Dose per unit release'!$Y93/'Assessment Details'!$C$25)/$AV$11","v":0},{"$f":"(Calculator!$AR$13*A93*'Dose per unit release'!$X93*'Dose per unit release'!$Z93/'Assessment Details'!$C$25)/$AV$11","v":0},null,null,{"$f":"(Calculator!$AR$15*A93*'Dose per unit release'!$AC93*'Dose per unit release'!$AD93*100/'Assessment Details'!$C$39)/$AV$11","v":0},{"$f":"(Calculator!$AR$15*A93*'Dose per unit release'!$AC93*'Dose per unit release'!$AE93*100/'Assessment Details'!$C$39)/$AV$11","v":0},{"$f":"(Calculator!$AR$15*A93*'Dose per unit release'!$AC93*'Dose per unit release'!$AF93*100/'Assessment Details'!$C$39)/$AV$11","v":0},null,null,{"$f":"Calculator!$AR$13*A93*'Dose per unit release'!$AI93*'Dose per unit release'!$AJ93/'Assessment Details'!$C$25","v":0},null,null,{"$f":"Calculator!$AR$15*A93*'Dose per unit release'!$AL93*'Dose per unit release'!$AM93*100/'Assessment Details'!$C$39","v":0}]
[null,null,{"$f":"(A94*'Dose per unit release'!$A94*60/'Assessment Details'!$C$32)/$AV$11","v":0},{"$f":"(A94*'Dose per unit release'!$B94*60/'Assessment Details'!$C$32)/$AV$11","v":0},{"$f":"(A94*'Dose per unit release'!$C94*60/'Assessment Details'!$C$32)/$AV$11","v":0},null,null,{"$f":"(A94*'Dose per unit release'!$F94*60/'Assessment Details'!$C$32)/$AV$11","v":0},{"$f":"(A94*'Dose per unit release'!$G94*60/'Assessment Details'!$C$32)/$AV$11","v":0},{"$f":"(A94*'Dose per unit release'!$H94*60/'Assessment Details'!$C$32)/$AV$11","v":0},{"$f":"(A94*'Dose per unit release'!$I94*60/'Assessment Details'!$C$32)/$AV$11","v":0},null,null,{"$f":"(Calculator!$AR$11*A94*'Dose per unit release'!$L94*0.1/'Assessment Details'!$C$20)/$AV$11","v":0},{"$f":"(Calculator!$AR$11*A94*'Dose per unit release'!$M94*0.1/'Assessment Details'!$C$20)/$AV$11","v":0},{"$f":"(Calculator!$AR$11*A94*'Dose per unit release'!$N94*0.1/'Assessment Details'!$C$20)/$AV$11","v":0},null,null,{"$f":"(Calculator!$AR$13*A94*'Dose per unit release'!$Q94*'Dose per unit release'!$R94/'Assessment Details'!$C$25)/$AV$11","v":0},{"$f":"(Calculator!$AR$13*A94*'Dose per unit release'!$Q94*'Dose per unit release'!$S94/'Assessment Details'!$C$25)/$AV$11","v":0},{"$f":"(Calculator!$AR$13*A94*'Dose per unit release'!$Q94*'Dose per unit release'!$T94/'Assessment Details'!$C$25)/$AV$11","v":0},{"$f":"(Calculator!$AR$13*A94*'Dose per unit release'!$Q94*'Dose per unit release'!$U94/'Assessment Details'!$C$25)/$AV$11","v":0},null,null,{"$f":"(Calculator!$AR$13*A94*'Dose per unit release'!$X94*'Dose per unit release'!$Y94/'Assessment Details'!$C$25)/$AV$11","v":0},{"$f":"(Calculator!$AR$13*A94*'Dose per unit release'!$X94*'Dose per unit release'!$Z94/'Assessment Details'!$C$25)/$AV$11","v":0},null,null,{"$f":"(Calculator!$AR$15*A94*'Dose per unit release'!$AC94*'Dose per unit release'!$AD94*100/'Assessment Details'!$C$39)/$AV$11","v":0},{"$f":"(Calculator!$AR$15*A94*'Dose per unit release'!$AC94*'Dose per unit release'!$AE94*100/'Assessment Details'!$C$39)/$AV$11","v":0},{"$f":"(Calculator!$AR$15*A94*'Dose per unit release'!$AC94*'Dose per unit release'!$AF94*100/'Assessment Details'!$C$39)/$AV$11","v":0},null,null,{"$f":"Calculator!$AR$13*A94*'Dose per unit release'!$AI94*'Dose per unit release'!$AJ94/'Assessment Details'!$C$25","v":0},null,null,{"$f":"Calculator!$AR$15*A94*'Dose per unit release'!$AL94*'Dose per unit release'!$AM94*100/'Assessment Details'!$C$39","v":0}]
[null,null,{"$f":"(A95*'Dose per unit release'!$A95*60/'Assessment Details'!$C$32)/$AV$11","v":0},{"$f":"(A95*'Dose per unit release'!$B95*60/'Assessment Details'!$C$32)/$AV$11","v":0},{"$f":"(A95*'Dose per unit release'!$C95*60/'Assessment Details'!$C$32)/$AV$11","v":0},null,null,{"$f":"(A95*'Dose per unit release'!$F95*60/'Assessment Details'!$C$32)/$AV$11","v":0},{"$f":"(A95*'Dose per unit release'!$G95*60/'Assessment Details'!$C$32)/$AV$11","v":0},{"$f":"(A95*'Dose per unit release'!$H95*60/'Assessment Details'!$C$32)/$AV$11","v":0},{"$f":"(A95*'Dose per unit release'!$I95*60/'Assessment Details'!$C$32)/$AV$11","v":0},null,null,{"$f":"(Calculator!$AR$11*A95*'Dose per unit release'!$L95*0.1/'Assessment Details'!$C$20)/$AV$11","v":0},{"$f":"(Calculator!$AR$11*A95*'Dose per unit release'!$M95*0.1/'Assessment Details'!$C$20)/$AV$11","v":0},{"$f":"(Calculator!$AR$11*A95*'Dose per unit release'!$N95*0.1/'Assessment Details'!$C$20)/$AV$11","v":0},null,null,{"$f":"(Calculator!$AR$13*A95*'Dose per unit release'!$Q95*'Dose per unit release'!$R95/'Assessment Details'!$C$25)/$AV$11","v":0},{"$f":"(Calculator!$AR$13*A95*'Dose per unit release'!$Q95*'Dose per unit release'!$S95/'Assessment Details'!$C$25)/$AV$11","v":0},{"$f":"(Calculator!$AR$13*A95*'Dose per unit release'!$Q95*'Dose per unit release'!$T95/'Assessment Details'!$C$25)/$AV$11","v":0},{"$f":"(Calculator!$AR$13*A95*'Dose per unit release'!$Q95*'Dose per unit release'!$U95/'Assessment Details'!$C$25)/$AV$11","v":0},null,null,{"$f":"(Calculator!$AR$13*A95*'Dose per unit release'!$X95*'Dose per unit release'!$Y95/'Assessment Details'!$C$25)/$AV$11","v":0},{"$f":"(Calculator!$AR$13*A95*'Dose per unit release'!$X95*'Dose per unit release'!$Z95/'Assessment Details'!$C$25)/$AV$11","v":0},null,null,{"$f":"(Calculator!$AR$15*A95*'Dose per unit release'!$AC95*'Dose per unit release'!$AD95*100/'Assessment Details'!$C$39)/$AV$11","v":0},{"$f":"(Calculator!$AR$15*A95*'Dose per unit release'!$AC95*'Dose per unit release'!$AE95*100/'Assessment Details'!$C$39)/$AV$11","v":0},{"$f":"(Calculator!$AR$15*A95*'Dose per unit release'!$AC95*'Dose per unit release'!$AF95*100/'Assessment Details'!$C$39)/$AV$11","v":0},null,null,{"$f":"Calculator!$AR$13*A95*'Dose per unit release'!$AI95*'Dose per unit release'!$AJ95/'Assessment Details'!$C$25","v":0},null,null,{"$f":"Calculator!$AR$15*A95*'Dose per unit release'!$AL95*'Dose per unit release'!$AM95*100/'Assessment Details'!$C$39","v":0}]
[null,null,{"$f":"(A96*'Dose per unit release'!$A96*60/'Assessment Details'!$C$32)/$AV$11","v":0},{"$f":"(A96*'Dose per unit release'!$B96*60/'Assessment Details'!$C$32)/$AV$11","v":0},{"$f":"(A96*'Dose per unit release'!$C96*60/'Assessment Details'!$C$32)/$AV$11","v":0},null,null,{"$f":"(A96*'Dose per unit release'!$F96*60/'Assessment Details'!$C$32)/$AV$11","v":0},{"$f":"(A96*'Dose per unit release'!$G96*60/'Assessment Details'!$C$32)/$AV$11","v":0},{"$f":"(A96*'Dose per unit release'!$H96*60/'Assessment Details'!$C$32)/$AV$11","v":0},{"$f":"(A96*'Dose per unit release'!$I96*60/'Assessment Details'!$C$32)/$AV$11","v":0},null,null,{"$f":"(Calculator!$AR$11*A96*'Dose per unit release'!$L96*0.1/'Assessment Details'!$C$20)/$AV$11","v":0},{"$f":"(Calculator!$AR$11*A96*'Dose per unit release'!$M96*0.1/'Assessment Details'!$C$20)/$AV$11","v":0},{"$f":"(Calculator!$AR$11*A96*'Dose per unit release'!$N96*0.1/'Assessment Details'!$C$20)/$AV$11","v":0},null,null,{"$f":"(Calculator!$AR$13*A96*'Dose per unit release'!$Q96*'Dose per unit release'!$R96/'Assessment Details'!$C$25)/$AV$11","v":0},{"$f":"(Calculator!$AR$13*A96*'Dose per unit release'!$Q96*'Dose per unit release'!$S96/'Assessment Details'!$C$25)/$AV$11","v":0},{"$f":"(Calculator!$AR$13*A96*'Dose per unit release'!$Q96*'Dose per unit release'!$T96/'Assessment Details'!$C$25)/$AV$11","v":0},{"$f":"(Calculator!$AR$13*A96*'Dose per unit release'!$Q96*'Dose per unit release'!$U96/'Assessment Details'!$C$25)/$AV$11","v":0},null,null,{"$f":"(Calculator!$AR$13*A96*'Dose per unit release'!$X96*'Dose per unit release'!$Y96/'Assessment Details'!$C$25)/$AV$11","v":0},{"$f":"(Calculator!$AR$13*A96*'Dose per unit release'!$X96*'Dose per unit release'!$Z96/'Assessment Details'!$C$25)/$AV$11","v":0},null,null,{"$f":"(Calculator!$AR$15*A96*'Dose per unit release'!$AC96*'Dose per unit release'!$AD96*100/'Assessment Details'!$C$39)/$AV$11","v":0},{"$f":"(Calculator!$AR$15*A96*'Dose per unit release'!$AC96*'Dose per unit release'!$AE96*100/'Assessment Details'!$C$39)/$AV$11","v":0},{"$f":"(Calculator!$AR$15*A96*'Dose per unit release'!$AC96*'Dose per unit release'!$AF96*100/'Assessment Details'!$C$39)/$AV$11","v":0},null,null,{"$f":"Calculator!$AR$13*A96*'Dose per unit release'!$AI96*'Dose per unit release'!$AJ96/'Assessment Details'!$C$25","v":0},null,null,{"$f":"Calculator!$AR$15*A96*'Dose per unit release'!$AL96*'Dose per unit release'!$AM96*100/'Assessment Details'!$C$39","v":0}]
[null,null,{"$f":"(A97*'Dose per unit release'!$A97*60/'Assessment Details'!$C$32)/$AV$11","v":0},{"$f":"(A97*'Dose per unit release'!$B97*60/'Assessment Details'!$C$32)/$AV$11","v":0},{"$f":"(A97*'Dose per unit release'!$C97*60/'Assessment Details'!$C$32)/$AV$11","v":0},null,null,{"$f":"(A97*'Dose per unit release'!$F97*60/'Assessment Details'!$C$32)/$AV$11","v":0},{"$f":"(A97*'Dose per unit release'!$G97*60/'Assessment Details'!$C$32)/$AV$11","v":0},{"$f":"(A97*'Dose per unit release'!$H97*60/'Assessment Details'!$C$32)/$AV$11","v":0},{"$f":"(A97*'Dose per unit release'!$I97*60/'Assessment Details'!$C$32)/$AV$11","v":0},null,null,{"$f":"(Calculator!$AR$11*A97*'Dose per unit release'!$L97*0.1/'Assessment Details'!$C$20)/$AV$11","v":0},{"$f":"(Calculator!$AR$11*A97*'Dose per unit release'!$M97*0.1/'Assessment Details'!$C$20)/$AV$11","v":0},{"$f":"(Calculator!$AR$11*A97*'Dose per unit release'!$N97*0.1/'Assessment Details'!$C$20)/$AV$11","v":0},null,null,{"$f":"(Calculator!$AR$13*A97*'Dose per unit release'!$Q97*'Dose per unit release'!$R97/'Assessment Details'!$C$25)/$AV$11","v":0},{"$f":"(Calculator!$AR$13*A97*'Dose per unit release'!$Q97*'Dose per unit release'!$S97/'Assessment Details'!$C$25)/$AV$11","v":0},{"$f":"(Calculator!$AR$13*A97*'Dose per unit release'!$Q97*'Dose per unit release'!$T97/'Assessment Details'!$C$25)/$AV$11","v":0},{"$f":"(Calculator!$AR$13*A97*'Dose per unit release'!$Q97*'Dose per unit release'!$U97/'Assessment Details'!$C$25)/$AV$11","v":0},null,null,{"$f":"(Calculator!$AR$13*A97*'Dose per unit release'!$X97*'Dose per unit release'!$Y97/'Assessment Details'!$C$25)/$AV$11","v":0},{"$f":"(Calculator!$AR$13*A97*'Dose per unit release'!$X97*'Dose per unit release'!$Z97/'Assessment Details'!$C$25)/$AV$11","v":0},null,null,{"$f":"(Calculator!$AR$15*A97*'Dose per unit release'!$AC97*'Dose per unit release'!$AD97*100/'Assessment Details'!$C$39)/$AV$11","v":0},{"$f":"(Calculator!$AR$15*A97*'Dose per unit release'!$AC97*'Dose per unit release'!$AE97*100/'Assessment Details'!$C$39)/$AV$11","v":0},{"$f":"(Calculator!$AR$15*A97*'Dose per unit release'!$AC97*'Dose per unit release'!$AF97*100/'Assessment Details'!$C$39)/$AV$11","v":0},null,null,{"$f":"Calculator!$AR$13*A97*'Dose per unit release'!$AI97*'Dose per unit release'!$AJ97/'Assessment Details'!$C$25","v":0},null,null,{"$f":"Calculator!$AR$15*A97*'Dose per unit release'!$AL97*'Dose per unit release'!$AM97*100/'Assessment Details'!$C$39","v":0}]
[null,null,{"$f":"(A98*'Dose per unit release'!$A98*60/'Assessment Details'!$C$32)/$AV$11","v":0},{"$f":"(A98*'Dose per unit release'!$B98*60/'Assessment Details'!$C$32)/$AV$11","v":0},{"$f":"(A98*'Dose per unit release'!$C98*60/'Assessment Details'!$C$32)/$AV$11","v":0},null,null,{"$f":"(A98*'Dose per unit release'!$F98*60/'Assessment Details'!$C$32)/$AV$11","v":0},{"$f":"(A98*'Dose per unit release'!$G98*60/'Assessment Details'!$C$32)/$AV$11","v":0},{"$f":"(A98*'Dose per unit release'!$H98*60/'Assessment Details'!$C$32)/$AV$11","v":0},{"$f":"(A98*'Dose per unit release'!$I98*60/'Assessment Details'!$C$32)/$AV$11","v":0},null,null,{"$f":"(Calculator!$AR$11*A98*'Dose per unit release'!$L98*0.1/'Assessment Details'!$C$20)/$AV$11","v":0},{"$f":"(Calculator!$AR$11*A98*'Dose per unit release'!$M98*0.1/'Assessment Details'!$C$20)/$AV$11","v":0},{"$f":"(Calculator!$AR$11*A98*'Dose per unit release'!$N98*0.1/'Assessment Details'!$C$20)/$AV$11","v":0},null,null,{"$f":"(Calculator!$AR$13*A98*'Dose per unit release'!$Q98*'Dose per unit release'!$R98/'Assessment Details'!$C$25)/$AV$11","v":0},{"$f":"(Calculator!$AR$13*A98*'Dose per unit release'!$Q98*'Dose per unit release'!$S98/'Assessment Details'!$C$25)/$AV$11","v":0},{"$f":"(Calculator!$AR$13*A98*'Dose per unit release'!$Q98*'Dose per unit release'!$T98/'Assessment Details'!$C$25)/$AV$11","v":0},{"$f":"(Calculator!$AR$13*A98*'Dose per unit release'!$Q98*'Dose per unit release'!$U98/'Assessment Details'!$C$25)/$AV$11","v":0},null,null,{"$f":"(Calculator!$AR$13*A98*'Dose per unit release'!$X98*'Dose per unit release'!$Y98/'Assessment Details'!$C$25)/$AV$11","v":0},{"$f":"(Calculator!$AR$13*A98*'Dose per unit release'!$X98*'Dose per unit release'!$Z98/'Assessment Details'!$C$25)/$AV$11","v":0},null,null,{"$f":"(Calculator!$AR$15*A98*'Dose per unit release'!$AC98*'Dose per unit release'!$AD98*100/'Assessment Details'!$C$39)/$AV$11","v":0},{"$f":"(Calculator!$AR$15*A98*'Dose per unit release'!$AC98*'Dose per unit release'!$AE98*100/'Assessment Details'!$C$39)/$AV$11","v":0},{"$f":"(Calculator!$AR$15*A98*'Dose per unit release'!$AC98*'Dose per unit release'!$AF98*100/'Assessment Details'!$C$39)/$AV$11","v":0},null,null,{"$f":"Calculator!$AR$13*A98*'Dose per unit release'!$AI98*'Dose per unit release'!$AJ98/'Assessment Details'!$C$25","v":0},null,null,{"$f":"Calculator!$AR$15*A98*'Dose per unit release'!$AL98*'Dose per unit release'!$AM98*100/'Assessment Details'!$C$39","v":0}]
[null,null,{"$f":"(A99*'Dose per unit release'!$A99*60/'Assessment Details'!$C$32)/$AV$11","v":0},{"$f":"(A99*'Dose per unit release'!$B99*60/'Assessment Details'!$C$32)/$AV$11","v":0},{"$f":"(A99*'Dose per unit release'!$C99*60/'Assessment Details'!$C$32)/$AV$11","v":0},null,null,{"$f":"(A99*'Dose per unit release'!$F99*60/'Assessment Details'!$C$32)/$AV$11","v":0},{"$f":"(A99*'Dose per unit release'!$G99*60/'Assessment Details'!$C$32)/$AV$11","v":0},{"$f":"(A99*'Dose per unit release'!$H99*60/'Assessment Details'!$C$32)/$AV$11","v":0},{"$f":"(A99*'Dose per unit release'!$I99*60/'Assessment Details'!$C$32)/$AV$11","v":0},null,null,{"$f":"(Calculator!$AR$11*A99*'Dose per unit release'!$L99*0.1/'Assessment Details'!$C$20)/$AV$11","v":0},{"$f":"(Calculator!$AR$11*A99*'Dose per unit release'!$M99*0.1/'Assessment Details'!$C$20)/$AV$11","v":0},{"$f":"(Calculator!$AR$11*A99*'Dose per unit release'!$N99*0.1/'Assessment Details'!$C$20)/$AV$11","v":0},null,null,{"$f":"(Calculator!$AR$13*A99*'Dose per unit release'!$Q99*'Dose per unit release'!$R99/'Assessment Details'!$C$25)/$AV$11","v":0},{"$f":"(Calculator!$AR$13*A99*'Dose per unit release'!$Q99*'Dose per unit release'!$S99/'Assessment Details'!$C$25)/$AV$11","v":0},{"$f":"(Calculator!$AR$13*A99*'Dose per unit release'!$Q99*'Dose per unit release'!$T99/'Assessment Details'!$C$25)/$AV$11","v":0},{"$f":"(Calculator!$AR$13*A99*'Dose per unit release'!$Q99*'Dose per unit release'!$U99/'Assessment Details'!$C$25)/$AV$11","v":0},null,null,{"$f":"(Calculator!$AR$13*A99*'Dose per unit release'!$X99*'Dose per unit release'!$Y99/'Assessment Details'!$C$25)/$AV$11","v":0},{"$f":"(Calculator!$AR$13*A99*'Dose per unit release'!$X99*'Dose per unit release'!$Z99/'Assessment Details'!$C$25)/$AV$11","v":0},null,null,{"$f":"(Calculator!$AR$15*A99*'Dose per unit release'!$AC99*'Dose per unit release'!$AD99*100/'Assessment Details'!$C$39)/$AV$11","v":0},{"$f":"(Calculator!$AR$15*A99*'Dose per unit release'!$AC99*'Dose per unit release'!$AE99*100/'Assessment Details'!$C$39)/$AV$11","v":0},{"$f":"(Calculator!$AR$15*A99*'Dose per unit release'!$AC99*'Dose per unit release'!$AF99*100/'Assessment Details'!$C$39)/$AV$11","v":0},null,null,{"$f":"Calculator!$AR$13*A99*'Dose per unit release'!$AI99*'Dose per unit release'!$AJ99/'Assessment Details'!$C$25","v":0},null,null,{"$f":"Calculator!$AR$15*A99*'Dose per unit release'!$AL99*'Dose per unit release'!$AM99*100/'Assessment Details'!$C$39","v":0}]
[null,null,{"$f":"(A100*'Dose per unit release'!$A100*60/'Assessment Details'!$C$32)/$AV$11","v":0},{"$f":"(A100*'Dose per unit release'!$B100*60/'Assessment Details'!$C$32)/$AV$11","v":0},{"$f":"(A100*'Dose per unit release'!$C100*60/'Assessment Details'!$C$32)/$AV$11","v":0},null,null,{"$f":"(A100*'Dose per unit release'!$F100*60/'Assessment Details'!$C$32)/$AV$11","v":0},{"$f":"(A100*'Dose per unit release'!$G100*60/'Assessment Details'!$C$32)/$AV$11","v":0},{"$f":"(A100*'Dose per unit release'!$H100*60/'Assessment Details'!$C$32)/$AV$11","v":0},{"$f":"(A100*'Dose per unit release'!$I100*60/'Assessment Details'!$C$32)/$AV$11","v":0},null,null,{"$f":"(Calculator!$AR$11*A100*'Dose per unit release'!$L100*0.1/'Assessment Details'!$C$20)/$AV$11","v":0},{"$f":"(Calculator!$AR$11*A100*'Dose per unit release'!$M100*0.1/'Assessment Details'!$C$20)/$AV$11","v":0},{"$f":"(Calculator!$AR$11*A100*'Dose per unit release'!$N100*0.1/'Assessment Details'!$C$20)/$AV$11","v":0},null,null,{"$f":"(Calculator!$AR$13*A100*'Dose per unit release'!$Q100*'Dose per unit release'!$R100/'Assessment Details'!$C$25)/$AV$11","v":0},{"$f":"(Calculator!$AR$13*A100*'Dose per unit release'!$Q100*'Dose per unit release'!$S100/'Assessment Details'!$C$25)/$AV$11","v":0},{"$f":"(Calculator!$AR$13*A100*'Dose per unit release'!$Q100*'Dose per unit release'!$T100/'Assessment Details'!$C$25)/$AV$11","v":0},{"$f":"(Calculator!$AR$13*A100*'Dose per unit release'!$Q100*'Dose per unit release'!$U100/'Assessment Details'!$C$25)/$AV$11","v":0},null,null,{"$f":"(Calculator!$AR$13*A100*'Dose per unit release'!$X100*'Dose per unit release'!$Y100/'Assessment Details'!$C$25)/$AV$11","v":0},{"$f":"(Calculator!$AR$13*A100*'Dose per unit release'!$X100*'Dose per unit release'!$Z100/'Assessment Details'!$C$25)/$AV$11","v":0},null,null,{"$f":"(Calculator!$AR$15*A100*'Dose per unit release'!$AC100*'Dose per unit release'!$AD100*100/'Assessment Details'!$C$39)/$AV$11","v":0},{"$f":"(Calculator!$AR$15*A100*'Dose per unit release'!$AC100*'Dose per unit release'!$AE100*100/'Assessment Details'!$C$39)/$AV$11","v":0},{"$f":"(Calculator!$AR$15*A100*'Dose per unit release'!$AC100*'Dose per unit release'!$AF100*100/'Assessment Details'!$C$39)/$AV$11","v":0},null,null,{"$f":"Calculator!$AR$13*A100*'Dose per unit release'!$AI100*'Dose per unit release'!$AJ100/'Assessment Details'!$C$25","v":0},null,null,{"$f":"Calculator!$AR$15*A100*'Dose per unit release'!$AL100*'Dose per unit release'!$AM100*100/'Assessment Details'!$C$39","v":0}]
[null,null,{"$f":"(A101*'Dose per unit release'!$A101*60/'Assessment Details'!$C$32)/$AV$11","v":0},{"$f":"(A101*'Dose per unit release'!$B101*60/'Assessment Details'!$C$32)/$AV$11","v":0},{"$f":"(A101*'Dose per unit release'!$C101*60/'Assessment Details'!$C$32)/$AV$11","v":0},null,null,{"$f":"(A101*'Dose per unit release'!$F101*60/'Assessment Details'!$C$32)/$AV$11","v":0},{"$f":"(A101*'Dose per unit release'!$G101*60/'Assessment Details'!$C$32)/$AV$11","v":0},{"$f":"(A101*'Dose per unit release'!$H101*60/'Assessment Details'!$C$32)/$AV$11","v":0},{"$f":"(A101*'Dose per unit release'!$I101*60/'Assessment Details'!$C$32)/$AV$11","v":0},null,null,{"$f":"(Calculator!$AR$11*A101*'Dose per unit release'!$L101*0.1/'Assessment Details'!$C$20)/$AV$11","v":0},{"$f":"(Calculator!$AR$11*A101*'Dose per unit release'!$M101*0.1/'Assessment Details'!$C$20)/$AV$11","v":0},{"$f":"(Calculator!$AR$11*A101*'Dose per unit release'!$N101*0.1/'Assessment Details'!$C$20)/$AV$11","v":0},null,null,{"$f":"(Calculator!$AR$13*A101*'Dose per unit release'!$Q101*'Dose per unit release'!$R101/'Assessment Details'!$C$25)/$AV$11","v":0},{"$f":"(Calculator!$AR$13*A101*'Dose per unit release'!$Q101*'Dose per unit release'!$S101/'Assessment Details'!$C$25)/$AV$11","v":0},{"$f":"(Calculator!$AR$13*A101*'Dose per unit release'!$Q101*'Dose per unit release'!$T101/'Assessment Details'!$C$25)/$AV$11","v":0},{"$f":"(Calculator!$AR$13*A101*'Dose per unit release'!$Q101*'Dose per unit release'!$U101/'Assessment Details'!$C$25)/$AV$11","v":0},null,null,{"$f":"(Calculator!$AR$13*A101*'Dose per unit release'!$X101*'Dose per unit release'!$Y101/'Assessment Details'!$C$25)/$AV$11","v":0},{"$f":"(Calculator!$AR$13*A101*'Dose per unit release'!$X101*'Dose per unit release'!$Z101/'Assessment Details'!$C$25)/$AV$11","v":0},null,null,{"$f":"(Calculator!$AR$15*A101*'Dose per unit release'!$AC101*'Dose per unit release'!$AD101*100/'Assessment Details'!$C$39)/$AV$11","v":0},{"$f":"(Calculator!$AR$15*A101*'Dose per unit release'!$AC101*'Dose per unit release'!$AE101*100/'Assessment Details'!$C$39)/$AV$11","v":0},{"$f":"(Calculator!$AR$15*A101*'Dose per unit release'!$AC101*'Dose per unit release'!$AF101*100/'Assessment Details'!$C$39)/$AV$11","v":0},null,null,{"$f":"Calculator!$AR$13*A101*'Dose per unit release'!$AI101*'Dose per unit release'!$AJ101/'Assessment Details'!$C$25","v":0},null,null,{"$f":"Calculator!$AR$15*A101*'Dose per unit release'!$AL101*'Dose per unit release'!$AM101*100/'Assessment Details'!$C$39","v":0}]
[]
[null,null,{"$f":"SUM(C9:C101)","v":0},{"$f":"SUM(D9:D101)","v":1.933350292546426E-19},{"$f":"SUM(E9:E101)","v":1.933350292546426E-19},{"$f":"('Assessment Details'!$C$10)","v":"mSv/y"},null,{"$f":"SUM(H9:H101)","v":2.5947596031544138E-16},{"$f":"SUM(I9:I101)","v":0},{"$f":"SUM(J9:J101)","v":3.3070465530399393E-23},{"$f":"SUM(K9:K101)","v":2.5947596031544138E-16},{"$f":"($F$103)","v":"mSv/y"},null,{"$f":"SUM(N9:N101)","v":0},{"$f":"SUM(O9:O101)","v":3.0999999999999998E-17},{"$f":"SUM(P9:P101)","v":3.0999999999999998E-17},{"$f":"($F$103)","v":"mSv/y"},null,{"$f":"SUM(S9:S101)","v":0},{"$f":"SUM(T9:T101)","v":2.9393816110659076E-19},{"$f":"SUM(U9:U101)","v":1.0028478437754272E-17},{"$f":"SUM(V9:V101)","v":1.0374288039056143E-17},{"$f":"($F$103)","v":"mSv/y"},null,{"$f":"SUM(Y9:Y101)","v":7.607811228641173E-19},7.607811228641173E-19,{"$f":"($F$103)","v":"mSv/y"},null,0,2.5216666666666671E-18,2.5216666666666671E-18,{"$f":"($F$103)","v":"mSv/y"},null,{"$f":"SUM(AH9:AH101)","v":5.3600488201790079E-18},"microGy/y",null,{"$f":"SUM(AK9:AK101)","v":8.7833333333333336E-18},"microGy/y"]

{"sheet":"Summary Cumulative doses","index":5,"n_rows":102,"n_cols":12,"rows_kept":102,"cut":false,"hidden":false,"merged":[[4,10,5,10]]}
["Summary total doses",null,null,null,null,null,null,null,null,null,1000]
[]
[]
[]
["Radionuclide","Surrogate radionuclide","STW worker dose","Farming family dose","Child playing in burn dose","Angler dose","Irrigated food consumer dose","Fisherman dose","Worst dose","% Contribution","Worst population group"]
[null,null,{"$f":"('Assessment Details'!C10)","v":"mSv/y"},{"$f":"($C$6)","v":"mSv/y"},{"$f":"($C$6)","v":"mSv/y"},"mSv/y","mSv/y","mSv/y","mSv/y"]
["Tritium","-",0,0,0,0,0,0,{"$f":"MAX(C7:H7)","v":0},{"$f":"IF(I7=0,\"\",I7/$I$101)","v":""},{"$f":"IF(I7=0,\"\",IF(I7=C7,\"STW worker\",IF(I7=D7,\"Farming family\",IF(I7=E7,\"Child in burn\",IF(I7=F7,\"Angler\",IF(I7=G7,\"Irrigated food\",\"Fisherman\"))))))","v":""},{"$f":"SUM(C7:H7)","v":0}]
["Tritium (Organically Bound)","-",0,0,0,0,0,0,0,{"$f":"IF(I8=0,\"\",I8/$I$101)","v":""},"",{"$f":"SUM(C8:H8)","v":0}]
["Carbon-11","-",0,0,0,0,0,0,{"$f":"MAX(C9:H9)","v":0},"","",0]
["Carbon-14","-",0,0,0,0,0,0,0,"","",0]
["Fluorine-18","Sodium-24",0,0,0,0,0,0,0,"","",0]
["Sodium-22","-",0,0,0,0,0,0,0,"","",0]
["Sodium-24","-",0,0,0,0,0,0,0,"","",0]
["Phosphorus-32","-",0,0,0,0,0,0,0,"","",0]
["Phosphorus-33","-",0,0,0,0,0,0,0,"","",0]
["Sulphur-35","-",0,0,0,0,0,0,0,"","",0]
["Chlorine-36","-",0,0,0,0,0,0,0,"","",0]
["Calcium-45","-",0,0,0,0,0,0,0,"","",0]
["Calcium-47","-",0,0,0,0,0,0,0,"","",0]
["Vanadium-48","-",0,0,0,0,0,0,0,"","",0]
["Chromium-51","-",0,0,0,0,0,0,0,"","",0]
["Manganese-52","-",0,0,0,0,0,0,0,"","",0]
["Manganese-54","-",0,0,0,0,0,0,0,"","",0]
["Manganese-56","Manganese-54",0,0,0,0,0,0,0,"","",0]
["Iron-55","-",0,0,0,0,0,0,0,"","",0]
["Iron-59","-",0,0,0,0,0,0,0,"","",0]
["Cobalt-56","-",0,0,0,0,0,0,0,"","",0]
["Cobalt-57","-",0,0,0,0,0,0,0,"","",0]
["Cobalt-58","-",0,0,0,0,0,0,0,"","",0]
["Cobalt-60","-",0,0,0,0,0,0,0,"","",0]
["Nickel-63","-",0,0,0,0,0,0,0,"","",0]
["Zinc-65","-",0,0,0,0,0,0,0,"","",0]
["Gallium-67","-",0,0,0,0,0,0,0,"","",0]
["Selenium-75","-",0,0,0,0,0,0,0,"","",0]
["Bromine-82","-",0,0,0,0,0,0,0,"","",0]
["Rubidium-82","Rubidium-83",0,0,0,0,0,0,0,"","",0]
["Rubidium-83","-",0,0,0,0,0,0,0,"","",0]
["Strontium-89","-",0,0,0,0,0,0,0,"","",0]
["Strontium-90","-",0,0,0,0,0,0,0,"",{"$f":"IF(I39=0,\"\",IF(I39=C39,\"STW worker\",IF(I39=D39,\"Farming family\",IF(I39=E39,\"Child in burn\",IF(I39=F39,\"Angler\",IF(I39=G39,\"Irrigated food\",\"Fisherman\"))))))","v":""},0]
["Yttrium-90","-",0,0,0,0,0,0,0,"","",0]
["Zirconium-95","-",0,0,0,0,0,0,0,"","",0]
["Niobium-95","-",0,0,0,0,0,0,0,"","",0]
["Molybdenum-99","-",0,0,0,0,0,0,0,"","",0]
["Technetium-99","-",0,0,0,0,0,0,0,"","",0]
["Technetium-99m","-",0,0,0,0,0,0,0,"","",0]
["Ruthenium-103","-",0,0,0,0,0,0,0,"","",0]
["Ruthenium-106","-",0,0,0,0,0,0,0,"","",0]
["Silver-110m","-",0,0,0,0,0,0,0,"","",0]
["Indium-111","-",0,0,0,0,0,0,0,"","",0]
["Indium-113m","Indium-111",0,0,0,0,0,0,0,"","",0]
["Antimony-125","-",0,0,0,0,0,0,0,"","",0]
["Iodine-123","-",0,0,0,0,0,0,0,"","",0]
["Iodine-125","-",0,0,0,0,0,0,0,"","",0]
["Iodine-129","-",0,0,0,0,0,0,0,"","",0]
["Iodine-131","-",0,0,0,0,0,0,0,"","",0]
["Iodine-132","Iodine-133",0,0,0,0,0,0,0,"","",0]
["Iodine-133","-",0,0,0,0,0,0,0,"","",0]
["Iodine-134","Iodine-133",0,0,0,0,0,0,0,"","",0]
["Iodine-135","-",0,0,0,0,0,0,0,"","",0]
["Caesium-134","-",0,0,0,0,0,0,0,"","",0]
["Caesium-136","-",0,0,0,0,0,0,0,"","",0]
["Caesium-137","-",0,0,0,0,0,0,0,"","",0]
["Barium-140","-",0,0,0,0,0,0,0,"","",0]
["Lanthanum-140","-",0,0,0,0,0,0,0,"","",0]
["Cerium-141","-",0,0,0,0,0,0,0,"","",0]
["Cerium-144","-",0,0,0,0,0,0,0,"","",{"$f":"SUM(C66:H66)","v":0}]
["Promethium-147","-",0,0,0,0,0,0,0,"","",{"$f":"SUM(C67:H67)","v":0}]
["Samarium-153","-",0,0,0,0,0,0,0,"","",0]
["Europium-152","-",0,0,0,0,0,0,0,"","",0]
["Europium-154","-",0,0,0,0,0,0,0,"","",0]
["Europium-155","-",0,0,0,0,0,0,0,"",{"$f":"IF(I71=0,\"\",IF(I71=C71,\"STW worker\",IF(I71=D71,\"Farming family\",IF(I71=E71,\"Child in burn\",IF(I71=F71,\"Angler\",IF(I71=G71,\"Irrigated food\",\"Fisherman\"))))))","v":""},0]
["Erbium-169","-",0,0,0,0,0,0,0,"","",0]
["Lutetium-177","-",0,0,0,0,0,0,{"$f":"MAX(C73:H73)","v":0},{"$f":"IF(I73=0,\"\",I73/$I$101)","v":""},"",0]
["Gold-198","-",0,0,0,0,0,0,0,"","",0]
["Thallium-201","-",0,0,0,0,0,0,0,"","",0]
["Lead-210","-",0,0,0,0,0,0,0,"","",0]
["Polonium-210","-",0,0,0,0,0,0,0,"","",0]
["Radium-223","-",0,0,0,0,0,0,0,"","",0]
["Radium-226","-",0,0,0,0,0,0,0,"","",0]
["Thorium-230","-",0,0,0,0,0,0,0,"","",0]
["Thorium-232","-",0,0,0,0,0,0,0,"","",0]
["Thorium-234","-",0,0,0,0,0,0,0,"","",0]
["Uranium-234","-",0,0,0,0,0,0,0,"","",0]
["Uranium-235","-",0,0,0,0,0,0,0,"","",0]
["Uranium-238","-",0,0,0,0,0,0,0,"","",0]
["Neptunium-237","-",0,0,0,0,0,0,0,"","",0]
["Plutonium-238","-",0,0,0,0,0,0,0,"","",0]
["Plutonium-239","-",0,0,0,0,0,0,0,"","",0]
["Plutonium-240","-",0,0,0,0,0,0,0,"","",0]
["Plutonium-241","-",0,0,0,0,0,0,0,"","",0]
["Plutonium-242","-",0,0,0,0,0,0,0,"","",0]
["Americium-241","-",0,0,0,0,0,0,0,"","",0]
["Americium-242","-",0,0,0,0,0,0,0,"","",0]
["Americium-243","-",0,0,0,0,0,0,0,"","",0]
["Curium-242","-",0,0,0,0,0,0,0,"","",0]
["Curium-243","-",0,0,0,0,0,0,0,"","",0]
["Curium-244","-",0,0,0,0,0,0,0,"","",0]
["Other alpha-emitting nuclides","Radium-226",0,0,0,0,0,0,0,"","",0]
["Other beta/gamma-emitting nuclides","Caesium-137",0,0,0,0,0,0,0,"","",0]
[null,null,null,null,null,null,null,null,null,null,null,"stop"]
[null,"Total doses",{"$f":"SUM(C7:C99)","v":0},{"$f":"SUM(D7:D99)","v":0},{"$f":"SUM(E7:E99)","v":0},0,0,0,0,{"$f":"('Assessment Details'!C10)","v":"mSv/y"}]
[null,null,null,null,null,null,null,null,null,null,"stop"]

{"sheet":"PRINT VIEW","index":6,"n_rows":151,"n_cols":11,"rows_kept":151,"cut":false,"hidden":true,"merged":[[150,4,150,6],[135,0,149,10],[38,10,39,10],[0,2,0,4],[1,2,1,4],[0,0,0,1],[1,0,1,1],[91,4,91,6],[28,0,28,3]]}
["Name of sewage works :",null,null,null,null,null,null,null,null,"DATE:",{"$f":"('Assessment Details'!F45)","v":"2016-09-27T11:35:14.030"}]
["SEPA Reference Number:",null,{"$f":"'Assessment Details'!B8","v":"x"}]
[]
[]
["Where does effluent discharge from STW  go?:"]
["     To a burn?",null,"No",null,null,"burn factor"]
[]
["     To a river direct from STW or via a burn?",null,"No",null,null,"River factor"]
["  "]
["     To estuary/coast direct from STW or via a burn or river?",null,"Yes",null,null,"Estuary factor"]
[]
["Data entry:"]
["     Average burn flow rate",null,0.1," m3/s"]
[]
["     Average river flow rate",null,49.16," m3/s"]
[]
["     Sewage works",null,"Seafield (Blackburn)"]
["     Sewage works",null,"User defined"]
["     Average raw sewage flow rate",null,{"$f":"INDEX(#REF!, MATCH($C$21,#REF!,), MATCH(\"average raw sewage flow rate (m3/day)\",#REF!,))","v":{"$error":"#REF!"}}," m3/day"]
["    User defined Average raw sewage flow rate",null,0," m3/day"]
[]
["     Average coastal/estuary exchange rate",null,30," m3/s"]
[]
[null,"Name",null,"Signature",null,"Date"]
["Assessed by",null,null,null,null,{"$f":"NOW()","v":"2016-09-27T11:35:14.030"}]
["Reviewed by"]
[]
[]
["WORST CASE SCENARIO"]
[]
[]
[]
[]
[]
[]
[]
[]
[]
["Radionuclide","Surrogate radionuclide","STW worker dose","Farming family dose","Child playing in burn dose","Angler dose","Irrigated food consumer dose","Fisherman dose","Worst dose","% Contribution","Worst population group"]
[null,null,"mSv/y","mSv/y","mSv/y","mSv/y","mSv/y","mSv/y","mSv/y"]
["Tritium",{"$f":"('Summary Cumulative doses'!B7)","v":"-"},{"$f":"('Summary Cumulative doses'!C7)","v":0},{"$f":"('Summary Cumulative doses'!D7)","v":0},{"$f":"('Summary Cumulative doses'!E7)","v":0},{"$f":"('Summary Cumulative doses'!F7)","v":0},{"$f":"('Summary Cumulative doses'!G7)","v":0},{"$f":"('Summary Cumulative doses'!H7)","v":0},{"$f":"('Summary Cumulative doses'!I7)","v":0},{"$f":"('Summary Cumulative doses'!J7)","v":""},{"$f":"('Summary Cumulative doses'!K7)","v":""}]
["Tritium (Organically Bound)",{"$f":"('Summary Cumulative doses'!B8)","v":"-"},{"$f":"('Summary Cumulative doses'!C8)","v":0},{"$f":"('Summary Cumulative doses'!D8)","v":0},{"$f":"('Summary Cumulative doses'!E8)","v":0},{"$f":"('Summary Cumulative doses'!F8)","v":0},{"$f":"('Summary Cumulative doses'!G8)","v":0},{"$f":"('Summary Cumulative doses'!H8)","v":0},{"$f":"('Summary Cumulative doses'!I8)","v":0},{"$f":"('Summary Cumulative doses'!J8)","v":""},{"$f":"('Summary Cumulative doses'!K8)","v":""}]
["Carbon-11",{"$f":"('Summary Cumulative doses'!B9)","v":"-"},{"$f":"('Summary Cumulative doses'!C9)","v":0},{"$f":"('Summary Cumulative doses'!D9)","v":0},{"$f":"('Summary Cumulative doses'!E9)","v":0},{"$f":"('Summary Cumulative doses'!F9)","v":0},{"$f":"('Summary Cumulative doses'!G9)","v":0},{"$f":"('Summary Cumulative doses'!H9)","v":0},{"$f":"('Summary Cumulative doses'!I9)","v":0},{"$f":"('Summary Cumulative doses'!J9)","v":""},{"$f":"('Summary Cumulative doses'!K9)","v":""}]
["Carbon-14",{"$f":"('Summary Cumulative doses'!B10)","v":"-"},{"$f":"('Summary Cumulative doses'!C10)","v":0},{"$f":"('Summary Cumulative doses'!D10)","v":0},{"$f":"('Summary Cumulative doses'!E10)","v":0},{"$f":"('Summary Cumulative doses'!F10)","v":0},{"$f":"('Summary Cumulative doses'!G10)","v":0},{"$f":"('Summary Cumulative doses'!H10)","v":0},{"$f":"('Summary Cumulative doses'!I10)","v":0},{"$f":"('Summary Cumulative doses'!J10)","v":""},{"$f":"('Summary Cumulative doses'!K10)","v":""}]
["Fluorine-18",{"$f":"('Summary Cumulative doses'!B11)","v":"Sodium-24"},{"$f":"('Summary Cumulative doses'!C11)","v":0},{"$f":"('Summary Cumulative doses'!D11)","v":0},{"$f":"('Summary Cumulative doses'!E11)","v":0},{"$f":"('Summary Cumulative doses'!F11)","v":0},{"$f":"('Summary Cumulative doses'!G11)","v":0},{"$f":"('Summary Cumulative doses'!H11)","v":0},{"$f":"('Summary Cumulative doses'!I11)","v":0},{"$f":"('Summary Cumulative doses'!J11)","v":""},{"$f":"('Summary Cumulative doses'!K11)","v":""}]
["Sodium-22",{"$f":"('Summary Cumulative doses'!B12)","v":"-"},{"$f":"('Summary Cumulative doses'!C12)","v":0},{"$f":"('Summary Cumulative doses'!D12)","v":0},{"$f":"('Summary Cumulative doses'!E12)","v":0},{"$f":"('Summary Cumulative doses'!F12)","v":0},{"$f":"('Summary Cumulative doses'!G12)","v":0},{"$f":"('Summary Cumulative doses'!H12)","v":0},{"$f":"('Summary Cumulative doses'!I12)","v":0},{"$f":"('Summary Cumulative doses'!J12)","v":""},{"$f":"('Summary Cumulative doses'!K12)","v":""}]
["Sodium-24",{"$f":"('Summary Cumulative doses'!B13)","v":"-"},{"$f":"('Summary Cumulative doses'!C13)","v":0},{"$f":"('Summary Cumulative doses'!D13)","v":0},{"$f":"('Summary Cumulative doses'!E13)","v":0},{"$f":"('Summary Cumulative doses'!F13)","v":0},{"$f":"('Summary Cumulative doses'!G13)","v":0},{"$f":"('Summary Cumulative doses'!H13)","v":0},{"$f":"('Summary Cumulative doses'!I13)","v":0},{"$f":"('Summary Cumulative doses'!J13)","v":""},{"$f":"('Summary Cumulative doses'!K13)","v":""}]
["Phosphorus-32",{"$f":"('Summary Cumulative doses'!B14)","v":"-"},{"$f":"('Summary Cumulative doses'!C14)","v":0},{"$f":"('Summary Cumulative doses'!D14)","v":0},{"$f":"('Summary Cumulative doses'!E14)","v":0},{"$f":"('Summary Cumulative doses'!F14)","v":0},{"$f":"('Summary Cumulative doses'!G14)","v":0},{"$f":"('Summary Cumulative doses'!H14)","v":0},{"$f":"('Summary Cumulative doses'!I14)","v":0},{"$f":"('Summary Cumulative doses'!J14)","v":""},{"$f":"('Summary Cumulative doses'!K14)","v":""}]
["Phosphorus-33",{"$f":"('Summary Cumulative doses'!B15)","v":"-"},{"$f":"('Summary Cumulative doses'!C15)","v":0},{"$f":"('Summary Cumulative doses'!D15)","v":0},{"$f":"('Summary Cumulative doses'!E15)","v":0},{"$f":"('Summary Cumulative doses'!F15)","v":0},{"$f":"('Summary Cumulative doses'!G15)","v":0},{"$f":"('Summary Cumulative doses'!H15)","v":0},{"$f":"('Summary Cumulative doses'!I15)","v":0},{"$f":"('Summary Cumulative doses'!J15)","v":""},{"$f":"('Summary Cumulative doses'!K15)","v":""}]
["Sulphur-35",{"$f":"('Summary Cumulative doses'!B16)","v":"-"},{"$f":"('Summary Cumulative doses'!C16)","v":0},{"$f":"('Summary Cumulative doses'!D16)","v":0},{"$f":"('Summary Cumulative doses'!E16)","v":0},{"$f":"('Summary Cumulative doses'!F16)","v":0},{"$f":"('Summary Cumulative doses'!G16)","v":0},{"$f":"('Summary Cumulative doses'!H16)","v":0},{"$f":"('Summary Cumulative doses'!I16)","v":0},{"$f":"('Summary Cumulative doses'!J16)","v":""},{"$f":"('Summary Cumulative doses'!K16)","v":""}]
["Chlorine-36",{"$f":"('Summary Cumulative doses'!B17)","v":"-"},{"$f":"('Summary Cumulative doses'!C17)","v":0},{"$f":"('Summary Cumulative doses'!D17)","v":0},{"$f":"('Summary Cumulative doses'!E17)","v":0},{"$f":"('Summary Cumulative doses'!F17)","v":0},{"$f":"('Summary Cumulative doses'!G17)","v":0},{"$f":"('Summary Cumulative doses'!H17)","v":0},{"$f":"('Summary Cumulative doses'!I17)","v":0},{"$f":"('Summary Cumulative doses'!J17)","v":""},{"$f":"('Summary Cumulative doses'!K17)","v":""}]
["Calcium-45",{"$f":"('Summary Cumulative doses'!B18)","v":"-"},{"$f":"('Summary Cumulative doses'!C18)","v":0},{"$f":"('Summary Cumulative doses'!D18)","v":0},{"$f":"('Summary Cumulative doses'!E18)","v":0},{"$f":"('Summary Cumulative doses'!F18)","v":0},{"$f":"('Summary Cumulative doses'!G18)","v":0},{"$f":"('Summary Cumulative doses'!H18)","v":0},{"$f":"('Summary Cumulative doses'!I18)","v":0},{"$f":"('Summary Cumulative doses'!J18)","v":""},{"$f":"('Summary Cumulative doses'!K18)","v":""}]
["Calcium-47",{"$f":"('Summary Cumulative doses'!B19)","v":"-"},{"$f":"('Summary Cumulative doses'!C19)","v":0},{"$f":"('Summary Cumulative doses'!D19)","v":0},{"$f":"('Summary Cumulative doses'!E19)","v":0},{"$f":"('Summary Cumulative doses'!F19)","v":0},{"$f":"('Summary Cumulative doses'!G19)","v":0},{"$f":"('Summary Cumulative doses'!H19)","v":0},{"$f":"('Summary Cumulative doses'!I19)","v":0},{"$f":"('Summary Cumulative doses'!J19)","v":""},{"$f":"('Summary Cumulative doses'!K19)","v":""}]
["Vanadium-48",{"$f":"('Summary Cumulative doses'!B20)","v":"-"},{"$f":"('Summary Cumulative doses'!C20)","v":0},{"$f":"('Summary Cumulative doses'!D20)","v":0},{"$f":"('Summary Cumulative doses'!E20)","v":0},{"$f":"('Summary Cumulative doses'!F20)","v":0},{"$f":"('Summary Cumulative doses'!G20)","v":0},{"$f":"('Summary Cumulative doses'!H20)","v":0},{"$f":"('Summary Cumulative doses'!I20)","v":0},{"$f":"('Summary Cumulative doses'!J20)","v":""},{"$f":"('Summary Cumulative doses'!K20)","v":""}]
["Chromium-51",{"$f":"('Summary Cumulative doses'!B21)","v":"-"},{"$f":"('Summary Cumulative doses'!C21)","v":0},{"$f":"('Summary Cumulative doses'!D21)","v":0},{"$f":"('Summary Cumulative doses'!E21)","v":0},{"$f":"('Summary Cumulative doses'!F21)","v":0},{"$f":"('Summary Cumulative doses'!G21)","v":0},{"$f":"('Summary Cumulative doses'!H21)","v":0},{"$f":"('Summary Cumulative doses'!I21)","v":0},{"$f":"('Summary Cumulative doses'!J21)","v":""},{"$f":"('Summary Cumulative doses'!K21)","v":""}]
["Manganese-52",{"$f":"('Summary Cumulative doses'!B22)","v":"-"},{"$f":"('Summary Cumulative doses'!C22)","v":0},{"$f":"('Summary Cumulative doses'!D22)","v":0},{"$f":"('Summary Cumulative doses'!E22)","v":0},{"$f":"('Summary Cumulative doses'!F22)","v":0},{"$f":"('Summary Cumulative doses'!G22)","v":0},{"$f":"('Summary Cumulative doses'!H22)","v":0},{"$f":"('Summary Cumulative doses'!I22)","v":0},{"$f":"('Summary Cumulative doses'!J22)","v":""},{"$f":"('Summary Cumulative doses'!K22)","v":""}]
["Manganese-54",{"$f":"('Summary Cumulative doses'!B23)","v":"-"},{"$f":"('Summary Cumulative doses'!C23)","v":0},{"$f":"('Summary Cumulative doses'!D23)","v":0},{"$f":"('Summary Cumulative doses'!E23)","v":0},{"$f":"('Summary Cumulative doses'!F23)","v":0},{"$f":"('Summary Cumulative doses'!G23)","v":0},{"$f":"('Summary Cumulative doses'!H23)","v":0},{"$f":"('Summary Cumulative doses'!I23)","v":0},{"$f":"('Summary Cumulative doses'!J23)","v":""},{"$f":"('Summary Cumulative doses'!K23)","v":""}]
["Manganese-56",{"$f":"('Summary Cumulative doses'!B24)","v":"Manganese-54"},{"$f":"('Summary Cumulative doses'!C24)","v":0},{"$f":"('Summary Cumulative doses'!D24)","v":0},{"$f":"('Summary Cumulative doses'!E24)","v":0},{"$f":"('Summary Cumulative doses'!F24)","v":0},{"$f":"('Summary Cumulative doses'!G24)","v":0},{"$f":"('Summary Cumulative doses'!H24)","v":0},{"$f":"('Summary Cumulative doses'!I24)","v":0},{"$f":"('Summary Cumulative doses'!J24)","v":""},{"$f":"('Summary Cumulative doses'!K24)","v":""}]
["Iron-55",{"$f":"('Summary Cumulative doses'!B25)","v":"-"},{"$f":"('Summary Cumulative doses'!C25)","v":0},{"$f":"('Summary Cumulative doses'!D25)","v":0},{"$f":"('Summary Cumulative doses'!E25)","v":0},{"$f":"('Summary Cumulative doses'!F25)","v":0},{"$f":"('Summary Cumulative doses'!G25)","v":0},{"$f":"('Summary Cumulative doses'!H25)","v":0},{"$f":"('Summary Cumulative doses'!I25)","v":0},{"$f":"('Summary Cumulative doses'!J25)","v":""},{"$f":"('Summary Cumulative doses'!K25)","v":""}]
["Iron-59",{"$f":"('Summary Cumulative doses'!B26)","v":"-"},{"$f":"('Summary Cumulative doses'!C26)","v":0},{"$f":"('Summary Cumulative doses'!D26)","v":0},{"$f":"('Summary Cumulative doses'!E26)","v":0},{"$f":"('Summary Cumulative doses'!F26)","v":0},{"$f":"('Summary Cumulative doses'!G26)","v":0},{"$f":"('Summary Cumulative doses'!H26)","v":0},{"$f":"('Summary Cumulative doses'!I26)","v":0},{"$f":"('Summary Cumulative doses'!J26)","v":""},{"$f":"('Summary Cumulative doses'!K26)","v":""}]
["Cobalt-56",{"$f":"('Summary Cumulative doses'!B27)","v":"-"},{"$f":"('Summary Cumulative doses'!C27)","v":0},{"$f":"('Summary Cumulative doses'!D27)","v":0},{"$f":"('Summary Cumulative doses'!E27)","v":0},{"$f":"('Summary Cumulative doses'!F27)","v":0},{"$f":"('Summary Cumulative doses'!G27)","v":0},{"$f":"('Summary Cumulative doses'!H27)","v":0},{"$f":"('Summary Cumulative doses'!I27)","v":0},{"$f":"('Summary Cumulative doses'!J27)","v":""},{"$f":"('Summary Cumulative doses'!K27)","v":""}]
["Cobalt-57",{"$f":"('Summary Cumulative doses'!B28)","v":"-"},{"$f":"('Summary Cumulative doses'!C28)","v":0},{"$f":"('Summary Cumulative doses'!D28)","v":0},{"$f":"('Summary Cumulative doses'!E28)","v":0},{"$f":"('Summary Cumulative doses'!F28)","v":0},{"$f":"('Summary Cumulative doses'!G28)","v":0},{"$f":"('Summary Cumulative doses'!H28)","v":0},{"$f":"('Summary Cumulative doses'!I28)","v":0},{"$f":"('Summary Cumulative doses'!J28)","v":""},{"$f":"('Summary Cumulative doses'!K28)","v":""}]
["Cobalt-58",{"$f":"('Summary Cumulative doses'!B29)","v":"-"},{"$f":"('Summary Cumulative doses'!C29)","v":0},{"$f":"('Summary Cumulative doses'!D29)","v":0},{"$f":"('Summary Cumulative doses'!E29)","v":0},{"$f":"('Summary Cumulative doses'!F29)","v":0},{"$f":"('Summary Cumulative doses'!G29)","v":0},{"$f":"('Summary Cumulative doses'!H29)","v":0},{"$f":"('Summary Cumulative doses'!I29)","v":0},{"$f":"('Summary Cumulative doses'!J29)","v":""},{"$f":"('Summary Cumulative doses'!K29)","v":""}]
["Cobalt-60",{"$f":"('Summary Cumulative doses'!B30)","v":"-"},{"$f":"('Summary Cumulative doses'!C30)","v":0},{"$f":"('Summary Cumulative doses'!D30)","v":0},{"$f":"('Summary Cumulative doses'!E30)","v":0},{"$f":"('Summary Cumulative doses'!F30)","v":0},{"$f":"('Summary Cumulative doses'!G30)","v":0},{"$f":"('Summary Cumulative doses'!H30)","v":0},{"$f":"('Summary Cumulative doses'!I30)","v":0},{"$f":"('Summary Cumulative doses'!J30)","v":""},{"$f":"('Summary Cumulative doses'!K30)","v":""}]
["Nickel-63",{"$f":"('Summary Cumulative doses'!B31)","v":"-"},{"$f":"('Summary Cumulative doses'!C31)","v":0},{"$f":"('Summary Cumulative doses'!D31)","v":0},{"$f":"('Summary Cumulative doses'!E31)","v":0},{"$f":"('Summary Cumulative doses'!F31)","v":0},{"$f":"('Summary Cumulative doses'!G31)","v":0},{"$f":"('Summary Cumulative doses'!H31)","v":0},{"$f":"('Summary Cumulative doses'!I31)","v":0},{"$f":"('Summary Cumulative doses'!J31)","v":""},{"$f":"('Summary Cumulative doses'!K31)","v":""}]
["Zinc-65",{"$f":"('Summary Cumulative doses'!B32)","v":"-"},{"$f":"('Summary Cumulative doses'!C32)","v":0},{"$f":"('Summary Cumulative doses'!D32)","v":0},{"$f":"('Summary Cumulative doses'!E32)","v":0},{"$f":"('Summary Cumulative doses'!F32)","v":0},{"$f":"('Summary Cumulative doses'!G32)","v":0},{"$f":"('Summary Cumulative doses'!H32)","v":0},{"$f":"('Summary Cumulative doses'!I32)","v":0},{"$f":"('Summary Cumulative doses'!J32)","v":""},{"$f":"('Summary Cumulative doses'!K32)","v":""}]
["Gallium-67",{"$f":"('Summary Cumulative doses'!B33)","v":"-"},{"$f":"('Summary Cumulative doses'!C33)","v":0},{"$f":"('Summary Cumulative doses'!D33)","v":0},{"$f":"('Summary Cumulative doses'!E33)","v":0},{"$f":"('Summary Cumulative doses'!F33)","v":0},{"$f":"('Summary Cumulative doses'!G33)","v":0},{"$f":"('Summary Cumulative doses'!H33)","v":0},{"$f":"('Summary Cumulative doses'!I33)","v":0},{"$f":"('Summary Cumulative doses'!J33)","v":""},{"$f":"('Summary Cumulative doses'!K33)","v":""}]
["Selenium-75",{"$f":"('Summary Cumulative doses'!B34)","v":"-"},{"$f":"('Summary Cumulative doses'!C34)","v":0},{"$f":"('Summary Cumulative doses'!D34)","v":0},{"$f":"('Summary Cumulative doses'!E34)","v":0},{"$f":"('Summary Cumulative doses'!F34)","v":0},{"$f":"('Summary Cumulative doses'!G34)","v":0},{"$f":"('Summary Cumulative doses'!H34)","v":0},{"$f":"('Summary Cumulative doses'!I34)","v":0},{"$f":"('Summary Cumulative doses'!J34)","v":""},{"$f":"('Summary Cumulative doses'!K34)","v":""}]
["Bromine-82",{"$f":"('Summary Cumulative doses'!B35)","v":"-"},{"$f":"('Summary Cumulative doses'!C35)","v":0},{"$f":"('Summary Cumulative doses'!D35)","v":0},{"$f":"('Summary Cumulative doses'!E35)","v":0},{"$f":"('Summary Cumulative doses'!F35)","v":0},{"$f":"('Summary Cumulative doses'!G35)","v":0},{"$f":"('Summary Cumulative doses'!H35)","v":0},{"$f":"('Summary Cumulative doses'!I35)","v":0},{"$f":"('Summary Cumulative doses'!J35)","v":""},{"$f":"('Summary Cumulative doses'!K35)","v":""}]
["Rubidium-82",{"$f":"('Summary Cumulative doses'!B36)","v":"Rubidium-83"},{"$f":"('Summary Cumulative doses'!C36)","v":0},{"$f":"('Summary Cumulative doses'!D36)","v":0},{"$f":"('Summary Cumulative doses'!E36)","v":0},{"$f":"('Summary Cumulative doses'!F36)","v":0},{"$f":"('Summary Cumulative doses'!G36)","v":0},{"$f":"('Summary Cumulative doses'!H36)","v":0},{"$f":"('Summary Cumulative doses'!I36)","v":0},{"$f":"('Summary Cumulative doses'!J36)","v":""},{"$f":"('Summary Cumulative doses'!K36)","v":""}]
["Rubidium-83",{"$f":"('Summary Cumulative doses'!B37)","v":"-"},{"$f":"('Summary Cumulative doses'!C37)","v":0},{"$f":"('Summary Cumulative doses'!D37)","v":0},{"$f":"('Summary Cumulative doses'!E37)","v":0},{"$f":"('Summary Cumulative doses'!F37)","v":0},{"$f":"('Summary Cumulative doses'!G37)","v":0},{"$f":"('Summary Cumulative doses'!H37)","v":0},{"$f":"('Summary Cumulative doses'!I37)","v":0},{"$f":"('Summary Cumulative doses'!J37)","v":""},{"$f":"('Summary Cumulative doses'!K37)","v":""}]
["Strontium-89",{"$f":"('Summary Cumulative doses'!B38)","v":"-"},{"$f":"('Summary Cumulative doses'!C38)","v":0},{"$f":"('Summary Cumulative doses'!D38)","v":0},{"$f":"('Summary Cumulative doses'!E38)","v":0},{"$f":"('Summary Cumulative doses'!F38)","v":0},{"$f":"('Summary Cumulative doses'!G38)","v":0},{"$f":"('Summary Cumulative doses'!H38)","v":0},{"$f":"('Summary Cumulative doses'!I38)","v":0},{"$f":"('Summary Cumulative doses'!J38)","v":""},{"$f":"('Summary Cumulative doses'!K38)","v":""}]
["Strontium-90",{"$f":"('Summary Cumulative doses'!B39)","v":"-"},{"$f":"('Summary Cumulative doses'!C39)","v":0},{"$f":"('Summary Cumulative doses'!D39)","v":0},{"$f":"('Summary Cumulative doses'!E39)","v":0},{"$f":"('Summary Cumulative doses'!F39)","v":0},{"$f":"('Summary Cumulative doses'!G39)","v":0},{"$f":"('Summary Cumulative doses'!H39)","v":0},{"$f":"('Summary Cumulative doses'!I39)","v":0},{"$f":"('Summary Cumulative doses'!J39)","v":""},{"$f":"('Summary Cumulative doses'!K39)","v":""}]
["Yttrium-90",{"$f":"('Summary Cumulative doses'!B40)","v":"-"},{"$f":"('Summary Cumulative doses'!C40)","v":0},{"$f":"('Summary Cumulative doses'!D40)","v":0},{"$f":"('Summary Cumulative doses'!E40)","v":0},{"$f":"('Summary Cumulative doses'!F40)","v":0},{"$f":"('Summary Cumulative doses'!G40)","v":0},{"$f":"('Summary Cumulative doses'!H40)","v":0},{"$f":"('Summary Cumulative doses'!I40)","v":0},{"$f":"('Summary Cumulative doses'!J40)","v":""},{"$f":"('Summary Cumulative doses'!K40)","v":""}]
["Zirconium-95",{"$f":"('Summary Cumulative doses'!B41)","v":"-"},{"$f":"('Summary Cumulative doses'!C41)","v":0},{"$f":"('Summary Cumulative doses'!D41)","v":0},{"$f":"('Summary Cumulative doses'!E41)","v":0},{"$f":"('Summary Cumulative doses'!F41)","v":0},{"$f":"('Summary Cumulative doses'!G41)","v":0},{"$f":"('Summary Cumulative doses'!H41)","v":0},{"$f":"('Summary Cumulative doses'!I41)","v":0},{"$f":"('Summary Cumulative doses'!J41)","v":""},{"$f":"('Summary Cumulative doses'!K41)","v":""}]
["Niobium-95",{"$f":"('Summary Cumulative doses'!B42)","v":"-"},{"$f":"('Summary Cumulative doses'!C42)","v":0},{"$f":"('Summary Cumulative doses'!D42)","v":0},{"$f":"('Summary Cumulative doses'!E42)","v":0},{"$f":"('Summary Cumulative doses'!F42)","v":0},{"$f":"('Summary Cumulative doses'!G42)","v":0},{"$f":"('Summary Cumulative doses'!H42)","v":0},{"$f":"('Summary Cumulative doses'!I42)","v":0},{"$f":"('Summary Cumulative doses'!J42)","v":""},{"$f":"('Summary Cumulative doses'!K42)","v":""}]
["Molybdenum-99",{"$f":"('Summary Cumulative doses'!B43)","v":"-"},{"$f":"('Summary Cumulative doses'!C43)","v":0},{"$f":"('Summary Cumulative doses'!D43)","v":0},{"$f":"('Summary Cumulative doses'!E43)","v":0},{"$f":"('Summary Cumulative doses'!F43)","v":0},{"$f":"('Summary Cumulative doses'!G43)","v":0},{"$f":"('Summary Cumulative doses'!H43)","v":0},{"$f":"('Summary Cumulative doses'!I43)","v":0},{"$f":"('Summary Cumulative doses'!J43)","v":""},{"$f":"('Summary Cumulative doses'!K43)","v":""}]
["Technetium-99",{"$f":"('Summary Cumulative doses'!B44)","v":"-"},{"$f":"('Summary Cumulative doses'!C44)","v":0},{"$f":"('Summary Cumulative doses'!D44)","v":0},{"$f":"('Summary Cumulative doses'!E44)","v":0},{"$f":"('Summary Cumulative doses'!F44)","v":0},{"$f":"('Summary Cumulative doses'!G44)","v":0},{"$f":"('Summary Cumulative doses'!H44)","v":0},{"$f":"('Summary Cumulative doses'!I44)","v":0},{"$f":"('Summary Cumulative doses'!J44)","v":""},{"$f":"('Summary Cumulative doses'!K44)","v":""}]
["Technetium-99m",{"$f":"('Summary Cumulative doses'!B45)","v":"-"},{"$f":"('Summary Cumulative doses'!C45)","v":0},{"$f":"('Summary Cumulative doses'!D45)","v":0},{"$f":"('Summary Cumulative doses'!E45)","v":0},{"$f":"('Summary Cumulative doses'!F45)","v":0},{"$f":"('Summary Cumulative doses'!G45)","v":0},{"$f":"('Summary Cumulative doses'!H45)","v":0},{"$f":"('Summary Cumulative doses'!I45)","v":0},{"$f":"('Summary Cumulative doses'!J45)","v":""},{"$f":"('Summary Cumulative doses'!K45)","v":""}]
["Ruthenium-103",{"$f":"('Summary Cumulative doses'!B46)","v":"-"},{"$f":"('Summary Cumulative doses'!C46)","v":0},{"$f":"('Summary Cumulative doses'!D46)","v":0},{"$f":"('Summary Cumulative doses'!E46)","v":0},{"$f":"('Summary Cumulative doses'!F46)","v":0},{"$f":"('Summary Cumulative doses'!G46)","v":0},{"$f":"('Summary Cumulative doses'!H46)","v":0},{"$f":"('Summary Cumulative doses'!I46)","v":0},{"$f":"('Summary Cumulative doses'!J46)","v":""},{"$f":"('Summary Cumulative doses'!K46)","v":""}]
["Ruthenium-106",{"$f":"('Summary Cumulative doses'!B47)","v":"-"},{"$f":"('Summary Cumulative doses'!C47)","v":0},{"$f":"('Summary Cumulative doses'!D47)","v":0},{"$f":"('Summary Cumulative doses'!E47)","v":0},{"$f":"('Summary Cumulative doses'!F47)","v":0},{"$f":"('Summary Cumulative doses'!G47)","v":0},{"$f":"('Summary Cumulative doses'!H47)","v":0},{"$f":"('Summary Cumulative doses'!I47)","v":0},{"$f":"('Summary Cumulative doses'!J47)","v":""},{"$f":"('Summary Cumulative doses'!K47)","v":""}]
["Silver-110m",{"$f":"('Summary Cumulative doses'!B48)","v":"-"},{"$f":"('Summary Cumulative doses'!C48)","v":0},{"$f":"('Summary Cumulative doses'!D48)","v":0},{"$f":"('Summary Cumulative doses'!E48)","v":0},{"$f":"('Summary Cumulative doses'!F48)","v":0},{"$f":"('Summary Cumulative doses'!G48)","v":0},{"$f":"('Summary Cumulative doses'!H48)","v":0},{"$f":"('Summary Cumulative doses'!I48)","v":0},{"$f":"('Summary Cumulative doses'!J48)","v":""},{"$f":"('Summary Cumulative doses'!K48)","v":""}]
["Indium-111",{"$f":"('Summary Cumulative doses'!B49)","v":"-"},{"$f":"('Summary Cumulative doses'!C49)","v":0},{"$f":"('Summary Cumulative doses'!D49)","v":0},{"$f":"('Summary Cumulative doses'!E49)","v":0},{"$f":"('Summary Cumulative doses'!F49)","v":0},{"$f":"('Summary Cumulative doses'!G49)","v":0},{"$f":"('Summary Cumulative doses'!H49)","v":0},{"$f":"('Summary Cumulative doses'!I49)","v":0},{"$f":"('Summary Cumulative doses'!J49)","v":""},{"$f":"('Summary Cumulative doses'!K49)","v":""}]
["Indium-113m",{"$f":"('Summary Cumulative doses'!B50)","v":"Indium-111"},{"$f":"('Summary Cumulative doses'!C50)","v":0},{"$f":"('Summary Cumulative doses'!D50)","v":0},{"$f":"('Summary Cumulative doses'!E50)","v":0},{"$f":"('Summary Cumulative doses'!F50)","v":0},{"$f":"('Summary Cumulative doses'!G50)","v":0},{"$f":"('Summary Cumulative doses'!H50)","v":0},{"$f":"('Summary Cumulative doses'!I50)","v":0},{"$f":"('Summary Cumulative doses'!J50)","v":""},{"$f":"('Summary Cumulative doses'!K50)","v":""}]
["Antimony-125",{"$f":"('Summary Cumulative doses'!B51)","v":"-"},{"$f":"('Summary Cumulative doses'!C51)","v":0},{"$f":"('Summary Cumulative doses'!D51)","v":0},{"$f":"('Summary Cumulative doses'!E51)","v":0},{"$f":"('Summary Cumulative doses'!F51)","v":0},{"$f":"('Summary Cumulative doses'!G51)","v":0},{"$f":"('Summary Cumulative doses'!H51)","v":0},{"$f":"('Summary Cumulative doses'!I51)","v":0},{"$f":"('Summary Cumulative doses'!J51)","v":""},{"$f":"('Summary Cumulative doses'!K51)","v":""}]
["Iodine-123",{"$f":"('Summary Cumulative doses'!B52)","v":"-"},{"$f":"('Summary Cumulative doses'!C52)","v":0},{"$f":"('Summary Cumulative doses'!D52)","v":0},{"$f":"('Summary Cumulative doses'!E52)","v":0},{"$f":"('Summary Cumulative doses'!F52)","v":0},{"$f":"('Summary Cumulative doses'!G52)","v":0},{"$f":"('Summary Cumulative doses'!H52)","v":0},{"$f":"('Summary Cumulative doses'!I52)","v":0},{"$f":"('Summary Cumulative doses'!J52)","v":""},{"$f":"('Summary Cumulative doses'!K52)","v":""}]
["Iodine-125",{"$f":"('Summary Cumulative doses'!B53)","v":"-"},{"$f":"('Summary Cumulative doses'!C53)","v":0},{"$f":"('Summary Cumulative doses'!D53)","v":0},{"$f":"('Summary Cumulative doses'!E53)","v":0},{"$f":"('Summary Cumulative doses'!F53)","v":0},{"$f":"('Summary Cumulative doses'!G53)","v":0},{"$f":"('Summary Cumulative doses'!H53)","v":0},{"$f":"('Summary Cumulative doses'!I53)","v":0},{"$f":"('Summary Cumulative doses'!J53)","v":""},{"$f":"('Summary Cumulative doses'!K53)","v":""}]
["Iodine-129",{"$f":"('Summary Cumulative doses'!B54)","v":"-"},{"$f":"('Summary Cumulative doses'!C54)","v":0},{"$f":"('Summary Cumulative doses'!D54)","v":0},{"$f":"('Summary Cumulative doses'!E54)","v":0},{"$f":"('Summary Cumulative doses'!F54)","v":0},{"$f":"('Summary Cumulative doses'!G54)","v":0},{"$f":"('Summary Cumulative doses'!H54)","v":0},{"$f":"('Summary Cumulative doses'!I54)","v":0},{"$f":"('Summary Cumulative doses'!J54)","v":""},{"$f":"('Summary Cumulative doses'!K54)","v":""}]
["Iodine-131",{"$f":"('Summary Cumulative doses'!B55)","v":"-"},{"$f":"('Summary Cumulative doses'!C55)","v":0},{"$f":"('Summary Cumulative doses'!D55)","v":0},{"$f":"('Summary Cumulative doses'!E55)","v":0},{"$f":"('Summary Cumulative doses'!F55)","v":0},{"$f":"('Summary Cumulative doses'!G55)","v":0},{"$f":"('Summary Cumulative doses'!H55)","v":0},{"$f":"('Summary Cumulative doses'!I55)","v":0},{"$f":"('Summary Cumulative doses'!J55)","v":""},{"$f":"('Summary Cumulative doses'!K55)","v":""}]
["Iodine-132",{"$f":"('Summary Cumulative doses'!B56)","v":"Iodine-133"},{"$f":"('Summary Cumulative doses'!C56)","v":0},{"$f":"('Summary Cumulative doses'!D56)","v":0},{"$f":"('Summary Cumulative doses'!E56)","v":0},{"$f":"('Summary Cumulative doses'!F56)","v":0},{"$f":"('Summary Cumulative doses'!G56)","v":0},{"$f":"('Summary Cumulative doses'!H56)","v":0},{"$f":"('Summary Cumulative doses'!I56)","v":0},{"$f":"('Summary Cumulative doses'!J56)","v":""},{"$f":"('Summary Cumulative doses'!K56)","v":""}]
["Iodine-133",{"$f":"('Summary Cumulative doses'!B57)","v":"-"},{"$f":"('Summary Cumulative doses'!C57)","v":0},{"$f":"('Summary Cumulative doses'!D57)","v":0},{"$f":"('Summary Cumulative doses'!E57)","v":0},{"$f":"('Summary Cumulative doses'!F57)","v":0},{"$f":"('Summary Cumulative doses'!G57)","v":0},{"$f":"('Summary Cumulative doses'!H57)","v":0},{"$f":"('Summary Cumulative doses'!I57)","v":0},{"$f":"('Summary Cumulative doses'!J57)","v":""},{"$f":"('Summary Cumulative doses'!K57)","v":""}]
[null,null,null,null,"PAGE 1"]
["Iodine-134",{"$f":"('Summary Cumulative doses'!B58)","v":"Iodine-133"},{"$f":"('Summary Cumulative doses'!C58)","v":0},{"$f":"('Summary Cumulative doses'!D58)","v":0},{"$f":"('Summary Cumulative doses'!E58)","v":0},{"$f":"('Summary Cumulative doses'!F58)","v":0},{"$f":"('Summary Cumulative doses'!G58)","v":0},{"$f":"('Summary Cumulative doses'!H58)","v":0},{"$f":"('Summary Cumulative doses'!I58)","v":0},{"$f":"('Summary Cumulative doses'!J58)","v":""},{"$f":"('Summary Cumulative doses'!K58)","v":""}]
["Iodine-135",{"$f":"('Summary Cumulative doses'!B59)","v":"-"},{"$f":"('Summary Cumulative doses'!C59)","v":0},{"$f":"('Summary Cumulative doses'!D59)","v":0},{"$f":"('Summary Cumulative doses'!E59)","v":0},{"$f":"('Summary Cumulative doses'!F59)","v":0},{"$f":"('Summary Cumulative doses'!G59)","v":0},{"$f":"('Summary Cumulative doses'!H59)","v":0},{"$f":"('Summary Cumulative doses'!I59)","v":0},{"$f":"('Summary Cumulative doses'!J59)","v":""},{"$f":"('Summary Cumulative doses'!K59)","v":""}]
["Caesium-134",{"$f":"('Summary Cumulative doses'!B60)","v":"-"},{"$f":"('Summary Cumulative doses'!C60)","v":0},{"$f":"('Summary Cumulative doses'!D60)","v":0},{"$f":"('Summary Cumulative doses'!E60)","v":0},{"$f":"('Summary Cumulative doses'!F60)","v":0},{"$f":"('Summary Cumulative doses'!G60)","v":0},{"$f":"('Summary Cumulative doses'!H60)","v":0},{"$f":"('Summary Cumulative doses'!I60)","v":0},{"$f":"('Summary Cumulative doses'!J60)","v":""},{"$f":"('Summary Cumulative doses'!K60)","v":""}]
["Caesium-136",{"$f":"('Summary Cumulative doses'!B61)","v":"-"},{"$f":"('Summary Cumulative doses'!C61)","v":0},{"$f":"('Summary Cumulative doses'!D61)","v":0},{"$f":"('Summary Cumulative doses'!E61)","v":0},{"$f":"('Summary Cumulative doses'!F61)","v":0},{"$f":"('Summary Cumulative doses'!G61)","v":0},{"$f":"('Summary Cumulative doses'!H61)","v":0},{"$f":"('Summary Cumulative doses'!I61)","v":0},{"$f":"('Summary Cumulative doses'!J61)","v":""},{"$f":"('Summary Cumulative doses'!K61)","v":""}]
["Caesium-137",{"$f":"('Summary Cumulative doses'!B62)","v":"-"},{"$f":"('Summary Cumulative doses'!C62)","v":0},{"$f":"('Summary Cumulative doses'!D62)","v":0},{"$f":"('Summary Cumulative doses'!E62)","v":0},{"$f":"('Summary Cumulative doses'!F62)","v":0},{"$f":"('Summary Cumulative doses'!G62)","v":0},{"$f":"('Summary Cumulative doses'!H62)","v":0},{"$f":"('Summary Cumulative doses'!I62)","v":0},{"$f":"('Summary Cumulative doses'!J62)","v":""},{"$f":"('Summary Cumulative doses'!K62)","v":""}]
["Barium-140",{"$f":"('Summary Cumulative doses'!B63)","v":"-"},{"$f":"('Summary Cumulative doses'!C63)","v":0},{"$f":"('Summary Cumulative doses'!D63)","v":0},{"$f":"('Summary Cumulative doses'!E63)","v":0},{"$f":"('Summary Cumulative doses'!F63)","v":0},{"$f":"('Summary Cumulative doses'!G63)","v":0},{"$f":"('Summary Cumulative doses'!H63)","v":0},{"$f":"('Summary Cumulative doses'!I63)","v":0},{"$f":"('Summary Cumulative doses'!J63)","v":""},{"$f":"('Summary Cumulative doses'!K63)","v":""}]
["Lanthanum-140",{"$f":"('Summary Cumulative doses'!B64)","v":"-"},{"$f":"('Summary Cumulative doses'!C64)","v":0},{"$f":"('Summary Cumulative doses'!D64)","v":0},{"$f":"('Summary Cumulative doses'!E64)","v":0},{"$f":"('Summary Cumulative doses'!F64)","v":0},{"$f":"('Summary Cumulative doses'!G64)","v":0},{"$f":"('Summary Cumulative doses'!H64)","v":0},{"$f":"('Summary Cumulative doses'!I64)","v":0},{"$f":"('Summary Cumulative doses'!J64)","v":""},{"$f":"('Summary Cumulative doses'!K64)","v":""}]
["Cerium-141",{"$f":"('Summary Cumulative doses'!B65)","v":"-"},{"$f":"('Summary Cumulative doses'!C65)","v":0},{"$f":"('Summary Cumulative doses'!D65)","v":0},{"$f":"('Summary Cumulative doses'!E65)","v":0},{"$f":"('Summary Cumulative doses'!F65)","v":0},{"$f":"('Summary Cumulative doses'!G65)","v":0},{"$f":"('Summary Cumulative doses'!H65)","v":0},{"$f":"('Summary Cumulative doses'!I65)","v":0},{"$f":"('Summary Cumulative doses'!J65)","v":""},{"$f":"('Summary Cumulative doses'!K65)","v":""}]
["Cerium-144",{"$f":"('Summary Cumulative doses'!B66)","v":"-"},{"$f":"('Summary Cumulative doses'!C66)","v":0},{"$f":"('Summary Cumulative doses'!D66)","v":0},{"$f":"('Summary Cumulative doses'!E66)","v":0},{"$f":"('Summary Cumulative doses'!F66)","v":0},{"$f":"('Summary Cumulative doses'!G66)","v":0},{"$f":"('Summary Cumulative doses'!H66)","v":0},{"$f":"('Summary Cumulative doses'!I66)","v":0},{"$f":"('Summary Cumulative doses'!J66)","v":""},{"$f":"('Summary Cumulative doses'!K66)","v":""}]
["Promethium-147",{"$f":"('Summary Cumulative doses'!B67)","v":"-"},{"$f":"('Summary Cumulative doses'!C67)","v":0},{"$f":"('Summary Cumulative doses'!D67)","v":0},{"$f":"('Summary Cumulative doses'!E67)","v":0},{"$f":"('Summary Cumulative doses'!F67)","v":0},{"$f":"('Summary Cumulative doses'!G67)","v":0},{"$f":"('Summary Cumulative doses'!H67)","v":0},{"$f":"('Summary Cumulative doses'!I67)","v":0},{"$f":"('Summary Cumulative doses'!J67)","v":""},{"$f":"('Summary Cumulative doses'!K67)","v":""}]
["Samarium-153",{"$f":"('Summary Cumulative doses'!B68)","v":"-"},{"$f":"('Summary Cumulative doses'!C68)","v":0},{"$f":"('Summary Cumulative doses'!D68)","v":0},{"$f":"('Summary Cumulative doses'!E68)","v":0},{"$f":"('Summary Cumulative doses'!F68)","v":0},{"$f":"('Summary Cumulative doses'!G68)","v":0},{"$f":"('Summary Cumulative doses'!H68)","v":0},{"$f":"('Summary Cumulative doses'!I68)","v":0},{"$f":"('Summary Cumulative doses'!J68)","v":""},{"$f":"('Summary Cumulative doses'!K68)","v":""}]
["Europium-152",{"$f":"('Summary Cumulative doses'!B69)","v":"-"},{"$f":"('Summary Cumulative doses'!C69)","v":0},{"$f":"('Summary Cumulative doses'!D69)","v":0},{"$f":"('Summary Cumulative doses'!E69)","v":0},{"$f":"('Summary Cumulative doses'!F69)","v":0},{"$f":"('Summary Cumulative doses'!G69)","v":0},{"$f":"('Summary Cumulative doses'!H69)","v":0},{"$f":"('Summary Cumulative doses'!I69)","v":0},{"$f":"('Summary Cumulative doses'!J69)","v":""},{"$f":"('Summary Cumulative doses'!K69)","v":""}]
["Europium-154",{"$f":"('Summary Cumulative doses'!B70)","v":"-"},{"$f":"('Summary Cumulative doses'!C70)","v":0},{"$f":"('Summary Cumulative doses'!D70)","v":0},{"$f":"('Summary Cumulative doses'!E70)","v":0},{"$f":"('Summary Cumulative doses'!F70)","v":0},{"$f":"('Summary Cumulative doses'!G70)","v":0},{"$f":"('Summary Cumulative doses'!H70)","v":0},{"$f":"('Summary Cumulative doses'!I70)","v":0},{"$f":"('Summary Cumulative doses'!J70)","v":""},{"$f":"('Summary Cumulative doses'!K70)","v":""}]
["Europium-155",{"$f":"('Summary Cumulative doses'!B71)","v":"-"},{"$f":"('Summary Cumulative doses'!C71)","v":0},{"$f":"('Summary Cumulative doses'!D71)","v":0},{"$f":"('Summary Cumulative doses'!E71)","v":0},{"$f":"('Summary Cumulative doses'!F71)","v":0},{"$f":"('Summary Cumulative doses'!G71)","v":0},{"$f":"('Summary Cumulative doses'!H71)","v":0},{"$f":"('Summary Cumulative doses'!I71)","v":0},{"$f":"('Summary Cumulative doses'!J71)","v":""},{"$f":"('Summary Cumulative doses'!K71)","v":""}]
["Erbium-169",{"$f":"('Summary Cumulative doses'!B72)","v":"-"},{"$f":"('Summary Cumulative doses'!C72)","v":0},{"$f":"('Summary Cumulative doses'!D72)","v":0},{"$f":"('Summary Cumulative doses'!E72)","v":0},{"$f":"('Summary Cumulative doses'!F72)","v":0},{"$f":"('Summary Cumulative doses'!G72)","v":0},{"$f":"('Summary Cumulative doses'!H72)","v":0},{"$f":"('Summary Cumulative doses'!I72)","v":0},{"$f":"('Summary Cumulative doses'!J72)","v":""},{"$f":"('Summary Cumulative doses'!K72)","v":""}]
["Lutetium-177",{"$f":"('Summary Cumulative doses'!B73)","v":"-"},{"$f":"('Summary Cumulative doses'!C73)","v":0},{"$f":"('Summary Cumulative doses'!D73)","v":0},{"$f":"('Summary Cumulative doses'!E73)","v":0},{"$f":"('Summary Cumulative doses'!F73)","v":0},{"$f":"('Summary Cumulative doses'!G73)","v":0},{"$f":"('Summary Cumulative doses'!H73)","v":0},{"$f":"('Summary Cumulative doses'!I73)","v":0},{"$f":"('Summary Cumulative doses'!J73)","v":""},{"$f":"('Summary Cumulative doses'!K73)","v":""}]
["Gold-198",{"$f":"('Summary Cumulative doses'!B74)","v":"-"},{"$f":"('Summary Cumulative doses'!C74)","v":0},{"$f":"('Summary Cumulative doses'!D74)","v":0},{"$f":"('Summary Cumulative doses'!E74)","v":0},{"$f":"('Summary Cumulative doses'!F74)","v":0},{"$f":"('Summary Cumulative doses'!G74)","v":0},{"$f":"('Summary Cumulative doses'!H74)","v":0},{"$f":"('Summary Cumulative doses'!I74)","v":0},{"$f":"('Summary Cumulative doses'!J74)","v":""},{"$f":"('Summary Cumulative doses'!K74)","v":""}]
["Thallium-201",{"$f":"('Summary Cumulative doses'!B75)","v":"-"},{"$f":"('Summary Cumulative doses'!C75)","v":0},{"$f":"('Summary Cumulative doses'!D75)","v":0},{"$f":"('Summary Cumulative doses'!E75)","v":0},{"$f":"('Summary Cumulative doses'!F75)","v":0},{"$f":"('Summary Cumulative doses'!G75)","v":0},{"$f":"('Summary Cumulative doses'!H75)","v":0},{"$f":"('Summary Cumulative doses'!I75)","v":0},{"$f":"('Summary Cumulative doses'!J75)","v":""},{"$f":"('Summary Cumulative doses'!K75)","v":""}]
["Lead-210",{"$f":"('Summary Cumulative doses'!B76)","v":"-"},{"$f":"('Summary Cumulative doses'!C76)","v":0},{"$f":"('Summary Cumulative doses'!D76)","v":0},{"$f":"('Summary Cumulative doses'!E76)","v":0},{"$f":"('Summary Cumulative doses'!F76)","v":0},{"$f":"('Summary Cumulative doses'!G76)","v":0},{"$f":"('Summary Cumulative doses'!H76)","v":0},{"$f":"('Summary Cumulative doses'!I76)","v":0},{"$f":"('Summary Cumulative doses'!J76)","v":""},{"$f":"('Summary Cumulative doses'!K76)","v":""}]
["Polonium-210",{"$f":"('Summary Cumulative doses'!B77)","v":"-"},{"$f":"('Summary Cumulative doses'!C77)","v":0},{"$f":"('Summary Cumulative doses'!D77)","v":0},{"$f":"('Summary Cumulative doses'!E77)","v":0},{"$f":"('Summary Cumulative doses'!F77)","v":0},{"$f":"('Summary Cumulative doses'!G77)","v":0},{"$f":"('Summary Cumulative doses'!H77)","v":0},{"$f":"('Summary Cumulative doses'!I77)","v":0},{"$f":"('Summary Cumulative doses'!J77)","v":""},{"$f":"('Summary Cumulative doses'!K77)","v":""}]
["Radium-223",{"$f":"('Summary Cumulative doses'!B78)","v":"-"},{"$f":"('Summary Cumulative doses'!C78)","v":0},{"$f":"('Summary Cumulative doses'!D78)","v":0},{"$f":"('Summary Cumulative doses'!E78)","v":0},{"$f":"('Summary Cumulative doses'!F78)","v":0},{"$f":"('Summary Cumulative doses'!G78)","v":0},{"$f":"('Summary Cumulative doses'!H78)","v":0},{"$f":"('Summary Cumulative doses'!I78)","v":0},{"$f":"('Summary Cumulative doses'!J78)","v":""},{"$f":"('Summary Cumulative doses'!K78)","v":""}]
["Radium-226",{"$f":"('Summary Cumulative doses'!B79)","v":"-"},{"$f":"('Summary Cumulative doses'!C79)","v":0},{"$f":"('Summary Cumulative doses'!D79)","v":0},{"$f":"('Summary Cumulative doses'!E79)","v":0},{"$f":"('Summary Cumulative doses'!F79)","v":0},{"$f":"('Summary Cumulative doses'!G79)","v":0},{"$f":"('Summary Cumulative doses'!H79)","v":0},{"$f":"('Summary Cumulative doses'!I79)","v":0},{"$f":"('Summary Cumulative doses'!J79)","v":""},{"$f":"('Summary Cumulative doses'!K79)","v":""}]
["Thorium-230",{"$f":"('Summary Cumulative doses'!B80)","v":"-"},{"$f":"('Summary Cumulative doses'!C80)","v":0},{"$f":"('Summary Cumulative doses'!D80)","v":0},{"$f":"('Summary Cumulative doses'!E80)","v":0},{"$f":"('Summary Cumulative doses'!F80)","v":0},{"$f":"('Summary Cumulative doses'!G80)","v":0},{"$f":"('Summary Cumulative doses'!H80)","v":0},{"$f":"('Summary Cumulative doses'!I80)","v":0},{"$f":"('Summary Cumulative doses'!J80)","v":""},{"$f":"('Summary Cumulative doses'!K80)","v":""}]
["Thorium-232",{"$f":"('Summary Cumulative doses'!B81)","v":"-"},{"$f":"('Summary Cumulative doses'!C81)","v":0},{"$f":"('Summary Cumulative doses'!D81)","v":0},{"$f":"('Summary Cumulative doses'!E81)","v":0},{"$f":"('Summary Cumulative doses'!F81)","v":0},{"$f":"('Summary Cumulative doses'!G81)","v":0},{"$f":"('Summary Cumulative doses'!H81)","v":0},{"$f":"('Summary Cumulative doses'!I81)","v":0},{"$f":"('Summary Cumulative doses'!J81)","v":""},{"$f":"('Summary Cumulative doses'!K81)","v":""}]
["Thorium-234",{"$f":"('Summary Cumulative doses'!B82)","v":"-"},{"$f":"('Summary Cumulative doses'!C82)","v":0},{"$f":"('Summary Cumulative doses'!D82)","v":0},{"$f":"('Summary Cumulative doses'!E82)","v":0},{"$f":"('Summary Cumulative doses'!F82)","v":0},{"$f":"('Summary Cumulative doses'!G82)","v":0},{"$f":"('Summary Cumulative doses'!H82)","v":0},{"$f":"('Summary Cumulative doses'!I82)","v":0},{"$f":"('Summary Cumulative doses'!J82)","v":""},{"$f":"('Summary Cumulative doses'!K82)","v":""}]
["Uranium-234",{"$f":"('Summary Cumulative doses'!B83)","v":"-"},{"$f":"('Summary Cumulative doses'!C83)","v":0},{"$f":"('Summary Cumulative doses'!D83)","v":0},{"$f":"('Summary Cumulative doses'!E83)","v":0},{"$f":"('Summary Cumulative doses'!F83)","v":0},{"$f":"('Summary Cumulative doses'!G83)","v":0},{"$f":"('Summary Cumulative doses'!H83)","v":0},{"$f":"('Summary Cumulative doses'!I83)","v":0},{"$f":"('Summary Cumulative doses'!J83)","v":""},{"$f":"('Summary Cumulative doses'!K83)","v":""}]
["Uranium-235",{"$f":"('Summary Cumulative doses'!B84)","v":"-"},{"$f":"('Summary Cumulative doses'!C84)","v":0},{"$f":"('Summary Cumulative doses'!D84)","v":0},{"$f":"('Summary Cumulative doses'!E84)","v":0},{"$f":"('Summary Cumulative doses'!F84)","v":0},{"$f":"('Summary Cumulative doses'!G84)","v":0},{"$f":"('Summary Cumulative doses'!H84)","v":0},{"$f":"('Summary Cumulative doses'!I84)","v":0},{"$f":"('Summary Cumulative doses'!J84)","v":""},{"$f":"('Summary Cumulative doses'!K84)","v":""}]
["Uranium-238",{"$f":"('Summary Cumulative doses'!B85)","v":"-"},{"$f":"('Summary Cumulative doses'!C85)","v":0},{"$f":"('Summary Cumulative doses'!D85)","v":0},{"$f":"('Summary Cumulative doses'!E85)","v":0},{"$f":"('Summary Cumulative doses'!F85)","v":0},{"$f":"('Summary Cumulative doses'!G85)","v":0},{"$f":"('Summary Cumulative doses'!H85)","v":0},{"$f":"('Summary Cumulative doses'!I85)","v":0},{"$f":"('Summary Cumulative doses'!J85)","v":""},{"$f":"('Summary Cumulative doses'!K85)","v":""}]
["Neptunium-237",{"$f":"('Summary Cumulative doses'!B86)","v":"-"},{"$f":"('Summary Cumulative doses'!C86)","v":0},{"$f":"('Summary Cumulative doses'!D86)","v":0},{"$f":"('Summary Cumulative doses'!E86)","v":0},{"$f":"('Summary Cumulative doses'!F86)","v":0},{"$f":"('Summary Cumulative doses'!G86)","v":0},{"$f":"('Summary Cumulative doses'!H86)","v":0},{"$f":"('Summary Cumulative doses'!I86)","v":0},{"$f":"('Summary Cumulative doses'!J86)","v":""},{"$f":"('Summary Cumulative doses'!K86)","v":""}]
["Plutonium-238",{"$f":"('Summary Cumulative doses'!B87)","v":"-"},{"$f":"('Summary Cumulative doses'!C87)","v":0},{"$f":"('Summary Cumulative doses'!D87)","v":0},{"$f":"('Summary Cumulative doses'!E87)","v":0},{"$f":"('Summary Cumulative doses'!F87)","v":0},{"$f":"('Summary Cumulative doses'!G87)","v":0},{"$f":"('Summary Cumulative doses'!H87)","v":0},{"$f":"('Summary Cumulative doses'!I87)","v":0},{"$f":"('Summary Cumulative doses'!J87)","v":""},{"$f":"('Summary Cumulative doses'!K87)","v":""}]
["Plutonium-239",{"$f":"('Summary Cumulative doses'!B88)","v":"-"},{"$f":"('Summary Cumulative doses'!C88)","v":0},{"$f":"('Summary Cumulative doses'!D88)","v":0},{"$f":"('Summary Cumulative doses'!E88)","v":0},{"$f":"('Summary Cumulative doses'!F88)","v":0},{"$f":"('Summary Cumulative doses'!G88)","v":0},{"$f":"('Summary Cumulative doses'!H88)","v":0},{"$f":"('Summary Cumulative doses'!I88)","v":0},{"$f":"('Summary Cumulative doses'!J88)","v":""},{"$f":"('Summary Cumulative doses'!K88)","v":""}]
["Plutonium-240",{"$f":"('Summary Cumulative doses'!B89)","v":"-"},{"$f":"('Summary Cumulative doses'!C89)","v":0},{"$f":"('Summary Cumulative doses'!D89)","v":0},{"$f":"('Summary Cumulative doses'!E89)","v":0},{"$f":"('Summary Cumulative doses'!F89)","v":0},{"$f":"('Summary Cumulative doses'!G89)","v":0},{"$f":"('Summary Cumulative doses'!H89)","v":0},{"$f":"('Summary Cumulative doses'!I89)","v":0},{"$f":"('Summary Cumulative doses'!J89)","v":""},{"$f":"('Summary Cumulative doses'!K89)","v":""}]
["Plutonium-241",{"$f":"('Summary Cumulative doses'!B90)","v":"-"},{"$f":"('Summary Cumulative doses'!C90)","v":0},{"$f":"('Summary Cumulative doses'!D90)","v":0},{"$f":"('Summary Cumulative doses'!E90)","v":0},{"$f":"('Summary Cumulative doses'!F90)","v":0},{"$f":"('Summary Cumulative doses'!G90)","v":0},{"$f":"('Summary Cumulative doses'!H90)","v":0},{"$f":"('Summary Cumulative doses'!I90)","v":0},{"$f":"('Summary Cumulative doses'!J90)","v":""},{"$f":"('Summary Cumulative doses'!K90)","v":""}]
["Plutonium-242",{"$f":"('Summary Cumulative doses'!B91)","v":"-"},{"$f":"('Summary Cumulative doses'!C91)","v":0},{"$f":"('Summary Cumulative doses'!D91)","v":0},{"$f":"('Summary Cumulative doses'!E91)","v":0},{"$f":"('Summary Cumulative doses'!F91)","v":0},{"$f":"('Summary Cumulative doses'!G91)","v":0},{"$f":"('Summary Cumulative doses'!H91)","v":0},{"$f":"('Summary Cumulative doses'!I91)","v":0},{"$f":"('Summary Cumulative doses'!J91)","v":""},{"$f":"('Summary Cumulative doses'!K91)","v":""}]
["Americium-241",{"$f":"('Summary Cumulative doses'!B92)","v":"-"},{"$f":"('Summary Cumulative doses'!C92)","v":0},{"$f":"('Summary Cumulative doses'!D92)","v":0},{"$f":"('Summary Cumulative doses'!E92)","v":0},{"$f":"('Summary Cumulative doses'!F92)","v":0},{"$f":"('Summary Cumulative doses'!G92)","v":0},{"$f":"('Summary Cumulative doses'!H92)","v":0},{"$f":"('Summary Cumulative doses'!I92)","v":0},{"$f":"('Summary Cumulative doses'!J92)","v":""},{"$f":"('Summary Cumulative doses'!K92)","v":""}]
["Americium-242",{"$f":"('Summary Cumulative doses'!B93)","v":"-"},{"$f":"('Summary Cumulative doses'!C93)","v":0},{"$f":"('Summary Cumulative doses'!D93)","v":0},{"$f":"('Summary Cumulative doses'!E93)","v":0},{"$f":"('Summary Cumulative doses'!F93)","v":0},{"$f":"('Summary Cumulative doses'!G93)","v":0},{"$f":"('Summary Cumulative doses'!H93)","v":0},{"$f":"('Summary Cumulative doses'!I93)","v":0},{"$f":"('Summary Cumulative doses'!J93)","v":""},{"$f":"('Summary Cumulative doses'!K93)","v":""}]
["Americium-243",{"$f":"('Summary Cumulative doses'!B94)","v":"-"},{"$f":"('Summary Cumulative doses'!C94)","v":0},{"$f":"('Summary Cumulative doses'!D94)","v":0},{"$f":"('Summary Cumulative doses'!E94)","v":0},{"$f":"('Summary Cumulative doses'!F94)","v":0},{"$f":"('Summary Cumulative doses'!G94)","v":0},{"$f":"('Summary Cumulative doses'!H94)","v":0},{"$f":"('Summary Cumulative doses'!I94)","v":0},{"$f":"('Summary Cumulative doses'!J94)","v":""},{"$f":"('Summary Cumulative doses'!K94)","v":""}]
["Curium-242",{"$f":"('Summary Cumulative doses'!B95)","v":"-"},{"$f":"('Summary Cumulative doses'!C95)","v":0},{"$f":"('Summary Cumulative doses'!D95)","v":0},{"$f":"('Summary Cumulative doses'!E95)","v":0},{"$f":"('Summary Cumulative doses'!F95)","v":0},{"$f":"('Summary Cumulative doses'!G95)","v":0},{"$f":"('Summary Cumulative doses'!H95)","v":0},{"$f":"('Summary Cumulative doses'!I95)","v":0},{"$f":"('Summary Cumulative doses'!J95)","v":""},{"$f":"('Summary Cumulative doses'!K95)","v":""}]
["Curium-243",{"$f":"('Summary Cumulative doses'!B96)","v":"-"},{"$f":"('Summary Cumulative doses'!C96)","v":0},{"$f":"('Summary Cumulative doses'!D96)","v":0},{"$f":"('Summary Cumulative doses'!E96)","v":0},{"$f":"('Summary Cumulative doses'!F96)","v":0},{"$f":"('Summary Cumulative doses'!G96)","v":0},{"$f":"('Summary Cumulative doses'!H96)","v":0},{"$f":"('Summary Cumulative doses'!I96)","v":0},{"$f":"('Summary Cumulative doses'!J96)","v":""},{"$f":"('Summary Cumulative doses'!K96)","v":""}]
["Curium-244",{"$f":"('Summary Cumulative doses'!B97)","v":"-"},{"$f":"('Summary Cumulative doses'!C97)","v":0},{"$f":"('Summary Cumulative doses'!D97)","v":0},{"$f":"('Summary Cumulative doses'!E97)","v":0},{"$f":"('Summary Cumulative doses'!F97)","v":0},{"$f":"('Summary Cumulative doses'!G97)","v":0},{"$f":"('Summary Cumulative doses'!H97)","v":0},{"$f":"('Summary Cumulative doses'!I97)","v":0},{"$f":"('Summary Cumulative doses'!J97)","v":""},{"$f":"('Summary Cumulative doses'!K97)","v":""}]
["Other alpha-emitting nuclides",{"$f":"('Summary Cumulative doses'!B98)","v":"Radium-226"},{"$f":"('Summary Cumulative doses'!C98)","v":0},{"$f":"('Summary Cumulative doses'!D98)","v":0},{"$f":"('Summary Cumulative doses'!E98)","v":0},{"$f":"('Summary Cumulative doses'!F98)","v":0},{"$f":"('Summary Cumulative doses'!G98)","v":0},{"$f":"('Summary Cumulative doses'!H98)","v":0},{"$f":"('Summary Cumulative doses'!I98)","v":0},{"$f":"('Summary Cumulative doses'!J98)","v":""},{"$f":"('Summary Cumulative doses'!K98)","v":""}]
["Other beta/gamma-emitting nuclides",{"$f":"('Summary Cumulative doses'!B99)","v":"Caesium-137"},{"$f":"('Summary Cumulative doses'!C99)","v":0},{"$f":"('Summary Cumulative doses'!D99)","v":0},{"$f":"('Summary Cumulative doses'!E99)","v":0},{"$f":"('Summary Cumulative doses'!F99)","v":0},{"$f":"('Summary Cumulative doses'!G99)","v":0},{"$f":"('Summary Cumulative doses'!H99)","v":0},{"$f":"('Summary Cumulative doses'!I99)","v":0},{"$f":"('Summary Cumulative doses'!J99)","v":""},{"$f":"('Summary Cumulative doses'!K99)","v":""}]
[]
["Notes:"]
[]
[]
[]
[]
[]
[]
[]
[]
[]
[]
[]
[]
[]
[]
[null,null,null,null,"PAGE 2"]

{"sheet":"Summary Cumulative doses Wildli","index":7,"n_rows":98,"n_cols":10,"rows_kept":98,"cut":false,"hidden":false,"merged":[[2,3,3,3],[2,8,3,8]]}
["Wildlife Summary Total Doses"]
[]
["Radionuclide","Surrogate radionuclide","River Wildlife Cumulative dose","River Worst affected organisms",null,"Radionuclide","Surrogate radionuclide","Estuary Wildlife Cumulative dose","Estuary Worst affected organisms"]
[null,null,"microGy/h",null,null,null,null,{"$f":"(C4)","v":"microGy/h"}]
["Tritium","-",0,"Amphibian ; Aqu. mammal; Atlantic salmon; Avocet ; Bacteria ; Bar-tailed godwit; Benthic fish; Benthic mollusc; Bewicks swan; Bittern ; Black-tailed godwit; Brent goose; Brook lamprey; Bullhead ; Common scoter; Cormorant ; Curlew ; Desmoulins whorl snail ; Duck ; Dunlin ; Early gentian; Fen orchid; Gadwall ; Golden plover; Great crested grebe ; Great crested newt ; Grey plover; Hen harrier (female) ; Hen harrier (male) ; Knot ; Lapwing ; Large b. crust. ; Lesser blackbacked gull (male); Lesser blackbacked gull (female); Macrophyte ; Marsh harrier; Mediterraneangull ; Natterjack toad; Otter (male and female); Oystercatcher ; Pelagic fish; Phytoplankton ; Pink-footed goose; Pintail ; Redshank ; Ringed plover; River lamprey; Ruff ; Sanderling ; Scaup ; Sea lamprey; Shelduck (male); Allis shad; Shelduck (female); Shoveler ; Small b. crust. ; Snipe ; Southern damselfly; Spined loach; Teal (male); Teal (female); Tufted duck (male) ; Tufted duck (female) ; Turnstone ; Twaite shad; White-fronted goose; Whooper swan; Wigeon ; Zooplankton ",null,"Tritium","-",0,"Grey _seal ; Whale ; Allis _shad ; Atlantic _salmon ; Avocet;  Bacteria;  Bar-tailed _godwit ; Benthic _fish ; Benthic _mollusc ; Bewicks _swan ; Bittern;  Black-tailed _godwit ; Brent _goose ; Chough;  Common _scoter ; Common _seal ; Common _tern ; Cormorant;  Curlew;  Dunlin;  Fish _egg ; Gadwall;  Gannet;  Golden _plover ; Great _crested ; Grey _plover ; Gulliemot;  Hen _harrier ; Kittewake;  Knot;  Lapwing;  Large _b. ; Little _tern ; Macrophyte;  Manx _shearwater ; Marsh _harrier ; Mediterranean _gull ; Otter _(female) ; Otter _(male) ; Oystercatcher;  Pelagic _fish ; Peregrine;  Phytoplankton;  Pink-footed _goose ; Pintail;  Puffin;  Razorbill;  Redshank;  Ringed _plover ; River _lamprey ; Ruff;  Sanderling;  Sandwich _tern ; Scaup;  Sea _lamprey ; Seabird;  Seal;  Shelduck _(female) ; Shelduck _(male) ; Small _b. ; Snipe;  Storm _petrel ; Teal ; Tufted _duck ; Tufted _duck ; Turnstone ; Twaite _shad ; White-fronted _goose",{"$f":"(C5+H5)","v":0}]
["Tritium (Organically Bound)","-",0,"Aqu. mammal; Avocet ; Bar-tailed godwit; Benthic mollusc; Bewicks swan; Bittern ; Black-tailed godwit; Brent goose; Common scoter; Cormorant ; Curlew ; Desmoulins whorl snail ; Duck ; Dunlin ; Gadwall ; Golden plover; Great crested grebe ; Great crested newt ; Grey plover; Hen harrier (female) ; Hen harrier (male) ; Knot ; Lapwing ; Large b. crust. ; Lesser blackbacked gull (female); Lesser blackbacked gull (male); Marsh harrier; Mediterraneangull ; Natterjack toad; Otter (male and female); Oystercatcher ; Pink-footed goose; Pintail ; Redshank ; Ringed plover; Ruff ; Sanderling ; Scaup ; Shelduck (female); Shelduck (male); Shoveler ; Snipe ; Southern damselfly; Teal (female); Teal (male); Tufted duck (female) ; Tufted duck (male) ; Turnstone ; White-fronted goose; Whooper swan; Wigeon ",null,"Tritium (Organically Bound)","-",0,"Grey _seal ; Twaite _shad ; Allis _shad ; Atlantic _salmon ; Avocet;  Bacteria;  Bar-tailed _godwit ; Benthic _fish ; Benthic _mollusc ; Bewicks _swan ; Bittern;  Black-tailed _godwit ; Brent _goose ; Chough;  Common _scoter ; Common _seal ; Common _tern ; Cormorant;  Curlew;  Dunlin;  Fish _egg ; Gadwall;  Gannet;  Golden _plover ; Great _crested ; Grey _plover ; Gulliemot;  Hen _harrier ; Kittewake;  Knot;  Lapwing;  Large _b. ; Lesser _blackbacked ; Little _tern ; Macrophyte;  Manx _shearwater ; Marsh _harrier ; Mediterranean _gull ; Otter _(female) ; Otter _(male) ; Oystercatcher;  Pelagic _fish ; Peregrine;  Phytoplankton;  Pink-footed _goose ; Pintail;  Puffin;  Razorbill;  Redshank;  Ringed _plover ; River _lamprey ; Ruff;  Sanderling;  Sandwich _tern ; Scaup;  Sea _lamprey ; Seabird;  Seal;  Shelduck _(female) ; Shelduck _(male) ; Small _b. ; Snipe;  Storm _petrel ; Teal ; Tufted _duck ; Tufted _duck ; Turnstone ; Whale",0]
["Carbon-11","-",0,"None",null,"Carbon-11","-",0,"None",0]
["Carbon-14","-",0,"Amphibian ; Aqu. mammal; Avocet ; Bar-tailed godwit; Benthic mollusc; Bewicks swan; Bittern ; Black-tailed godwit; Brent goose; Common scoter; Cormorant ; Curlew ; Desmoulins whorl snail ; Duck ; Dunlin ; Gadwall ; Golden plover; Great crested grebe ; Great crested newt ; Grey plover; Hen harrier (female) ; Hen harrier (male) ; Knot ; Lapwing ; Large b. crust. ; Lesser blackbacked gull (female); Lesser blackbacked gull (male); Marsh harrier; Mediterraneangull ; Natterjack toad; Otter (male and female); Oystercatcher ; Pink-footed goose; Pintail ; Redshank ; Ringed plover; Ruff ; Sanderling ; Scaup ; Shelduck (female); Shelduck (male); Shoveler ; Snipe ; Southern damselfly; Teal (female); Teal (male); Tufted duck (female) ; Tufted duck (male) ; Turnstone ; White-fronted goose; Whooper swan; Wigeon  ",null,"Carbon-14","-",0,"Allis _shad ; Atlantic _salmon ; Avocet;  Bar-tailed _godwit ; Benthic _fish ; Benthic _mollusc ; Bewicks _swan ; Bittern;  Black-tailed _godwit ; Brent _goose ; Chough;  Common _scoter ; Common _seal ; Common _tern ; Cormorant;  Curlew;  Dunlin;  Gadwall;  Gannet;  Golden _plover ; Great _crested ; Grey _plover ; Grey _seal ; Gulliemot;  Hen _harrier ; Kittewake;  Knot;  Lapwing;  Large _b. ; Lesser _blackbacked ; Little _tern ; Manx _shearwater ; Marsh _harrier ; Mediterranean _gull ; Otter _(female) ; Otter _(male) ; Oystercatcher;  Pelagic _fish ; Peregrine;  Pink-footed _goose ; Pintail;  Puffin;  Razorbill;  Redshank;  Ringed _plover ; River _lamprey ; Ruff;  Sanderling;  Sandwich _tern ; Scaup;  Sea _lamprey ; Seabird;  Seal;  Shelduck _(female) ; Shelduck _(male) ; Snipe;  Storm _petrel ; Teal ; Tufted _duck ; Tufted _duck ; Turnstone ; Twaite _shad ; Whale ; White-fronted _goose ; ;  ",0]
["Fluorine-18","Sodium-24",0,"Amphibian ; Aqu. mammal; Avocet ; Bar-tailed godwit; Z; Bewicks swan; Bittern ; Black-tailed godwit; Brent goose; Common scoter; Cormorant ; Curlew ; Z; Duck ; Dunlin ; Gadwall ; Golden plover; Great crested grebe ; Great crested newt ; Grey plover; Hen harrier (female) ; Hen harrier (male) ; Knot ; Lapwing ; Z; Lesser blackbacked gull (female); Lesser blackbacked gull (male); Marsh harrier; Mediterraneangull ; Natterjack toad; Otter (male and female); Oystercatcher ; Pink-footed goose; Pintail ; Redshank ; Ringed plover; Ruff ; Sanderling ; Scaup ; Shelduck (female); Shelduck (male); Shoveler ; Snipe ; Z; Teal (female); Teal (male); Tufted duck (female) ; Tufted duck (male) ; Turnstone ; White-fronted goose; Whooper swan; Wigeon  ",null,"Fluorine-18","Sodium-24",0,"Bewicks _swan ; Bittern;  Chough;  Common _seal ; Cormorant;  Grey _seal ; Lapwing;  Otter _(male) ; Pink-footed _goose ; Scaup;  Seal;  Whale ; ",0]
["Sodium-22","-",0,"Brook lamprey; Golden plover; Grey plover; Knot ; Lapwing ; Otter (male and female); Pink-footed goose; Ruff ; Sanderling ; Sea lamprey; Snipe ; White-fronted goose                 ",null,"Sodium-22","-",0,"Grey _seal ; Whale ",0]
["Sodium-24","-",0,"Brook lamprey; Golden plover; Grey plover; Knot ; Lapwing ; Otter (male and female); Pink-footed goose; Ruff ; Sanderling ; Sea lamprey; Snipe ; White-fronted goose                 ",null,"Sodium-24","-",0,"Grey _seal ; Whale ",0]
["Phosphorus-32","-",0,"Brook lamprey; Golden plover; Grey plover; Knot ; Lapwing ; Otter (male and female); Pink-footed goose; Ruff ; Sanderling ; Sea lamprey; Snipe ; White-fronted goose                 ",null,"Phosphorus-32","-",0,"Allis _shad ; Atlantic _salmon ; Avocet;  Bar-tailed _godwit ; Benthic _fish ; Benthic _mollusc ; Bewicks _swan ; Bittern;  Black-tailed _godwit ; Brent _goose ; Chough;  Common _scoter ; Common _seal ; Common _tern ; Cormorant;  Curlew;  Dunlin;  Gadwall;  Gannet;  Golden _plover ; Great _crested ; Grey _plover ; Grey _seal ; Gulliemot;  Hen _harrier ; Kittewake;  Knot;  Lapwing;  Large _b. ; Lesser _blackbacked ; Little _tern ; Manx _shearwater ; Marsh _harrier ; Mediterranean _gull ; Otter _(female) ; Otter _(male) ; Oystercatcher;  Pelagic _fish ; Peregrine;  Pink-footed _goose ; Pintail;  Puffin;  Razorbill;  Redshank;  Ringed _plover ; River _lamprey ; Ruff;  Sanderling;  Sandwich _tern ; Scaup;  Sea _lamprey ; Seabird;  Seal;  Shelduck _(female) ; Shelduck _(male) ; Snipe;  Storm _petrel ; Teal ; Tufted _duck ; Tufted _duck ; Turnstone ; Twaite _shad ; Whale ; White-fronted _goose ; ;  ",0]
["Phosphorus-33","-",0,"Brook lamprey; Golden plover; Grey plover; Knot ; Lapwing ; Otter (male and female); Pink-footed goose; Ruff ; Sanderling ; Sea lamprey; Snipe ; White-fronted goose                 ",null,"Phosphorus-33","-",0,"Allis _shad ; Atlantic _salmon ; Avocet;  Bar-tailed _godwit ; Benthic _fish ; Benthic _mollusc ; Bewicks _swan ; Bittern;  Black-tailed _godwit ; Brent _goose ; Chough;  Common _scoter ; Common _seal ; Common _tern ; Cormorant;  Curlew;  Dunlin;  Gadwall;  Gannet;  Golden _plover ; Great _crested ; Grey _plover ; Grey _seal ; Gulliemot;  Hen _harrier ; Kittewake;  Knot;  Lapwing;  Large _b. ; Lesser _blackbacked ; Little _tern ; Manx _shearwater ; Marsh _harrier ; Mediterranean _gull ; Otter _(female) ; Otter _(male) ; Oystercatcher;  Pelagic _fish ; Peregrine;  Pink-footed _goose ; Pintail;  Puffin;  Razorbill;  Redshank;  Ringed _plover ; River _lamprey ; Ruff;  Sanderling;  Sandwich _tern ; Scaup;  Sea _lamprey ; Seabird;  Seal;  Shelduck _(female) ; Shelduck _(male) ; Snipe;  Storm _petrel ; Teal ; Tufted _duck ; Tufted _duck ; Turnstone ; Twaite _shad ; Whale ; White-fronted _goose ; ;  ",0]
["Sulphur-35","-",0,"Amphibian ; Aqu. mammal; Avocet ; Bar-tailed godwit; Benthic mollusc; Bewicks swan; Bittern ; Black-tailed godwit; Brent goose; Common scoter; Cormorant ; Curlew ; Desmoulins whorl snail ; Duck ; Dunlin ; Gadwall ; Golden plover; Great crested grebe ; Great crested newt ; Grey plover; Hen harrier (female) ; Hen harrier (male) ; Knot ; Lapwing ; Large b. crust. ; Lesser blackbacked gull (female); Lesser blackbacked gull (male); Marsh harrier; Mediterraneangull ; Natterjack toad; Otter (male and female); Oystercatcher ; Pink-footed goose; Pintail ; Redshank ; Ringed plover; Ruff ; Sanderling ; Scaup ; Shelduck (female); Shelduck (male); Shoveler ; Snipe ; Southern damselfly; Teal (female); Teal (male); Tufted duck (female) ; Tufted duck (male) ; Turnstone ; White-fronted goose; Whooper swan; Wigeon  ",null,"Sulphur-35","-",0,"Grey _seal ; Whale ",0]
["Chlorine-36","-",0,"Bewicks swan; Bittern ; Common scoter; Cormorant ; Duck ; Dunlin ; Golden plover; Grey plover; Knot ; Lapwing ; Otter (male and female); Pink-footed goose; Ruff ; Sanderling ; Scaup ; Shelduck (male); Snipe ; Tufted duck (male) ; White-fronted goose; Whooper swan             ",null,"Chlorine-36","-",0,"Grey _seal ; Whale ",0]
["Calcium-45","-",0,"Amphibian ; Avocet ; Bar-tailed godwit; Bewicks swan; Bittern ; Black-tailed godwit; Brent goose; Common scoter; Cormorant ; Curlew ; Duck ; Dunlin ; Gadwall ; Golden plover; Great crested grebe ; Great crested newt ; Grey plover; Hen harrier (female) ; Hen harrier (male) ; Knot ; Lapwing ; Lesser blackbacked gull (female); Lesser blackbacked gull (male); Marsh harrier; Mediterraneangull ; Natterjack toad; Otter (male and female); Oystercatcher ; Pink-footed goose; Pintail ; Redshank ; Ringed plover; Ruff ; Sanderling ; Scaup ; Shelduck (female); Shelduck (male); Shoveler ; Snipe ; Teal (female); Teal (male); Tufted duck (female) ; Tufted duck (male) ; Turnstone ; White-fronted goose; Whooper swan; Wigeon    ; ",null,"Calcium-45","-",0,"Grey _seal ",0]
["Calcium-47","-",0,"Amphibian ; Avocet ; Bar-tailed godwit; Bewicks swan; Bittern ; Black-tailed godwit; Brent goose; Common scoter; Cormorant ; Curlew ; Duck ; Dunlin ; Gadwall ; Golden plover; Great crested grebe ; Great crested newt ; Grey plover; Hen harrier (female) ; Hen harrier (male) ; Knot ; Lapwing ; Lesser blackbacked gull (female); Lesser blackbacked gull (male); Marsh harrier; Mediterraneangull ; Natterjack toad; Otter (male and female); Oystercatcher ; Pink-footed goose; Pintail ; Redshank ; Ringed plover; Ruff ; Sanderling ; Scaup ; Shelduck (female); Shelduck (male); Shoveler ; Snipe ; Teal (female); Teal (male); Tufted duck (female) ; Tufted duck (male) ; Turnstone ; White-fronted goose; Whooper swan; Wigeon    ; ",null,"Calcium-47","-",0,"Grey _seal ",0]
["Vanadium-48","-",0,"Brook lamprey; Golden plover; Grey plover; Knot ; Lapwing ; Otter (male and female); Pink-footed goose; Ruff ; Sanderling ; Sea lamprey; Snipe ; White-fronted goose                 ",null,"Vanadium-48","-",0,"Grey _seal ; Whale ",0]
["Chromium-51","-",0,"Bacteria                                   ",null,"Chromium-51","-",0,"Allis _shad ; Atlantic _salmon ; Avocet;  Bar-tailed _godwit ; Benthic _fish ; Benthic _mollusc ; Bewicks _swan ; Bittern;  Black-tailed _godwit ; Brent _goose ; Chough;  Common _scoter ; Common _seal ; Common _tern ; Cormorant;  Curlew;  Dunlin;  Fish _egg ; Gadwall;  Gannet;  Golden _plover ; Great _crested ; Grey _plover ; Grey _seal ; Gulliemot;  Hen _harrier ; Kittewake;  Knot;  Lapwing;  Large _b. ; Lesser _blackbacked ; Little _tern ; Manx _shearwater ; Marsh _harrier ; Mediterranean _gull ; Otter _(female) ; Otter _(male) ; Oystercatcher;  Pelagic _fish ; Peregrine;  Pink-footed _goose ; Pintail;  Puffin;  Razorbill;  Redshank;  Ringed _plover ; River _lamprey ; Ruff;  Sanderling;  Sandwich _tern ; Scaup;  Sea _lamprey ; Seabird;  Seal;  Shelduck _(female) ; Shelduck _(male) ; Small _b. ; Snipe;  Storm _petrel ; Teal ; Tufted _duck ; Tufted _duck ; Turnstone ; Twaite _shad ; Whale ; White-fronted _goose ;;  ",0]
["Manganese-52","-",0,"Bacteria                                   ",null,"Manganese-52","-",0,"Allis _shad ; Atlantic _salmon ; Avocet;  Bar-tailed _godwit ; Benthic _fish ; Benthic _mollusc ; Bewicks _swan ; Bittern;  Black-tailed _godwit ; Brent _goose ; Chough;  Common _scoter ; Common _seal ; Common _tern ; Cormorant;  Curlew;  Dunlin;  Fish _egg ; Gadwall;  Gannet;  Golden _plover ; Great _crested ; Grey _plover ; Grey _seal ; Gulliemot;  Hen _harrier ; Kittewake;  Knot;  Lapwing;  Large _b. ; Lesser _blackbacked ; Little _tern ; Manx _shearwater ; Marsh _harrier ; Mediterranean _gull ; Otter _(female) ; Otter _(male) ; Oystercatcher;  Pelagic _fish ; Peregrine;  Pink-footed _goose ; Pintail;  Puffin;  Razorbill;  Redshank;  Ringed _plover ; River _lamprey ; Ruff;  Sanderling;  Sandwich _tern ; Scaup;  Sea _lamprey ; Seabird;  Seal;  Shelduck _(female) ; Shelduck _(male) ; Small _b. ; Snipe;  Storm _petrel ; Teal ; Tufted _duck ; Tufted _duck ; Turnstone ; Twaite _shad ; Whale ; White-fronted _goose ;;  ",0]
["Manganese-54","-",0,"Bacteria                                   ",null,"Manganese-54","-",0,"Allis _shad ; Atlantic _salmon ; Avocet;  Bar-tailed _godwit ; Benthic _fish ; Benthic _mollusc ; Bewicks _swan ; Bittern;  Black-tailed _godwit ; Brent _goose ; Chough;  Common _scoter ; Common _seal ; Common _tern ; Cormorant;  Curlew;  Dunlin;  Fish _egg ; Gadwall;  Gannet;  Golden _plover ; Great _crested ; Grey _plover ; Grey _seal ; Gulliemot;  Hen _harrier ; Kittewake;  Knot;  Lapwing;  Large _b. ; Lesser _blackbacked ; Little _tern ; Manx _shearwater ; Marsh _harrier ; Mediterranean _gull ; Otter _(female) ; Otter _(male) ; Oystercatcher;  Pelagic _fish ; Peregrine;  Pink-footed _goose ; Pintail;  Puffin;  Razorbill;  Redshank;  Ringed _plover ; River _lamprey ; Ruff;  Sanderling;  Sandwich _tern ; Scaup;  Sea _lamprey ; Seabird;  Seal;  Shelduck _(female) ; Shelduck _(male) ; Small _b. ; Snipe;  Storm _petrel ; Teal ; Tufted _duck ; Tufted _duck ; Turnstone ; Twaite _shad ; Whale ; White-fronted _goose ;;  ",0]
["Manganese-56","Manganese-54",0,"Amphibian ; Aqu. mammal; Avocet ; Bar-tailed godwit; Z; Bewicks swan; Bittern ; Black-tailed godwit; Brent goose; Common scoter; Cormorant ; Curlew ; Z; Duck ; Dunlin ; Gadwall ; Golden plover; Great crested grebe ; Great crested newt ; Grey plover; Hen harrier (female) ; Hen harrier (male) ; Knot ; Lapwing ; Z; Lesser blackbacked gull (female); Lesser blackbacked gull (male); Marsh harrier; Mediterraneangull ; Natterjack toad; Otter (male and female); Oystercatcher ; Pink-footed goose; Pintail ; Redshank ; Ringed plover; Ruff ; Sanderling ; Scaup ; Shelduck (female); Shelduck (male); Shoveler ; Snipe ; Z; Teal (female); Teal (male); Tufted duck (female) ; Tufted duck (male) ; Turnstone ; White-fronted goose; Whooper swan; Wigeon  ",null,"Manganese-56","Manganese-54",0,"Bewicks _swan ; Bittern;  Chough;  Common _seal ; Cormorant;  Grey _seal ; Lapwing;  Otter _(male) ; Pink-footed _goose ; Scaup;  Seal;  Whale ; ",0]
["Iron-55","-",0,"Bacteria                                   ",null,"Iron-55","-",0,"Allis _shad ; Atlantic _salmon ; Avocet;  Bar-tailed _godwit ; Benthic _fish ; Benthic _mollusc ; Bewicks _swan ; Bittern;  Black-tailed _godwit ; Brent _goose ; Chough;  Common _scoter ; Common _seal ; Common _tern ; Cormorant;  Curlew;  Dunlin;  Fish _egg ; Gadwall;  Gannet;  Golden _plover ; Great _crested ; Grey _plover ; Grey _seal ; Gulliemot;  Hen _harrier ; Kittewake;  Knot;  Lapwing;  Large _b. ; Lesser _blackbacked ; Little _tern ; Manx _shearwater ; Marsh _harrier ; Mediterranean _gull ; Otter _(female) ; Otter _(male) ; Oystercatcher;  Pelagic _fish ; Peregrine;  Pink-footed _goose ; Pintail;  Puffin;  Razorbill;  Redshank;  Ringed _plover ; River _lamprey ; Ruff;  Sanderling;  Sandwich _tern ; Scaup;  Sea _lamprey ; Seabird;  Seal;  Shelduck _(female) ; Shelduck _(male) ; Small _b. ; Snipe;  Storm _petrel ; Teal ; Tufted _duck ; Tufted _duck ; Turnstone ; Twaite _shad ; Whale ; White-fronted _goose ;;  ",0]
["Iron-59","-",0,"Bacteria                                   ",null,"Iron-59","-",0,"Allis _shad ; Atlantic _salmon ; Avocet;  Bar-tailed _godwit ; Benthic _fish ; Benthic _mollusc ; Bewicks _swan ; Bittern;  Black-tailed _godwit ; Brent _goose ; Chough;  Common _scoter ; Common _seal ; Common _tern ; Cormorant;  Curlew;  Dunlin;  Fish _egg ; Gadwall;  Gannet;  Golden _plover ; Great _crested ; Grey _plover ; Grey _seal ; Gulliemot;  Hen _harrier ; Kittewake;  Knot;  Lapwing;  Large _b. ; Lesser _blackbacked ; Little _tern ; Manx _shearwater ; Marsh _harrier ; Mediterranean _gull ; Otter _(female) ; Otter _(male) ; Oystercatcher;  Pelagic _fish ; Peregrine;  Pink-footed _goose ; Pintail;  Puffin;  Razorbill;  Redshank;  Ringed _plover ; River _lamprey ; Ruff;  Sanderling;  Sandwich _tern ; Scaup;  Sea _lamprey ; Seabird;  Seal;  Shelduck _(female) ; Shelduck _(male) ; Small _b. ; Snipe;  Storm _petrel ; Teal ; Tufted _duck ; Tufted _duck ; Turnstone ; Twaite _shad ; Whale ; White-fronted _goose ;;  ",0]
["Cobalt-56","-",0,"Bacteria                                   ",null,"Cobalt-56","-",0,"Allis _shad ; Atlantic _salmon ; Avocet;  Bar-tailed _godwit ; Benthic _fish ; Benthic _mollusc ; Bewicks _swan ; Bittern;  Black-tailed _godwit ; Brent _goose ; Chough;  Common _scoter ; Common _seal ; Common _tern ; Cormorant;  Curlew;  Dunlin;  Fish _egg ; Gadwall;  Gannet;  Golden _plover ; Great _crested ; Grey _plover ; Grey _seal ; Gulliemot;  Hen _harrier ; Kittewake;  Knot;  Lapwing;  Large _b. ; Lesser _blackbacked ; Little _tern ; Manx _shearwater ; Marsh _harrier ; Mediterranean _gull ; Otter _(female) ; Otter _(male) ; Oystercatcher;  Pelagic _fish ; Peregrine;  Pink-footed _goose ; Pintail;  Puffin;  Razorbill;  Redshank;  Ringed _plover ; River _lamprey ; Ruff;  Sanderling;  Sandwich _tern ; Scaup;  Sea _lamprey ; Seabird;  Seal;  Shelduck _(female) ; Shelduck _(male) ; Small _b. ; Snipe;  Storm _petrel ; Teal ; Tufted _duck ; Tufted _duck ; Turnstone ; Twaite _shad ; Whale ; White-fronted _goose ;;  ",0]
["Cobalt-57","-",0,"Bacteria                                   ",null,"Cobalt-57","-",0,"Allis _shad ; Atlantic _salmon ; Avocet;  Bar-tailed _godwit ; Benthic _fish ; Benthic _mollusc ; Bewicks _swan ; Bittern;  Black-tailed _godwit ; Brent _goose ; Chough;  Common _scoter ; Common _seal ; Common _tern ; Cormorant;  Curlew;  Dunlin;  Fish _egg ; Gadwall;  Gannet;  Golden _plover ; Great _crested ; Grey _plover ; Grey _seal ; Gulliemot;  Hen _harrier ; Kittewake;  Knot;  Lapwing;  Large _b. ; Lesser _blackbacked ; Little _tern ; Manx _shearwater ; Marsh _harrier ; Mediterranean _gull ; Otter _(female) ; Otter _(male) ; Oystercatcher;  Pelagic _fish ; Peregrine;  Pink-footed _goose ; Pintail;  Puffin;  Razorbill;  Redshank;  Ringed _plover ; River _lamprey ; Ruff;  Sanderling;  Sandwich _tern ; Scaup;  Sea _lamprey ; Seabird;  Seal;  Shelduck _(female) ; Shelduck _(male) ; Small _b. ; Snipe;  Storm _petrel ; Teal ; Tufted _duck ; Tufted _duck ; Turnstone ; Twaite _shad ; Whale ; White-fronted _goose ;;  ",0]
["Cobalt-58","-",0,"Bacteria                                   ",null,"Cobalt-58","-",0,"Allis _shad ; Atlantic _salmon ; Avocet;  Bar-tailed _godwit ; Benthic _fish ; Benthic _mollusc ; Bewicks _swan ; Bittern;  Black-tailed _godwit ; Brent _goose ; Chough;  Common _scoter ; Common _seal ; Common _tern ; Cormorant;  Curlew;  Dunlin;  Fish _egg ; Gadwall;  Gannet;  Golden _plover ; Great _crested ; Grey _plover ; Grey _seal ; Gulliemot;  Hen _harrier ; Kittewake;  Knot;  Lapwing;  Large _b. ; Lesser _blackbacked ; Little _tern ; Manx _shearwater ; Marsh _harrier ; Mediterranean _gull ; Otter _(female) ; Otter _(male) ; Oystercatcher;  Pelagic _fish ; Peregrine;  Pink-footed _goose ; Pintail;  Puffin;  Razorbill;  Redshank;  Ringed _plover ; River _lamprey ; Ruff;  Sanderling;  Sandwich _tern ; Scaup;  Sea _lamprey ; Seabird;  Seal;  Shelduck _(female) ; Shelduck _(male) ; Small _b. ; Snipe;  Storm _petrel ; Teal ; Tufted _duck ; Tufted _duck ; Turnstone ; Twaite _shad ; Whale ; White-fronted _goose ;;  ",0]
["Cobalt-60","-",0,"Bacteria                                   ",null,"Cobalt-60","-",0,"Allis _shad ; Atlantic _salmon ; Avocet;  Bar-tailed _godwit ; Benthic _fish ; Benthic _mollusc ; Bewicks _swan ; Bittern;  Black-tailed _godwit ; Brent _goose ; Chough;  Common _scoter ; Common _seal ; Common _tern ; Cormorant;  Curlew;  Dunlin;  Fish _egg ; Gadwall;  Gannet;  Golden _plover ; Great _crested ; Grey _plover ; Grey _seal ; Gulliemot;  Hen _harrier ; Kittewake;  Knot;  Lapwing;  Large _b. ; Lesser _blackbacked ; Little _tern ; Manx _shearwater ; Marsh _harrier ; Mediterranean _gull ; Otter _(female) ; Otter _(male) ; Oystercatcher;  Pelagic _fish ; Peregrine;  Pink-footed _goose ; Pintail;  Puffin;  Razorbill;  Redshank;  Ringed _plover ; River _lamprey ; Ruff;  Sanderling;  Sandwich _tern ; Scaup;  Sea _lamprey ; Seabird;  Seal;  Shelduck _(female) ; Shelduck _(male) ; Small _b. ; Snipe;  Storm _petrel ; Teal ; Tufted _duck ; Tufted _duck ; Turnstone ; Twaite _shad ; Whale ; White-fronted _goose ;;  ",0]
["Nickel-63","-",0,"Brook lamprey; Golden plover; Grey plover; Knot ; Lapwing ; Otter (male and female); Pink-footed goose; Ruff ; Sanderling ; Sea lamprey; Snipe ; White-fronted goose                 ",null,"Nickel-63","-",0,"Grey _seal ; Whale ",0]
["Zinc-65","-",0,"Brook lamprey; Golden plover; Grey plover; Knot ; Lapwing ; Otter (male and female); Pink-footed goose; Ruff ; Sanderling ; Sea lamprey; Snipe ; White-fronted goose                 ",null,"Zinc-65","-",0,"Grey _seal ; Whale ",0]
["Gallium-67","-",0,"Bacteria                                   ",null,"Gallium-67","-",0,"Allis _shad ; Atlantic _salmon ; Avocet;  Bar-tailed _godwit ; Benthic _fish ; Benthic _mollusc ; Bewicks _swan ; Bittern;  Black-tailed _godwit ; Brent _goose ; Chough;  Common _scoter ; Common _seal ; Common _tern ; Cormorant;  Curlew;  Dunlin;  Fish _egg ; Gadwall;  Gannet;  Golden _plover ; Great _crested ; Grey _plover ; Grey _seal ; Gulliemot;  Hen _harrier ; Kittewake;  Knot;  Lapwing;  Large _b. ; Lesser _blackbacked ; Little _tern ; Manx _shearwater ; Marsh _harrier ; Mediterranean _gull ; Otter _(female) ; Otter _(male) ; Oystercatcher;  Pelagic _fish ; Peregrine;  Pink-footed _goose ; Pintail;  Puffin;  Razorbill;  Redshank;  Ringed _plover ; River _lamprey ; Ruff;  Sanderling;  Sandwich _tern ; Scaup;  Sea _lamprey ; Seabird;  Seal;  Shelduck _(female) ; Shelduck _(male) ; Small _b. ; Snipe;  Storm _petrel ; Teal ; Tufted _duck ; Tufted _duck ; Turnstone ; Twaite _shad ; Whale ; White-fronted _goose ;;  ",0]
["Selenium-75","-",0,"Brook lamprey; Golden plover; Grey plover; Knot ; Lapwing ; Otter (male and female); Pink-footed goose; Ruff ; Sanderling ; Sea lamprey; Snipe ; White-fronted goose                 ",null,"Selenium-75","-",0,"Grey _seal ; Whale ",0]
["Bromine-82","-",0,"Bewicks swan; Bittern ; Common scoter; Cormorant ; Duck ; Dunlin ; Golden plover; Grey plover; Knot ; Lapwing ; Otter (male and female); Pink-footed goose; Ruff ; Sanderling ; Scaup ; Shelduck (male); Snipe ; Tufted duck (male) ; White-fronted goose; Whooper swan             ",null,"Bromine-82","-",0,"Grey _seal ; Whale ",0]
["Rubidium-82","Rubidium-83",0,"Amphibian ; Avocet ; Bar-tailed godwit; Bewicks swan; Bittern ; Black-tailed godwit; Brent goose; Common scoter; Cormorant ; Curlew ; Duck ; Dunlin ; Gadwall ; Golden plover; Great crested grebe ; Great crested newt ; Grey plover; Hen harrier (female) ; Hen harrier (male) ; Knot ; Lapwing ; Lesser blackbacked gull (female); Lesser blackbacked gull (male); Marsh harrier; Mediterraneangull ; Natterjack toad; Otter (male and female); Oystercatcher ; Pink-footed goose; Pintail ; Redshank ; Ringed plover; Ruff ; Sanderling ; Scaup ; Shelduck (female); Shelduck (male); Shoveler ; Snipe ; Teal (female); Teal (male); Tufted duck (female) ; Tufted duck (male) ; Turnstone ; White-fronted goose; Whooper swan; Wigeon    ; ",null,"Rubidium-82","Rubidium-83",0,"Grey _seal ",0]
["Rubidium-83","-",0,"Amphibian ; Avocet ; Bar-tailed godwit; Bewicks swan; Bittern ; Black-tailed godwit; Brent goose; Common scoter; Cormorant ; Curlew ; Duck ; Dunlin ; Gadwall ; Golden plover; Great crested grebe ; Great crested newt ; Grey plover; Hen harrier (female) ; Hen harrier (male) ; Knot ; Lapwing ; Lesser blackbacked gull (female); Lesser blackbacked gull (male); Marsh harrier; Mediterraneangull ; Natterjack toad; Otter (male and female); Oystercatcher ; Pink-footed goose; Pintail ; Redshank ; Ringed plover; Ruff ; Sanderling ; Scaup ; Shelduck (female); Shelduck (male); Shoveler ; Snipe ; Teal (female); Teal (male); Tufted duck (female) ; Tufted duck (male) ; Turnstone ; White-fronted goose; Whooper swan; Wigeon    ; ",null,"Rubidium-83","-",0,"Grey _seal ",0]
["Strontium-89","-",0,"Amphibian ; Avocet ; Bar-tailed godwit; Bewicks swan; Bittern ; Black-tailed godwit; Brent goose; Common scoter; Cormorant ; Curlew ; Duck ; Dunlin ; Gadwall ; Golden plover; Great crested grebe ; Great crested newt ; Grey plover; Hen harrier (female) ; Hen harrier (male) ; Knot ; Lapwing ; Lesser blackbacked gull (female); Lesser blackbacked gull (male); Marsh harrier; Mediterraneangull ; Natterjack toad; Otter (male and female); Oystercatcher ; Pink-footed goose; Pintail ; Redshank ; Ringed plover; Ruff ; Sanderling ; Scaup ; Shelduck (female); Shelduck (male); Shoveler ; Snipe ; Teal (female); Teal (male); Tufted duck (female) ; Tufted duck (male) ; Turnstone ; White-fronted goose; Whooper swan; Wigeon    ; ",null,"Strontium-89","-",0,"Grey _seal ",0]
["Strontium-90","-",0,"Amphibian ; Avocet ; Bar-tailed godwit; Bewicks swan; Bittern ; Black-tailed godwit; Brent goose; Common scoter; Cormorant ; Curlew ; Duck ; Dunlin ; Gadwall ; Golden plover; Great crested grebe ; Great crested newt ; Grey plover; Hen harrier (female) ; Hen harrier (male) ; Knot ; Lapwing ; Lesser blackbacked gull (female); Lesser blackbacked gull (male); Marsh harrier; Mediterraneangull ; Natterjack toad; Otter (male and female); Oystercatcher ; Pink-footed goose; Pintail ; Redshank ; Ringed plover; Ruff ; Sanderling ; Scaup ; Shelduck (female); Shelduck (male); Shoveler ; Snipe ; Teal (female); Teal (male); Tufted duck (female) ; Tufted duck (male) ; Turnstone ; White-fronted goose; Whooper swan; Wigeon    ; ",null,"Strontium-90","-",0,"Grey _seal ",{"$f":"(C37+H37)","v":0}]
["Yttrium-90","-",0,"Amphibian ; Avocet ; Bar-tailed godwit; Bewicks swan; Bittern ; Black-tailed godwit; Brent goose; Common scoter; Cormorant ; Curlew ; Duck ; Dunlin ; Gadwall ; Golden plover; Great crested grebe ; Great crested newt ; Grey plover; Hen harrier (female) ; Hen harrier (male) ; Knot ; Lapwing ; Lesser blackbacked gull (female); Lesser blackbacked gull (male); Marsh harrier; Mediterraneangull ; Natterjack toad; Otter (male and female); Oystercatcher ; Pink-footed goose; Pintail ; Redshank ; Ringed plover; Ruff ; Sanderling ; Scaup ; Shelduck (female); Shelduck (male); Shoveler ; Snipe ; Teal (female); Teal (male); Tufted duck (female) ; Tufted duck (male) ; Turnstone ; White-fronted goose; Whooper swan; Wigeon    ; ",null,"Yttrium-90","-",0,"Grey _seal ",0]
["Zirconium-95","-",0,"Brook lamprey; Golden plover; Grey plover; Knot ; Lapwing ; Otter (male and female); Pink-footed goose; Ruff ; Sanderling ; Sea lamprey; Snipe ; White-fronted goose                 ",null,"Zirconium-95","-",0,"Whale ",0]
["Niobium-95","-",0,"Brook lamprey; Golden plover; Grey plover; Knot ; Lapwing ; Otter (male and female); Pink-footed goose; Ruff ; Sanderling ; Sea lamprey; Snipe ; White-fronted goose                 ",null,"Niobium-95","-",0,"Grey _seal ; Whale ",0]
["Molybdenum-99","-",0,"Bewicks swan; Bittern ; Common scoter; Cormorant ; Duck ; Dunlin ; Golden plover; Grey plover; Knot ; Lapwing ; Otter (male and female); Pink-footed goose; Ruff ; Sanderling ; Scaup ; Shelduck (male); Snipe ; Tufted duck (male) ; White-fronted goose; Whooper swan             ",null,"Molybdenum-99","-",0,"Grey _seal ; Whale ",0]
["Technetium-99","-",0,"Amphibian ; Aqu. mammal; Avocet ; Bar-tailed godwit; Bewicks swan; Bittern ; Black-tailed godwit; Brent goose; Common scoter; Cormorant ; Curlew ; Duck ; Dunlin ; Gadwall ; Golden plover; Great crested grebe ; Great crested newt ; Grey plover; Hen harrier (female) ; Hen harrier (male) ; Knot ; Lapwing ; Lesser blackbacked gull (female); Lesser blackbacked gull (male); Marsh harrier; Mediterraneangull ; Natterjack toad; Otter (male and female); Oystercatcher ; Pink-footed goose; Pintail ; Redshank ; Ringed plover; Ruff ; Sanderling ; Scaup ; Shelduck (female); Shelduck (male); Shoveler ; Snipe ; Teal (female); Teal (male); Tufted duck (female) ; Tufted duck (male) ; Turnstone ; White-fronted goose; Whooper swan; Wigeon    ",null,"Technetium-99","-",0,"Bewicks _swan ; Bittern;  Chough;  Common _seal ; Cormorant;  Grey _seal ; Lapwing;  Otter _(male) ; Pink-footed _goose ; Scaup;  Seal;  Whale ; ",0]
["Technetium-99m","-",0,"Amphibian ; Aqu. mammal; Avocet ; Bar-tailed godwit; Bewicks swan; Bittern ; Black-tailed godwit; Brent goose; Common scoter; Cormorant ; Curlew ; Duck ; Dunlin ; Gadwall ; Golden plover; Great crested grebe ; Great crested newt ; Grey plover; Hen harrier (female) ; Hen harrier (male) ; Knot ; Lapwing ; Lesser blackbacked gull (female); Lesser blackbacked gull (male); Marsh harrier; Mediterraneangull ; Natterjack toad; Otter (male and female); Oystercatcher ; Pink-footed goose; Pintail ; Redshank ; Ringed plover; Ruff ; Sanderling ; Scaup ; Shelduck (female); Shelduck (male); Shoveler ; Snipe ; Teal (female); Teal (male); Tufted duck (female) ; Tufted duck (male) ; Turnstone ; White-fronted goose; Whooper swan; Wigeon    ",null,"Technetium-99m","-",0,"Bewicks _swan ; Bittern;  Chough;  Common _seal ; Cormorant;  Grey _seal ; Lapwing;  Otter _(male) ; Pink-footed _goose ; Scaup;  Seal;  Whale ; ",0]
["Ruthenium-103","-",0,"Bewicks swan; Bittern ; Brent goose; Common scoter; Cormorant ; Curlew ; Duck ; Dunlin ; Gadwall ; Golden plover; Great crested grebe ; Grey plover; Hen harrier (female) ; Knot ; Lapwing ; Lesser blackbacked gull (male); Marsh harrier; Otter (male and female); Oystercatcher ; Pink-footed goose; Pintail ; Ruff ; Sanderling ; Scaup ; Shelduck (female); Shelduck (male); Shoveler ; Snipe ; Teal (male); Tufted duck (female) ; Tufted duck (male) ; White-fronted goose; Whooper swan; Wigeon      ; ; ",null,"Ruthenium-103","-",0,"Grey _seal ",0]
["Ruthenium-106","-",0,"Bewicks swan; Bittern ; Brent goose; Common scoter; Cormorant ; Curlew ; Duck ; Dunlin ; Gadwall ; Golden plover; Great crested grebe ; Grey plover; Hen harrier (female) ; Knot ; Lapwing ; Lesser blackbacked gull (male); Marsh harrier; Otter (male and female); Oystercatcher ; Pink-footed goose; Pintail ; Ruff ; Sanderling ; Scaup ; Shelduck (female); Shelduck (male); Shoveler ; Snipe ; Teal (male); Tufted duck (female) ; Tufted duck (male) ; White-fronted goose; Whooper swan; Wigeon      ; ; ",null,"Ruthenium-106","-",0,"Grey _seal ",0]
["Silver-110m","-",0,"Brook lamprey; Golden plover; Grey plover; Knot ; Lapwing ; Otter (male and female); Pink-footed goose; Ruff ; Sanderling ; Sea lamprey; Snipe ; White-fronted goose                 ",null,"Silver-110m","-",0,"Grey _seal ; Whale ",0]
["Indium-111","-",0,"Bewicks swan; Bittern ; Brent goose; Common scoter; Cormorant ; Curlew ; Duck ; Dunlin ; Gadwall ; Golden plover; Great crested grebe ; Grey plover; Hen harrier (female) ; Knot ; Lapwing ; Lesser blackbacked gull (male); Marsh harrier; Otter (male and female); Oystercatcher ; Pink-footed goose; Pintail ; Ruff ; Sanderling ; Scaup ; Shelduck (female); Shelduck (male); Shoveler ; Snipe ; Teal (male); Tufted duck (female) ; Tufted duck (male) ; White-fronted goose; Whooper swan; Wigeon      ; ; ",null,"Indium-111","-",0,"Grey _seal ",0]
["Indium-113m","Indium-111",0,"Bewicks swan; Bittern ; Brent goose; Common scoter; Cormorant ; Curlew ; Duck ; Dunlin ; Gadwall ; Golden plover; Great crested grebe ; Grey plover; Hen harrier (female) ; Knot ; Lapwing ; Lesser blackbacked gull (male); Marsh harrier; Otter (male and female); Oystercatcher ; Pink-footed goose; Pintail ; Ruff ; Sanderling ; Scaup ; Shelduck (female); Shelduck (male); Shoveler ; Snipe ; Teal (male); Tufted duck (female) ; Tufted duck (male) ; White-fronted goose; Whooper swan; Wigeon      ; ; ",null,"Indium-113m","Indium-111",0,"Grey _seal ",0]
["Antimony-125","-",0,"Bewicks swan; Bittern ; Brent goose; Common scoter; Cormorant ; Curlew ; Duck ; Dunlin ; Gadwall ; Golden plover; Great crested grebe ; Grey plover; Hen harrier (female) ; Knot ; Lapwing ; Lesser blackbacked gull (male); Marsh harrier; Otter (male and female); Oystercatcher ; Pink-footed goose; Pintail ; Ruff ; Sanderling ; Scaup ; Shelduck (female); Shelduck (male); Shoveler ; Snipe ; Teal (male); Tufted duck (female) ; Tufted duck (male) ; White-fronted goose; Whooper swan; Wigeon      ; ; ",null,"Antimony-125","-",0,"Grey _seal ",0]
["Iodine-123","-",0,"Bewicks swan; Bittern ; Common scoter; Cormorant ; Duck ; Dunlin ; Golden plover; Grey plover; Knot ; Lapwing ; Otter (male and female); Pink-footed goose; Ruff ; Sanderling ; Scaup ; Shelduck (male); Snipe ; Tufted duck (male) ; White-fronted goose; Whooper swan             ",null,"Iodine-123","-",0,"Grey _seal ; Whale ",0]
["Iodine-125","-",0,"Bewicks swan; Bittern ; Common scoter; Cormorant ; Duck ; Dunlin ; Golden plover; Grey plover; Knot ; Lapwing ; Otter (male and female); Pink-footed goose; Ruff ; Sanderling ; Scaup ; Shelduck (male); Snipe ; Tufted duck (male) ; White-fronted goose; Whooper swan             ",null,"Iodine-125","-",0,"Grey _seal ; Whale ",0]
["Iodine-129","-",0,"Bewicks swan; Bittern ; Common scoter; Cormorant ; Duck ; Dunlin ; Golden plover; Grey plover; Knot ; Lapwing ; Otter (male and female); Pink-footed goose; Ruff ; Sanderling ; Scaup ; Shelduck (male); Snipe ; Tufted duck (male) ; White-fronted goose; Whooper swan             ",null,"Iodine-129","-",0,"Grey _seal ; Whale ",0]
["Iodine-131","-",0,"Bewicks swan; Bittern ; Common scoter; Cormorant ; Duck ; Dunlin ; Golden plover; Grey plover; Knot ; Lapwing ; Otter (male and female); Pink-footed goose; Ruff ; Sanderling ; Scaup ; Shelduck (male); Snipe ; Tufted duck (male) ; White-fronted goose; Whooper swan             ",null,"Iodine-131","-",0,"Grey _seal ; Whale ",0]
["Iodine-132","Iodine-133",0,"Bewicks swan; Bittern ; Common scoter; Cormorant ; Duck ; Dunlin ; Golden plover; Grey plover; Knot ; Lapwing ; Otter (male and female); Pink-footed goose; Ruff ; Sanderling ; Scaup ; Shelduck (male); Snipe ; Tufted duck (male) ; White-fronted goose; Whooper swan             ",null,"Iodine-132","Iodine-133",0,"Grey _seal ; Whale ",0]
["Iodine-133","-",0,"Bewicks swan; Bittern ; Common scoter; Cormorant ; Duck ; Dunlin ; Golden plover; Grey plover; Knot ; Lapwing ; Otter (male and female); Pink-footed goose; Ruff ; Sanderling ; Scaup ; Shelduck (male); Snipe ; Tufted duck (male) ; White-fronted goose; Whooper swan             ",null,"Iodine-133","-",0,"Grey _seal ; Whale ",0]
["Iodine-134","Iodine-133",0,"Bewicks swan; Bittern ; Common scoter; Cormorant ; Duck ; Dunlin ; Golden plover; Grey plover; Knot ; Lapwing ; Otter (male and female); Pink-footed goose; Ruff ; Sanderling ; Scaup ; Shelduck (male); Snipe ; Tufted duck (male) ; White-fronted goose; Whooper swan             ",null,"Iodine-134","Iodine-133",0,"Grey _seal ; Whale ",0]
["Iodine-135","-",0,"Bewicks swan; Bittern ; Common scoter; Cormorant ; Duck ; Dunlin ; Golden plover; Grey plover; Knot ; Lapwing ; Otter (male and female); Pink-footed goose; Ruff ; Sanderling ; Scaup ; Shelduck (male); Snipe ; Tufted duck (male) ; White-fronted goose; Whooper swan             ",null,"Iodine-135","-",0,"Grey _seal ; Whale ",0]
["Caesium-134","-",0,"Brook lamprey; Golden plover; Grey plover; Knot ; Lapwing ; Otter (male and female); Pink-footed goose; Ruff ; Sanderling ; Sea lamprey; Snipe ; White-fronted goose                 ",null,"Caesium-134","-",0,"Grey _seal ; Whale ",0]
["Caesium-136","-",0,"Brook lamprey; Golden plover; Grey plover; Knot ; Lapwing ; Otter (male and female); Pink-footed goose; Ruff ; Sanderling ; Sea lamprey; Snipe ; White-fronted goose                 ",null,"Caesium-136","-",0,"Grey _seal ; Whale ",0]
["Caesium-137","-",0,"Brook lamprey; Golden plover; Grey plover; Knot ; Lapwing ; Otter (male and female); Pink-footed goose; Ruff ; Sanderling ; Sea lamprey; Snipe ; White-fronted goose                 ",null,"Caesium-137","-",0,"Grey _seal ; Whale ",0]
["Barium-140","-",0,"Brook lamprey; Golden plover; Grey plover; Knot ; Lapwing ; Otter (male and female); Pink-footed goose; Ruff ; Sanderling ; Sea lamprey; Snipe ; White-fronted goose                 ",null,"Barium-140","-",0,"Grey _seal ; Whale ",0]
["Lanthanum-140","-",0,"Brook lamprey; Golden plover; Grey plover; Knot ; Lapwing ; Otter (male and female); Pink-footed goose; Ruff ; Sanderling ; Sea lamprey; Snipe ; White-fronted goose                 ",null,"Lanthanum-140","-",0,"Grey _seal ; Whale ",0]
["Cerium-141","-",0,"Brook lamprey; Golden plover; Grey plover; Knot ; Lapwing ; Otter (male and female); Pink-footed goose; Ruff ; Sanderling ; Sea lamprey; Snipe ; White-fronted goose                 ",null,"Cerium-141","-",0,"Grey _seal ; Whale ",0]
["Cerium-144","-",0,"Brook lamprey; Golden plover; Grey plover; Knot ; Lapwing ; Otter (male and female); Pink-footed goose; Ruff ; Sanderling ; Sea lamprey; Snipe ; White-fronted goose                 ",null,"Cerium-144","-",0,"Grey _seal ; Whale ",0]
["Promethium-147","-",0,"Brook lamprey; Golden plover; Grey plover; Knot ; Lapwing ; Otter (male and female); Pink-footed goose; Ruff ; Sanderling ; Sea lamprey; Snipe ; White-fronted goose                 ",null,"Promethium-147","-",0,"Grey _seal ; Whale ",0]
["Samarium-153","-",0,"Brook lamprey; Golden plover; Grey plover; Knot ; Lapwing ; Otter (male and female); Pink-footed goose; Ruff ; Sanderling ; Sea lamprey; Snipe ; White-fronted goose                 ",null,"Samarium-153","-",0,"Grey _seal ; Whale ",0]
["Europium-152","-",0,"Brook lamprey; Golden plover; Grey plover; Knot ; Lapwing ; Otter (male and female); Pink-footed goose; Ruff ; Sanderling ; Sea lamprey; Snipe ; White-fronted goose                 ",null,"Europium-152","-",0,"Grey _seal ; Whale ",0]
["Europium-154","-",0,"Brook lamprey; Golden plover; Grey plover; Knot ; Lapwing ; Otter (male and female); Pink-footed goose; Ruff ; Sanderling ; Sea lamprey; Snipe ; White-fronted goose                 ",null,"Europium-154","-",0,"Grey _seal ; Whale ",0]
["Europium-155","-",0,"Brook lamprey; Golden plover; Grey plover; Knot ; Lapwing ; Otter (male and female); Pink-footed goose; Ruff ; Sanderling ; Sea lamprey; Snipe ; White-fronted goose                 ",null,"Europium-155","-",0,"Grey _seal ; Whale ",{"$f":"(C69+H69)","v":0}]
["Erbium-169","-",0,"Brook lamprey; Golden plover; Grey plover; Knot ; Lapwing ; Otter (male and female); Pink-footed goose; Ruff ; Sanderling ; Sea lamprey; Snipe ; White-fronted goose                 ",null,"Erbium-169","-",0,"Grey _seal ; Whale ",0]
["Lutetium-177","-",0,"Bewicks swan; Bittern ; Brent goose; Common scoter; Cormorant ; Curlew ; Duck ; Dunlin ; Gadwall ; Golden plover; Great crested grebe ; Grey plover; Hen harrier (female) ; Knot ; Lapwing ; Lesser blackbacked gull (male); Marsh harrier; Otter (male and female); Oystercatcher ; Pink-footed goose; Pintail ; Ruff ; Sanderling ; Scaup ; Shelduck (female); Shelduck (male); Shoveler ; Snipe ; Teal (male); Tufted duck (female) ; Tufted duck (male) ; White-fronted goose; Whooper swan; Wigeon      ; ; ",null,"Lutetium-177","-",0,"Grey _seal ",0]
["Gold-198","-",0,"Bewicks swan; Bittern ; Brent goose; Common scoter; Cormorant ; Curlew ; Duck ; Dunlin ; Gadwall ; Golden plover; Great crested grebe ; Grey plover; Hen harrier (female) ; Knot ; Lapwing ; Lesser blackbacked gull (male); Marsh harrier; Otter (male and female); Oystercatcher ; Pink-footed goose; Pintail ; Ruff ; Sanderling ; Scaup ; Shelduck (female); Shelduck (male); Shoveler ; Snipe ; Teal (male); Tufted duck (female) ; Tufted duck (male) ; White-fronted goose; Whooper swan; Wigeon      ; ; ",null,"Gold-198","-",0,"Grey _seal ",0]
["Thallium-201","-",0,"Brook lamprey; Golden plover; Grey plover; Knot ; Lapwing ; Otter (male and female); Pink-footed goose; Ruff ; Sanderling ; Sea lamprey; Snipe ; White-fronted goose                 ",null,"Thallium-201","-",0,"Grey _seal ; Whale ",0]
["Lead-210","-",0,"Brook lamprey; Golden plover; Grey plover; Knot ; Lapwing ; Otter (male and female); Pink-footed goose; Ruff ; Sanderling ; Sea lamprey; Snipe ; White-fronted goose                 ",null,"Lead-210","-",0,"Grey _seal ; Whale ",0]
["Polonium-210","-",0,"Amphibian ; Aqu. mammal; Avocet ; Bar-tailed godwit; Benthic mollusc; Bewicks swan; Bittern ; Black-tailed godwit; Brent goose; Common scoter; Cormorant ; Curlew ; Desmoulins whorl snail ; Duck ; Dunlin ; Gadwall ; Golden plover; Great crested grebe ; Great crested newt ; Grey plover; Hen harrier (female) ; Hen harrier (male) ; Knot ; Lapwing ; Large b. crust. ; Lesser blackbacked gull (female); Lesser blackbacked gull (male); Marsh harrier; Mediterraneangull ; Natterjack toad; Otter (male and female); Oystercatcher ; Pink-footed goose; Pintail ; Redshank ; Ringed plover; Ruff ; Sanderling ; Scaup ; Shelduck (female); Shelduck (male); Shoveler ; Small b. crust. ; Snipe ; Southern damselfly; Teal (female); Teal (male); Tufted duck (female) ; Tufted duck (male) ; Turnstone ; White-fronted goose; Whooper swan; Wigeon         ",null,"Polonium-210","-",0,"Bittern;  Lapwing;  Pink-footed _goose ;",0]
["Radium-223","-",0,"Amphibian ; Great crested newt ; Natterjack toad; Southern damselfly                     ",null,"Radium-223","-",0,"Avocet;  Bar-tailed _godwit ; Bewicks _swan ; Bittern;  Black-tailed _godwit ; Brent _goose ; Chough;  Common _scoter ; Common _seal ; Common _tern ; Cormorant;  Curlew;  Dunlin;  Fish _egg ; Gadwall;  Gannet;  Golden _plover ; Great _crested ; Grey _plover ; Grey _seal ; Gulliemot;  Hen _harrier ; Kittewake;  Knot;  Lapwing;  Lesser _blackbacked ; Little _tern ; Manx _shearwater ; Marsh _harrier ; Mediterranean _gull ; Otter _(female) ; Otter _(male) ; Oystercatcher;  Peregrine;  Pink-footed _goose ; Pintail;  Pu-alpha ; Puffin;  Razorbill;  Redshank;  Ringed _plover ; Ruff;  Sanderling;  Sandwich _tern ; Scaup;  Seabird;  Seal;  Shelduck _(female) ; Shelduck _(male) ; Snipe;  Storm _petrel ; Teal ; Tufted _duck ; Tufted _duck ; Turnstone ; Whale ; White-fronted _goose ; ",0]
["Radium-226","-",0,"Amphibian ; Aqu. mammal; Avocet ; Bar-tailed godwit; Benthic mollusc; Bewicks swan; Bittern ; Black-tailed godwit; Brent goose; Common scoter; Cormorant ; Curlew ; Desmoulins whorl snail ; Duck ; Dunlin ; Gadwall ; Golden plover; Great crested grebe ; Great crested newt ; Grey plover; Hen harrier (female) ; Hen harrier (male) ; Knot ; Lapwing ; Large b. crust. ; Lesser blackbacked gull (female); Lesser blackbacked gull (male); Marsh harrier; Mediterraneangull ; Natterjack toad; Otter (male and female); Oystercatcher ; Pink-footed goose; Pintail ; Redshank ; Ringed plover; Ruff ; Sanderling ; Scaup ; Shelduck (female); Shelduck (male); Shoveler ; Small b. crust. ; Snipe ; Southern damselfly; Teal (female); Teal (male); Tufted duck (female) ; Tufted duck (male) ; Turnstone ; White-fronted goose; Whooper swan; Wigeon         ",null,"Radium-226","-",0,"Avocet;  Bar-tailed _godwit ; Bewicks _swan ; Bittern;  Black-tailed _godwit ; Brent _goose ; Chough;  Common _scoter ; Common _seal ; Common _tern ; Cormorant;  Curlew;  Dunlin;  Fish _egg ; Gadwall;  Gannet;  Golden _plover ; Great _crested ; Grey _plover ; Grey _seal ; Gulliemot;  Hen _harrier ; Kittewake;  Knot;  Lapwing;  Lesser _blackbacked ; Little _tern ; Manx _shearwater ; Marsh _harrier ; Mediterranean _gull ; Otter _(female) ; Otter _(male) ; Oystercatcher;  Peregrine;  Pink-footed _goose ; Pintail;  Puffin;  Ra-226 ; Razorbill;  Redshank;  Ringed _plover ; Ruff;  Sanderling;  Sandwich _tern ; Scaup;  Seabird;  Seal;  Shelduck _(female) ; Shelduck _(male) ; Snipe;  Storm _petrel ; Teal ; Tufted _duck ; Tufted _duck ; Turnstone ; Whale ; White-fronted _goose ; ",0]
["Radium-228",null,0,null,null,"Radium-228",null,0]
["Thorium-230","-",0,"Amphibian ; Great crested newt ; Natterjack toad; Southern damselfly                     ",null,"Thorium-230",null,0,"Avocet;  Bar-tailed _godwit ; Bewicks _swan ; Bittern;  Black-tailed _godwit ; Brent _goose ; Chough;  Common _scoter ; Common _seal ; Common _tern ; Cormorant;  Curlew;  Dunlin;  Fish _egg ; Gadwall;  Gannet;  Golden _plover ; Great _crested ; Grey _plover ; Grey _seal ; Gulliemot;  Hen _harrier ; Kittewake;  Knot;  Lapwing;  Lesser _blackbacked ; Little _tern ; Manx _shearwater ; Marsh _harrier ; Mediterranean _gull ; Otter _(female) ; Otter _(male) ; Oystercatcher;  Peregrine;  Pink-footed _goose ; Pintail;  Pu-alpha ; Puffin;  Razorbill;  Redshank;  Ringed _plover ; Ruff;  Sanderling;  Sandwich _tern ; Scaup;  Seabird;  Seal;  Shelduck _(female) ; Shelduck _(male) ; Snipe;  Storm _petrel ; Teal ; Tufted _duck ; Tufted _duck ; Turnstone ; Whale ; White-fronted _goose ; ",{"$f":"(C79+H79)","v":0}]
["Thorium-232","-",0,"Amphibian ; Great crested newt ; Natterjack toad; Southern damselfly                     ",null,"Thorium-232",null,0,"Avocet;  Bar-tailed _godwit ; Bewicks _swan ; Bittern;  Black-tailed _godwit ; Brent _goose ; Chough;  Common _scoter ; Common _seal ; Common _tern ; Cormorant;  Curlew;  Dunlin;  Fish _egg ; Gadwall;  Gannet;  Golden _plover ; Great _crested ; Grey _plover ; Grey _seal ; Gulliemot;  Hen _harrier ; Kittewake;  Knot;  Lapwing;  Lesser _blackbacked ; Little _tern ; Manx _shearwater ; Marsh _harrier ; Mediterranean _gull ; Otter _(female) ; Otter _(male) ; Oystercatcher;  Peregrine;  Pink-footed _goose ; Pintail;  Pu-alpha ; Puffin;  Razorbill;  Redshank;  Ringed _plover ; Ruff;  Sanderling;  Sandwich _tern ; Scaup;  Seabird;  Seal;  Shelduck _(female) ; Shelduck _(male) ; Snipe;  Storm _petrel ; Teal ; Tufted _duck ; Tufted _duck ; Turnstone ; Whale ; White-fronted _goose ; ",0]
["Thorium-234","-",0,"Amphibian ; Avocet ; Bar-tailed godwit; Bewicks swan; Bittern ; Black-tailed godwit; Brent goose; Common scoter; Cormorant ; Curlew ; Duck ; Dunlin ; Gadwall ; Golden plover; Great crested grebe ; Great crested newt ; Grey plover; Hen harrier (female) ; Hen harrier (male) ; Knot ; Lapwing ; Lesser blackbacked gull (female); Lesser blackbacked gull (male); Marsh harrier; Mediterraneangull ; Natterjack toad; Otter (male and female); Oystercatcher ; Pink-footed goose; Pintail ; Redshank ; Ringed plover; Ruff ; Sanderling ; Scaup ; Shelduck (female); Shelduck (male); Shoveler ; Snipe ; Teal (female); Teal (male); Tufted duck (female) ; Tufted duck (male) ; Turnstone ; White-fronted goose; Whooper swan; Wigeon    ; ",null,"Thorium-234",null,0,"Avocet;  Bar-tailed _godwit ; Bewicks _swan ; Bittern;  Black-tailed _godwit ; Brent _goose ; Chough;  Common _scoter ; Common _seal ; Common _tern ; Cormorant;  Curlew;  Dunlin;  Fish _egg ; Gadwall;  Gannet;  Golden _plover ; Great _crested ; Grey _plover ; Grey _seal ; Gulliemot;  Hen _harrier ; Kittewake;  Knot;  Lapwing;  Lesser _blackbacked ; Little _tern ; Manx _shearwater ; Marsh _harrier ; Mediterranean _gull ; Otter _(female) ; Otter _(male) ; Oystercatcher;  Peregrine;  Pink-footed _goose ; Pintail;  Puffin;  Razorbill;  Redshank;  Ringed _plover ; Ruff;  Sanderling;  Sandwich _tern ; Scaup;  Seabird;  Seal;  Shelduck _(female) ; Shelduck _(male) ; Snipe;  Storm _petrel ; Teal ; Th-234 ; Tufted _duck ; Tufted _duck ; Turnstone ; Whale ; White-fronted _goose ; ",0]
["Uranium-234","-",0,"Amphibian ; Aqu. mammal; Avocet ; Bar-tailed godwit; Bewicks swan; Bittern ; Black-tailed godwit; Brent goose; Common scoter; Cormorant ; Curlew ; Duck ; Dunlin ; Early gentian; Fen orchid; Gadwall ; Golden plover; Great crested grebe ; Great crested newt ; Grey plover; Hen harrier (female) ; Hen harrier (male) ; Knot ; Lapwing ; Lesser blackbacked gull (female); Lesser blackbacked gull (male); Macrophyte ; Marsh harrier; Mediterraneangull ; Natterjack toad; Otter (male and female); Oystercatcher ; Pink-footed goose; Pintail ; Redshank ; Ringed plover; Ruff ; Sanderling ; Scaup ; Shelduck (female); Shelduck (male); Shoveler ; Snipe ; Southern damselfly; Teal (female); Teal (male); Tufted duck (female) ; Tufted duck (male) ; Turnstone ; White-fronted goose; Whooper swan; Wigeon  ",null,"Uranium-234",null,0,"Bewicks _swan ; Bittern;  Chough;  Common _seal ; Cormorant;  Grey _seal ; Lapwing;  Otter _(male) ; Pink-footed _goose ; Scaup;  Seal;  U-alpha ; Whale ; ",0]
["Uranium-235","-",0,"Amphibian ; Aqu. mammal; Avocet ; Bar-tailed godwit; Bewicks swan; Bittern ; Black-tailed godwit; Brent goose; Common scoter; Cormorant ; Curlew ; Duck ; Dunlin ; Early gentian; Fen orchid; Gadwall ; Golden plover; Great crested grebe ; Great crested newt ; Grey plover; Hen harrier (female) ; Hen harrier (male) ; Knot ; Lapwing ; Lesser blackbacked gull (female); Lesser blackbacked gull (male); Macrophyte ; Marsh harrier; Mediterraneangull ; Natterjack toad; Otter (male and female); Oystercatcher ; Pink-footed goose; Pintail ; Redshank ; Ringed plover; Ruff ; Sanderling ; Scaup ; Shelduck (female); Shelduck (male); Shoveler ; Snipe ; Southern damselfly; Teal (female); Teal (male); Tufted duck (female) ; Tufted duck (male) ; Turnstone ; White-fronted goose; Whooper swan; Wigeon  ",null,"Uranium-235",null,0,"Bewicks _swan ; Bittern;  Chough;  Common _seal ; Cormorant;  Grey _seal ; Lapwing;  Otter _(male) ; Pink-footed _goose ; Scaup;  Seal;  U-alpha ; Whale ; ",0]
["Uranium-238","-",0,"Amphibian ; Aqu. mammal; Avocet ; Bar-tailed godwit; Bewicks swan; Bittern ; Black-tailed godwit; Brent goose; Common scoter; Cormorant ; Curlew ; Duck ; Dunlin ; Early gentian; Fen orchid; Gadwall ; Golden plover; Great crested grebe ; Great crested newt ; Grey plover; Hen harrier (female) ; Hen harrier (male) ; Knot ; Lapwing ; Lesser blackbacked gull (female); Lesser blackbacked gull (male); Macrophyte ; Marsh harrier; Mediterraneangull ; Natterjack toad; Otter (male and female); Oystercatcher ; Pink-footed goose; Pintail ; Redshank ; Ringed plover; Ruff ; Sanderling ; Scaup ; Shelduck (female); Shelduck (male); Shoveler ; Snipe ; Southern damselfly; Teal (female); Teal (male); Tufted duck (female) ; Tufted duck (male) ; Turnstone ; White-fronted goose; Whooper swan; Wigeon  ",null,"Uranium-238",null,0,"Bewicks _swan ; Bittern;  Chough;  Common _seal ; Cormorant;  Grey _seal ; Lapwing;  Otter _(male) ; Pink-footed _goose ; Scaup;  Seal;  U-alpha ; Whale ; ",0]
["Neptunium-237","-",0,"Amphibian ; Great crested newt ; Natterjack toad; Southern damselfly                     ",null,"Neptunium-237",null,0,"Avocet;  Bar-tailed _godwit ; Bewicks _swan ; Bittern;  Black-tailed _godwit ; Brent _goose ; Chough;  Common _scoter ; Common _seal ; Common _tern ; Cormorant;  Curlew;  Dunlin;  Fish _egg ; Gadwall;  Gannet;  Golden _plover ; Great _crested ; Grey _plover ; Grey _seal ; Gulliemot;  Hen _harrier ; Kittewake;  Knot;  Lapwing;  Lesser _blackbacked ; Little _tern ; Manx _shearwater ; Marsh _harrier ; Mediterranean _gull ; Otter _(female) ; Otter _(male) ; Oystercatcher;  Peregrine;  Pink-footed _goose ; Pintail;  Pu-alpha ; Puffin;  Razorbill;  Redshank;  Ringed _plover ; Ruff;  Sanderling;  Sandwich _tern ; Scaup;  Seabird;  Seal;  Shelduck _(female) ; Shelduck _(male) ; Snipe;  Storm _petrel ; Teal ; Tufted _duck ; Tufted _duck ; Turnstone ; Whale ; White-fronted _goose ; ",0]
["Plutonium-238","-",0,"Amphibian ; Great crested newt ; Natterjack toad; Southern damselfly                     ",null,"Plutonium-238",null,0,"Avocet;  Bar-tailed _godwit ; Bewicks _swan ; Bittern;  Black-tailed _godwit ; Brent _goose ; Chough;  Common _scoter ; Common _seal ; Common _tern ; Cormorant;  Curlew;  Dunlin;  Fish _egg ; Gadwall;  Gannet;  Golden _plover ; Great _crested ; Grey _plover ; Grey _seal ; Gulliemot;  Hen _harrier ; Kittewake;  Knot;  Lapwing;  Lesser _blackbacked ; Little _tern ; Manx _shearwater ; Marsh _harrier ; Mediterranean _gull ; Otter _(female) ; Otter _(male) ; Oystercatcher;  Peregrine;  Pink-footed _goose ; Pintail;  Pu-alpha ; Puffin;  Razorbill;  Redshank;  Ringed _plover ; Ruff;  Sanderling;  Sandwich _tern ; Scaup;  Seabird;  Seal;  Shelduck _(female) ; Shelduck _(male) ; Snipe;  Storm _petrel ; Teal ; Tufted _duck ; Tufted _duck ; Turnstone ; Whale ; White-fronted _goose ; ",0]
["Plutonium-239","-",0,"Amphibian ; Great crested newt ; Natterjack toad; Southern damselfly                     ",null,"Plutonium-239",null,0,"Avocet;  Bar-tailed _godwit ; Bewicks _swan ; Bittern;  Black-tailed _godwit ; Brent _goose ; Chough;  Common _scoter ; Common _seal ; Common _tern ; Cormorant;  Curlew;  Dunlin;  Fish _egg ; Gadwall;  Gannet;  Golden _plover ; Great _crested ; Grey _plover ; Grey _seal ; Gulliemot;  Hen _harrier ; Kittewake;  Knot;  Lapwing;  Lesser _blackbacked ; Little _tern ; Manx _shearwater ; Marsh _harrier ; Mediterranean _gull ; Otter _(female) ; Otter _(male) ; Oystercatcher;  Peregrine;  Pink-footed _goose ; Pintail;  Pu-alpha ; Puffin;  Razorbill;  Redshank;  Ringed _plover ; Ruff;  Sanderling;  Sandwich _tern ; Scaup;  Seabird;  Seal;  Shelduck _(female) ; Shelduck _(male) ; Snipe;  Storm _petrel ; Teal ; Tufted _duck ; Tufted _duck ; Turnstone ; Whale ; White-fronted _goose ; ",0]
["Plutonium-240","-",0,"Amphibian ; Great crested newt ; Natterjack toad; Southern damselfly                     ",null,"Plutonium-240",null,0,"Avocet;  Bar-tailed _godwit ; Bewicks _swan ; Bittern;  Black-tailed _godwit ; Brent _goose ; Chough;  Common _scoter ; Common _seal ; Common _tern ; Cormorant;  Curlew;  Dunlin;  Fish _egg ; Gadwall;  Gannet;  Golden _plover ; Great _crested ; Grey _plover ; Grey _seal ; Gulliemot;  Hen _harrier ; Kittewake;  Knot;  Lapwing;  Lesser _blackbacked ; Little _tern ; Manx _shearwater ; Marsh _harrier ; Mediterranean _gull ; Otter _(female) ; Otter _(male) ; Oystercatcher;  Peregrine;  Pink-footed _goose ; Pintail;  Pu-alpha ; Puffin;  Razorbill;  Redshank;  Ringed _plover ; Ruff;  Sanderling;  Sandwich _tern ; Scaup;  Seabird;  Seal;  Shelduck _(female) ; Shelduck _(male) ; Snipe;  Storm _petrel ; Teal ; Tufted _duck ; Tufted _duck ; Turnstone ; Whale ; White-fronted _goose ; ",0]
["Plutonium-241","-",0,"Brook lamprey; Golden plover; Grey plover; Knot ; Lapwing ; Otter (male and female); Pink-footed goose; Ruff ; Sanderling ; Sea lamprey; Snipe ; White-fronted goose                 ",null,"Plutonium-241",null,0,"Grey _seal ;  Whale ",0]
["Plutonium-242","-",0,"Amphibian ; Great crested newt ; Natterjack toad; Southern damselfly                     ",null,"Plutonium-242",null,0,"Avocet;  Bar-tailed _godwit ; Bewicks _swan ; Bittern;  Black-tailed _godwit ; Brent _goose ; Chough;  Common _scoter ; Common _seal ; Common _tern ; Cormorant;  Curlew;  Dunlin;  Fish _egg ; Gadwall;  Gannet;  Golden _plover ; Great _crested ; Grey _plover ; Grey _seal ; Gulliemot;  Hen _harrier ; Kittewake;  Knot;  Lapwing;  Lesser _blackbacked ; Little _tern ; Manx _shearwater ; Marsh _harrier ; Mediterranean _gull ; Otter _(female) ; Otter _(male) ; Oystercatcher;  Peregrine;  Pink-footed _goose ; Pintail;  Pu-alpha ; Puffin;  Razorbill;  Redshank;  Ringed _plover ; Ruff;  Sanderling;  Sandwich _tern ; Scaup;  Seabird;  Seal;  Shelduck _(female) ; Shelduck _(male) ; Snipe;  Storm _petrel ; Teal ; Tufted _duck ; Tufted _duck ; Turnstone ; Whale ; White-fronted _goose ; ",0]
["Americium-241","-",0,"Amphibian ; Aqu. mammal; Avocet ; Bar-tailed godwit; Bewicks swan; Bittern ; Black-tailed godwit; Brent goose; Common scoter; Cormorant ; Curlew ; Duck ; Dunlin ; Gadwall ; Golden plover; Great crested grebe ; Great crested newt ; Grey plover; Hen harrier (female) ; Hen harrier (male) ; Knot ; Lapwing ; Lesser blackbacked gull (female); Lesser blackbacked gull (male); Marsh harrier; Mediterraneangull ; Natterjack toad; Otter (male and female); Oystercatcher ; Phytoplankton ; Pink-footed goose; Pintail ; Redshank ; Ringed plover; Ruff ; Sanderling ; Scaup ; Shelduck (female); Shelduck (male); Shoveler ; Snipe ; Southern damselfly; Teal (female); Teal (male); Tufted duck (female) ; Tufted duck (male) ; Turnstone ; White-fronted goose; Whooper swan; Wigeon  ; ; ",null,"Americium-241",null,0,"Avocet;  Bar-tailed _godwit ; Bewicks _swan ; Bittern;  Black-tailed _godwit ; Brent _goose ; Chough;  Common _scoter ; Common _seal ; Common _tern ; Cormorant;  Curlew;  Dunlin;  Fish _egg ; Gadwall;  Gannet;  Golden _plover ; Great _crested ; Grey _plover ; Grey _seal ; Gulliemot;  Hen _harrier ; Kittewake;  Knot;  Lapwing;  Lesser _blackbacked ; Little _tern ; Manx _shearwater ; Marsh _harrier ; Mediterranean _gull ; Otter _(female) ; Otter _(male) ; Oystercatcher;  Peregrine;  Phytoplankton;  Pink-footed _goose ; Pintail;  Puffin;  Razorbill;  Redshank;  Ringed _plover ; Ruff;  Sanderling;  Sandwich _tern ; Scaup;  Seabird;  Seal;  Shelduck _(female) ; Shelduck _(male) ; Snipe;  Storm _petrel ; Teal ; Tufted _duck ; Tufted _duck ; Turnstone ; Whale ; White-fronted _goose ; ",0]
["Americium-242","-",0,"Amphibian ; Aqu. mammal; Avocet ; Bar-tailed godwit; Bewicks swan; Bittern ; Black-tailed godwit; Brent goose; Common scoter; Cormorant ; Curlew ; Duck ; Dunlin ; Gadwall ; Golden plover; Great crested grebe ; Great crested newt ; Grey plover; Hen harrier (female) ; Hen harrier (male) ; Knot ; Lapwing ; Lesser blackbacked gull (female); Lesser blackbacked gull (male); Marsh harrier; Mediterraneangull ; Natterjack toad; Otter (male and female); Oystercatcher ; Phytoplankton ; Pink-footed goose; Pintail ; Redshank ; Ringed plover; Ruff ; Sanderling ; Scaup ; Shelduck (female); Shelduck (male); Shoveler ; Snipe ; Southern damselfly; Teal (female); Teal (male); Tufted duck (female) ; Tufted duck (male) ; Turnstone ; White-fronted goose; Whooper swan; Wigeon  ; ; ",null,"Americium-242",null,0,"Avocet;  Bar-tailed _godwit ; Bewicks _swan ; Bittern;  Black-tailed _godwit ; Brent _goose ; Chough;  Common _scoter ; Common _seal ; Common _tern ; Cormorant;  Curlew;  Dunlin;  Fish _egg ; Gadwall;  Gannet;  Golden _plover ; Great _crested ; Grey _plover ; Grey _seal ; Gulliemot;  Hen _harrier ; Kittewake;  Knot;  Lapwing;  Lesser _blackbacked ; Little _tern ; Manx _shearwater ; Marsh _harrier ; Mediterranean _gull ; Otter _(female) ; Otter _(male) ; Oystercatcher;  Peregrine;  Phytoplankton;  Pink-footed _goose ; Pintail;  Puffin;  Razorbill;  Redshank;  Ringed _plover ; Ruff;  Sanderling;  Sandwich _tern ; Scaup;  Seabird;  Seal;  Shelduck _(female) ; Shelduck _(male) ; Snipe;  Storm _petrel ; Teal ; Tufted _duck ; Tufted _duck ; Turnstone ; Whale ; White-fronted _goose ; ",0]
["Americium-243","-",0,"Amphibian ; Aqu. mammal; Avocet ; Bar-tailed godwit; Bewicks swan; Bittern ; Black-tailed godwit; Brent goose; Common scoter; Cormorant ; Curlew ; Duck ; Dunlin ; Gadwall ; Golden plover; Great crested grebe ; Great crested newt ; Grey plover; Hen harrier (female) ; Hen harrier (male) ; Knot ; Lapwing ; Lesser blackbacked gull (female); Lesser blackbacked gull (male); Marsh harrier; Mediterraneangull ; Natterjack toad; Otter (male and female); Oystercatcher ; Phytoplankton ; Pink-footed goose; Pintail ; Redshank ; Ringed plover; Ruff ; Sanderling ; Scaup ; Shelduck (female); Shelduck (male); Shoveler ; Snipe ; Southern damselfly; Teal (female); Teal (male); Tufted duck (female) ; Tufted duck (male) ; Turnstone ; White-fronted goose; Whooper swan; Wigeon  ; ; ",null,"Americium-243",null,0,"Avocet;  Bar-tailed _godwit ; Bewicks _swan ; Bittern;  Black-tailed _godwit ; Brent _goose ; Chough;  Common _scoter ; Common _seal ; Common _tern ; Cormorant;  Curlew;  Dunlin;  Fish _egg ; Gadwall;  Gannet;  Golden _plover ; Great _crested ; Grey _plover ; Grey _seal ; Gulliemot;  Hen _harrier ; Kittewake;  Knot;  Lapwing;  Lesser _blackbacked ; Little _tern ; Manx _shearwater ; Marsh _harrier ; Mediterranean _gull ; Otter _(female) ; Otter _(male) ; Oystercatcher;  Peregrine;  Phytoplankton;  Pink-footed _goose ; Pintail;  Puffin;  Razorbill;  Redshank;  Ringed _plover ; Ruff;  Sanderling;  Sandwich _tern ; Scaup;  Seabird;  Seal;  Shelduck _(female) ; Shelduck _(male) ; Snipe;  Storm _petrel ; Teal ; Tufted _duck ; Tufted _duck ; Turnstone ; Whale ; White-fronted _goose ; ",0]
["Curium-242","-",0,"Amphibian ; Great crested newt ; Natterjack toad; Southern damselfly                     ",null,"Curium-242",null,0,"Avocet;  Bar-tailed _godwit ; Bewicks _swan ; Bittern;  Black-tailed _godwit ; Brent _goose ; Chough;  Common _scoter ; Common _seal ; Common _tern ; Cormorant;  Curlew;  Dunlin;  Fish _egg ; Gadwall;  Gannet;  Golden _plover ; Great _crested ; Grey _plover ; Grey _seal ; Gulliemot;  Hen _harrier ; Kittewake;  Knot;  Lapwing;  Lesser _blackbacked ; Little _tern ; Manx _shearwater ; Marsh _harrier ; Mediterranean _gull ; Otter _(female) ; Otter _(male) ; Oystercatcher;  Peregrine;  Pink-footed _goose ; Pintail;  Pu-alpha ; Puffin;  Razorbill;  Redshank;  Ringed _plover ; Ruff;  Sanderling;  Sandwich _tern ; Scaup;  Seabird;  Seal;  Shelduck _(female) ; Shelduck _(male) ; Snipe;  Storm _petrel ; Teal ; Tufted _duck ; Tufted _duck ; Turnstone ; Whale ; White-fronted _goose ; ",0]
["Curium-243","-",0,"Amphibian ; Great crested newt ; Natterjack toad; Southern damselfly                     ",null,"Curium-243",null,0,"Avocet;  Bar-tailed _godwit ; Bewicks _swan ; Bittern;  Black-tailed _godwit ; Brent _goose ; Chough;  Common _scoter ; Common _seal ; Common _tern ; Cormorant;  Curlew;  Dunlin;  Fish _egg ; Gadwall;  Gannet;  Golden _plover ; Great _crested ; Grey _plover ; Grey _seal ; Gulliemot;  Hen _harrier ; Kittewake;  Knot;  Lapwing;  Lesser _blackbacked ; Little _tern ; Manx _shearwater ; Marsh _harrier ; Mediterranean _gull ; Otter _(female) ; Otter _(male) ; Oystercatcher;  Peregrine;  Pink-footed _goose ; Pintail;  Pu-alpha ; Puffin;  Razorbill;  Redshank;  Ringed _plover ; Ruff;  Sanderling;  Sandwich _tern ; Scaup;  Seabird;  Seal;  Shelduck _(female) ; Shelduck _(male) ; Snipe;  Storm _petrel ; Teal ; Tufted _duck ; Tufted _duck ; Turnstone ; Whale ; White-fronted _goose ; ",0]
["Curium-244","-",0,"Amphibian ; Great crested newt ; Natterjack toad; Southern damselfly                     ",null,"Curium-244",null,0,"Avocet;  Bar-tailed _godwit ; Bewicks _swan ; Bittern;  Black-tailed _godwit ; Brent _goose ; Chough;  Common _scoter ; Common _seal ; Common _tern ; Cormorant;  Curlew;  Dunlin;  Fish _egg ; Gadwall;  Gannet;  Golden _plover ; Great _crested ; Grey _plover ; Grey _seal ; Gulliemot;  Hen _harrier ; Kittewake;  Knot;  Lapwing;  Lesser _blackbacked ; Little _tern ; Manx _shearwater ; Marsh _harrier ; Mediterranean _gull ; Otter _(female) ; Otter _(male) ; Oystercatcher;  Peregrine;  Pink-footed _goose ; Pintail;  Pu-alpha ; Puffin;  Razorbill;  Redshank;  Ringed _plover ; Ruff;  Sanderling;  Sandwich _tern ; Scaup;  Seabird;  Seal;  Shelduck _(female) ; Shelduck _(male) ; Snipe;  Storm _petrel ; Teal ; Tufted _duck ; Tufted _duck ; Turnstone ; Whale ; White-fronted _goose ; ",0]
["Other alpha-emitting nuclides","Radium-226",0,"Bewicks swan; Bittern ; Common scoter; Cormorant ; Duck ; Dunlin ; Golden plover; Grey plover; Knot ; Lapwing ; Otter (male and female); Pink-footed goose; Ruff ; Sanderling ; Scaup ; Shelduck (male); Snipe ; Tufted duck (male) ; White-fronted goose; Whooper swan             ",null,"Other alpha-emitting nuclides",null,0,"Grey _seal ",0]
["Other beta/gamma-emitting nuclides","Caesium-137",3.5598047192839714E-10,"Brook lamprey; Golden plover; Grey plover; Knot ; Lapwing ; Otter (male and female); Pink-footed goose; Ruff ; Sanderling ; Sea lamprey; Snipe ; White-fronted goose                 ",null,"Other beta/gamma-emitting nuclides","Caesium-137",0,"Grey _seal ; Whale ",3.5598047192839714E-10]

{"sheet":"Total Doses","index":8,"n_rows":29,"n_cols":3,"rows_kept":29,"cut":false,"hidden":false,"merged":[]}
[]
[]
["Total Doses"]
[1000,553,"stop"]
[null,"PERMIT No."]
["Population group","Total Doses"]
["    STW worker dose at STW",null,0]
["    Farming family dose (sewage sludge to land)",null,0]
["    Child playing in burn",null,0]
["    Angler dose (river)",null,0]
["    Irrigated food consumer dose (river water)",null,0]
["    Fisherman dose (estuary/coastal)",null,0]
[null,null,0]
["    Worst ",0,0]
[null,null,0]
["FSA consultation required for non-nuclear permit?",null,0]
[null,null,0]
["Wildlife Group",null,0]
["    River wildlife - Worst affected  (mGy/y)",null,0]
["    Estuary wildlife - Worst affected  (mGy/y)",null,0]
[null,null,0]
[null,"Food Dose",0]
[null,null,0]
["    Farming family dose (sewage sludge to land)",null,0]
["    Angler dose (river) ",null,0]
["    Irrigated food consumer dose (river water) ",null,0]
["    Fisherman dose (estuary/coastal)",null,0]
[null,null,0]
["    Worst ",0,0]

{"sheet":"Worker","index":9,"n_rows":102,"n_cols":5,"rows_kept":102,"cut":false,"hidden":false,"merged":[[3,1,3,3],[4,1,4,3]]}
["Total dose"]
["Worker"]
["Unit Factor"]
[1000,553,null,null,"stop"]
[null,"PERMIT No."]
["Radionuclide","External dose","Inadvertent inh and ing dose","Total dose","Cumulative Dose"]
[null,"mSv/y","mSv/y","mSv/y",{"$f":"('Assessment Details'!$C$10)","v":"mSv/y"}]
["Tritium",null,null,null,{"$f":"SUMIF($6:$6,$A$1,8:8)","v":0}]
["Tritium (Organically Bound)",null,null,null,{"$f":"SUMIF($6:$6,$A$1,9:9)","v":0}]
["Carbon-11",null,null,null,0]
["Carbon-14",null,null,null,0]
["Fluorine-18",null,null,null,0]
["Sodium-22",null,null,null,0]
["Sodium-24",null,null,null,0]
["Phosphorus-32",null,null,null,0]
["Phosphorus-33",null,null,null,0]
["Sulphur-35",null,null,null,0]
["Chlorine-36",null,null,null,0]
["Calcium-45",null,null,null,0]
["Calcium-47",null,null,null,0]
["Vanadium-48",null,null,null,0]
["Chromium-51",null,null,null,0]
["Manganese-52",null,null,null,0]
["Manganese-54",null,null,null,0]
["Manganese-56",null,null,null,0]
["Iron-55",null,null,null,0]
["Iron-59",null,null,null,0]
["Cobalt-56",null,null,null,0]
["Cobalt-57",null,null,null,0]
["Cobalt-58",null,null,null,0]
["Cobalt-60",null,null,null,0]
["Nickel-63",null,null,null,0]
["Zinc-65",null,null,null,0]
["Gallium-67",null,null,null,0]
["Selenium-75",null,null,null,0]
["Bromine-82",null,null,null,0]
["Rubidium-82",null,null,null,0]
["Rubidium-83",null,null,null,0]
["Strontium-89",null,null,null,0]
["Strontium-90",null,null,null,0]
["Yttrium-90",null,null,null,0]
["Zirconium-95",null,null,null,0]
["Niobium-95",null,null,null,0]
["Molybdenum-99",null,null,null,0]
["Technetium-99",null,null,null,0]
["Technetium-99m",null,null,null,0]
["Ruthenium-103",null,null,null,0]
["Ruthenium-106",null,null,null,0]
["Silver-110m",null,null,null,0]
["Indium-111",null,null,null,0]
["Indium-113m",null,null,null,0]
["Antimony-125",null,null,null,0]
["Iodine-123",null,null,null,0]
["Iodine-125",null,null,null,0]
["Iodine-129",null,null,null,0]
["Iodine-131",null,null,null,0]
["Iodine-132",null,null,null,0]
["Iodine-133",null,null,null,0]
["Iodine-134",null,null,null,0]
["Iodine-135",null,null,null,0]
["Caesium-134",null,null,null,0]
["Caesium-136",null,null,null,0]
["Caesium-137",null,null,null,0]
["Barium-140",null,null,null,0]
["Lanthanum-140",null,null,null,0]
["Cerium-141",null,null,null,0]
["Cerium-144",null,null,null,0]
["Promethium-147",null,null,null,0]
["Samarium-153",null,null,null,0]
["Europium-152",null,null,null,0]
["Europium-154",null,null,null,0]
["Europium-155",null,null,null,0]
["Erbium-169",null,null,null,{"$f":"SUMIF($6:$6,$A$1,73:73)","v":0}]
["Lutetium-177",null,null,null,0]
["Gold-198",null,null,null,0]
["Thallium-201",null,null,null,0]
["Lead-210",null,null,null,0]
["Polonium-210",null,null,null,0]
["Radium-223",null,null,null,0]
["Radium-226",null,null,null,0]
["Thorium-230",null,null,null,0]
["Thorium-232",null,null,null,0]
["Thorium-234",null,null,null,0]
["Uranium-234",null,null,null,0]
["Uranium-235",null,null,null,0]
["Uranium-238",null,null,null,0]
["Neptunium-237",null,null,null,0]
["Plutonium-238",null,null,null,0]
["Plutonium-239",null,null,null,0]
["Plutonium-240",null,null,null,0]
["Plutonium-241",null,null,null,0]
["Plutonium-242",null,null,null,0]
["Americium-241",null,null,null,0]
["Americium-242",null,null,null,0]
["Americium-243",null,null,null,0]
["Curium-242",null,null,null,0]
["Curium-243",null,null,null,0]
["Curium-244",null,null,null,0]
["Other alpha-emitting nuclides",null,null,null,0]
["Other beta/gamma-emitting nuclides",null,null,null,0]
[]
[0,0,0,0,{"$f":"('Assessment Details'!$C$10)","v":"mSv/y"}]

{"sheet":"Farming Family","index":10,"n_rows":102,"n_cols":6,"rows_kept":102,"cut":false,"hidden":false,"merged":[[3,1,3,4],[4,1,4,4]]}
["Total dose"]
["Farming Family"]
["Unit Factor"]
[1000,553,null,null,null,"stop"]
[null,"PERMIT No."]
["Radionuclide","Food dose","External dose","Inadvertent inh and ing dose","Total dose","Cumulative Dose"]
[null,"mSv/y","mSv/y","mSv/y","mSv/y",{"$f":"('Assessment Details'!$C$10)","v":"mSv/y"}]
["Tritium",null,null,null,null,{"$f":"SUMIF($6:$6,$A$1,8:8)","v":0}]
["Tritium (Organically Bound)",null,null,null,null,{"$f":"SUMIF($6:$6,$A$1,9:9)","v":0}]
["Carbon-11",null,null,null,null,0]
["Carbon-14",null,null,null,null,0]
["Fluorine-18",null,null,null,null,0]
["Sodium-22",null,null,null,null,0]
["Sodium-24",null,null,null,null,0]
["Phosphorus-32",null,null,null,null,0]
["Phosphorus-33",null,null,null,null,0]
["Sulphur-35",null,null,null,null,0]
["Chlorine-36",null,null,null,null,0]
["Calcium-45",null,null,null,null,0]
["Calcium-47",null,null,null,null,0]
["Vanadium-48",null,null,null,null,0]
["Chromium-51",null,null,null,null,0]
["Manganese-52",null,null,null,null,0]
["Manganese-54",null,null,null,null,0]
["Manganese-56",null,null,null,null,0]
["Iron-55",null,null,null,null,0]
["Iron-59",null,null,null,null,0]
["Cobalt-56",null,null,null,null,0]
["Cobalt-57",null,null,null,null,0]
["Cobalt-58",null,null,null,null,0]
["Cobalt-60",null,null,null,null,0]
["Nickel-63",null,null,null,null,0]
["Zinc-65",null,null,null,null,0]
["Gallium-67",null,null,null,null,0]
["Selenium-75",null,null,null,null,0]
["Bromine-82",null,null,null,null,0]
["Rubidium-82",null,null,null,null,0]
["Rubidium-83",null,null,null,null,0]
["Strontium-89",null,null,null,null,0]
["Strontium-90",null,null,null,null,0]
["Yttrium-90",null,null,null,null,0]
["Zirconium-95",null,null,null,null,0]
["Niobium-95",null,null,null,null,0]
["Molybdenum-99",null,null,null,null,0]
["Technetium-99",null,null,null,null,0]
["Technetium-99m",null,null,null,null,0]
["Ruthenium-103",null,null,null,null,0]
["Ruthenium-106",null,null,null,null,0]
["Silver-110m",null,null,null,null,0]
["Indium-111",null,null,null,null,0]
["Indium-113m",null,null,null,null,0]
["Antimony-125",null,null,null,null,0]
["Iodine-123",null,null,null,null,0]
["Iodine-125",null,null,null,null,0]
["Iodine-129",null,null,null,null,0]
["Iodine-131",null,null,null,null,0]
["Iodine-132",null,null,null,null,0]
["Iodine-133",null,null,null,null,0]
["Iodine-134",null,null,null,null,0]
["Iodine-135",null,null,null,null,0]
["Caesium-134",null,null,null,null,0]
["Caesium-136",null,null,null,null,0]
["Caesium-137",null,null,null,null,0]
["Barium-140",null,null,null,null,0]
["Lanthanum-140",null,null,null,null,0]
["Cerium-141",null,null,null,null,0]
["Cerium-144",null,null,null,null,0]
["Promethium-147",null,null,null,null,0]
["Samarium-153",null,null,null,null,0]
["Europium-152",null,null,null,null,0]
["Europium-154",null,null,null,null,0]
["Europium-155",null,null,null,null,0]
["Erbium-169",null,null,null,null,{"$f":"SUMIF($6:$6,$A$1,73:73)","v":0}]
["Lutetium-177",null,null,null,null,0]
["Gold-198",null,null,null,null,0]
["Thallium-201",null,null,null,null,0]
["Lead-210",null,null,null,null,0]
["Polonium-210",null,null,null,null,0]
["Radium-223",null,null,null,null,0]
["Radium-226",null,null,null,null,0]
["Thorium-230",null,null,null,null,0]
["Thorium-232",null,null,null,null,0]
["Thorium-234",null,null,null,null,0]
["Uranium-234",null,null,null,null,0]
["Uranium-235",null,null,null,null,0]
["Uranium-238",null,null,null,null,0]
["Neptunium-237",null,null,null,null,0]
["Plutonium-238",null,null,null,null,0]
["Plutonium-239",null,null,null,null,0]
["Plutonium-240",null,null,null,null,0]
["Plutonium-241",null,null,null,null,0]
["Plutonium-242",null,null,null,null,0]
["Americium-241",null,null,null,null,0]
["Americium-242",null,null,null,null,0]
["Americium-243",null,null,null,null,0]
["Curium-242",null,null,null,null,0]
["Curium-243",null,null,null,null,0]
["Curium-244",null,null,null,null,0]
["Other alpha-emitting nuclides",null,null,null,null,0]
["Other beta/gamma-emitting nuclides",null,null,null,null,0]
[]
[null,0,0,0,0,{"$f":"('Assessment Details'!$C$10)","v":"mSv/y"}]

{"sheet":"Child playing in burn","index":11,"n_rows":102,"n_cols":5,"rows_kept":102,"cut":false,"hidden":false,"merged":[[3,1,3,3],[4,1,4,3]]}
["Total dose"]
["Child playing in burn"]
["Unit Factor"]
[1000,553,null,null,"stop"]
[null,"PERMIT No."]
["Radionuclide","External dose","Inadvertent inh and ing dose","Total dose","Cumulative Dose"]
[null,"mSv/y","mSv/y","mSv/y",{"$f":"('Assessment Details'!$C$10)","v":"mSv/y"}]
["Tritium",null,null,null,{"$f":"SUMIF($6:$6,$A$1,8:8)","v":0}]
["Tritium (Organically Bound)",null,null,null,{"$f":"SUMIF($6:$6,$A$1,9:9)","v":0}]
["Carbon-11",null,null,null,0]
["Carbon-14",null,null,null,0]
["Fluorine-18",null,null,null,0]
["Sodium-22",null,null,null,0]
["Sodium-24",null,null,null,0]
["Phosphorus-32",null,null,null,0]
["Phosphorus-33",null,null,null,0]
["Sulphur-35",null,null,null,0]
["Chlorine-36",null,null,null,0]
["Calcium-45",null,null,null,0]
["Calcium-47",null,null,null,0]
["Vanadium-48",null,null,null,0]
["Chromium-51",null,null,null,0]
["Manganese-52",null,null,null,0]
["Manganese-54",null,null,null,0]
["Manganese-56",null,null,null,0]
["Iron-55",null,null,null,0]
["Iron-59",null,null,null,0]
["Cobalt-56",null,null,null,0]
["Cobalt-57",null,null,null,0]
["Cobalt-58",null,null,null,0]
["Cobalt-60",null,null,null,0]
["Nickel-63",null,null,null,0]
["Zinc-65",null,null,null,0]
["Gallium-67",null,null,null,0]
["Selenium-75",null,null,null,0]
["Bromine-82",null,null,null,0]
["Rubidium-82",null,null,null,0]
["Rubidium-83",null,null,null,0]
["Strontium-89",null,null,null,0]
["Strontium-90",null,null,null,0]
["Yttrium-90",null,null,null,0]
["Zirconium-95",null,null,null,0]
["Niobium-95",null,null,null,0]
["Molybdenum-99",null,null,null,0]
["Technetium-99",null,null,null,0]
["Technetium-99m",null,null,null,0]
["Ruthenium-103",null,null,null,0]
["Ruthenium-106",null,null,null,0]
["Silver-110m",null,null,null,0]
["Indium-111",null,null,null,0]
["Indium-113m",null,null,null,0]
["Antimony-125",null,null,null,0]
["Iodine-123",null,null,null,0]
["Iodine-125",null,null,null,0]
["Iodine-129",null,null,null,0]
["Iodine-131",null,null,null,0]
["Iodine-132",null,null,null,0]
["Iodine-133",null,null,null,0]
["Iodine-134",null,null,null,0]
["Iodine-135",null,null,null,0]
["Caesium-134",null,null,null,0]
["Caesium-136",null,null,null,0]
["Caesium-137",null,null,null,0]
["Barium-140",null,null,null,0]
["Lanthanum-140",null,null,null,0]
["Cerium-141",null,null,null,0]
["Cerium-144",null,null,null,0]
["Promethium-147",null,null,null,0]
["Samarium-153",null,null,null,0]
["Europium-152",null,null,null,0]
["Europium-154",null,null,null,0]
["Europium-155",null,null,null,0]
["Erbium-169",null,null,null,{"$f":"SUMIF($6:$6,$A$1,73:73)","v":0}]
["Lutetium-177",null,null,null,0]
["Gold-198",null,null,null,0]
["Thallium-201",null,null,null,0]
["Lead-210",null,null,null,0]
["Polonium-210",null,null,null,0]
["Radium-223",null,null,null,0]
["Radium-226",null,null,null,0]
["Thorium-230",null,null,null,0]
["Thorium-232",null,null,null,0]
["Thorium-234",null,null,null,0]
["Uranium-234",null,null,null,0]
["Uranium-235",null,null,null,0]
["Uranium-238",null,null,null,0]
["Neptunium-237",null,null,null,0]
["Plutonium-238",null,null,null,0]
["Plutonium-239",null,null,null,0]
["Plutonium-240",null,null,null,0]
["Plutonium-241",null,null,null,0]
["Plutonium-242",null,null,null,0]
["Americium-241",null,null,null,0]
["Americium-242",null,null,null,0]
["Americium-243",null,null,null,0]
["Curium-242",null,null,null,0]
["Curium-243",null,null,null,0]
["Curium-244",null,null,null,0]
["Other alpha-emitting nuclides",null,null,null,0]
["Other beta/gamma-emitting nuclides",null,null,null,0]
[]
[null,0,0,0,{"$f":"('Assessment Details'!$C$10)","v":"mSv/y"}]

{"sheet":"Angler","index":12,"n_rows":102,"n_cols":6,"rows_kept":102,"cut":false,"hidden":false,"merged":[[3,1,3,4],[4,1,4,4]]}
["Total dose"]
["Angler"]
["Unit factor"]
[1000,553,null,null,null,"stop"]
[null,"PERMIT No."]
["Radionuclide","External dose","Fish dose","Water dose","Total dose","Cumulative Dose"]
[null,"mSv/y","mSv/y","mSv/y","mSv/y",{"$f":"('Assessment Details'!$C$10)","v":"mSv/y"}]
["Tritium",null,null,null,null,{"$f":"SUMIF($6:$6,$A$1,8:8)","v":0}]
["Tritium (Organically Bound)",null,null,null,null,{"$f":"SUMIF($6:$6,$A$1,9:9)","v":0}]
["Carbon-11",null,null,null,null,0]
["Carbon-14",null,null,null,null,0]
["Fluorine-18",null,null,null,null,0]
["Sodium-22",null,null,null,null,0]
["Sodium-24",null,null,null,null,0]
["Phosphorus-32",null,null,null,null,0]
["Phosphorus-33",null,null,null,null,0]
["Sulphur-35",null,null,null,null,0]
["Chlorine-36",null,null,null,null,0]
["Calcium-45",null,null,null,null,0]
["Calcium-47",null,null,null,null,0]
["Vanadium-48",null,null,null,null,0]
["Chromium-51",null,null,null,null,0]
["Manganese-52",null,null,null,null,0]
["Manganese-54",null,null,null,null,0]
["Manganese-56",null,null,null,null,0]
["Iron-55",null,null,null,null,0]
["Iron-59",null,null,null,null,0]
["Cobalt-56",null,null,null,null,0]
["Cobalt-57",null,null,null,null,0]
["Cobalt-58",null,null,null,null,0]
["Cobalt-60",null,null,null,null,0]
["Nickel-63",null,null,null,null,0]
["Zinc-65",null,null,null,null,0]
["Gallium-67",null,null,null,null,0]
["Selenium-75",null,null,null,null,0]
["Bromine-82",null,null,null,null,0]
["Rubidium-82",null,null,null,null,0]
["Rubidium-83",null,null,null,null,0]
["Strontium-89",null,null,null,null,0]
["Strontium-90",null,null,null,null,0]
["Yttrium-90",null,null,null,null,0]
["Zirconium-95",null,null,null,null,0]
["Niobium-95",null,null,null,null,0]
["Molybdenum-99",null,null,null,null,0]
["Technetium-99",null,null,null,null,0]
["Technetium-99m",null,null,null,null,0]
["Ruthenium-103",null,null,null,null,0]
["Ruthenium-106",null,null,null,null,0]
["Silver-110m",null,null,null,null,0]
["Indium-111",null,null,null,null,0]
["Indium-113m",null,null,null,null,0]
["Antimony-125",null,null,null,null,0]
["Iodine-123",null,null,null,null,0]
["Iodine-125",null,null,null,null,0]
["Iodine-129",null,null,null,null,0]
["Iodine-131",null,null,null,null,0]
["Iodine-132",null,null,null,null,0]
["Iodine-133",null,null,null,null,0]
["Iodine-134",null,null,null,null,0]
["Iodine-135",null,null,null,null,0]
["Caesium-134",null,null,null,null,0]
["Caesium-136",null,null,null,null,0]
["Caesium-137",null,null,null,null,0]
["Barium-140",null,null,null,null,0]
["Lanthanum-140",null,null,null,null,0]
["Cerium-141",null,null,null,null,0]
["Cerium-144",null,null,null,null,0]
["Promethium-147",null,null,null,null,0]
["Samarium-153",null,null,null,null,0]
["Europium-152",null,null,null,null,0]
["Europium-154",null,null,null,null,0]
["Europium-155",null,null,null,null,0]
["Erbium-169",null,null,null,null,{"$f":"SUMIF($6:$6,$A$1,73:73)","v":0}]
["Lutetium-177",null,null,null,null,0]
["Gold-198",null,null,null,null,0]
["Thallium-201",null,null,null,null,0]
["Lead-210",null,null,null,null,0]
["Polonium-210",null,null,null,null,0]
["Radium-223",null,null,null,null,0]
["Radium-226",null,null,null,null,0]
["Thorium-230",null,null,null,null,0]
["Thorium-232",null,null,null,null,0]
["Thorium-234",null,null,null,null,0]
["Uranium-234",null,null,null,null,0]
["Uranium-235",null,null,null,null,0]
["Uranium-238",null,null,null,null,0]
["Neptunium-237",null,null,null,null,0]
["Plutonium-238",null,null,null,null,0]
["Plutonium-239",null,null,null,null,0]
["Plutonium-240",null,null,null,null,0]
["Plutonium-241",null,null,null,null,0]
["Plutonium-242",null,null,null,null,0]
["Americium-241",null,null,null,null,0]
["Americium-242",null,null,null,null,0]
["Americium-243",null,null,null,null,0]
["Curium-242",null,null,null,null,0]
["Curium-243",null,null,null,null,0]
["Curium-244",null,null,null,null,0]
["Other alpha-emitting nuclides",null,null,null,null,0]
["Other beta/gamma-emitting nuclides",null,null,null,null,0]
[]
[null,0,0,0,0,{"$f":"('Assessment Details'!$C$10)","v":"mSv/y"}]

{"sheet":"Irrigated Food Consumer","index":13,"n_rows":102,"n_cols":4,"rows_kept":102,"cut":false,"hidden":false,"merged":[[3,1,3,2],[4,1,4,2]]}
["Total dose"]
["Irrigated Food Consumer"]
["Unit Factor"]
[1000,553,null,"stop"]
[null,"PERMIT No."]
["Radionuclide","Food dose","Total dose","Cumulative Dose"]
[null,"mSv/y","mSv/y",{"$f":"('Assessment Details'!$C$10)","v":"mSv/y"}]
["Tritium",null,null,{"$f":"SUMIF($6:$6,$A$1,8:8)","v":0}]
["Tritium (Organically Bound)",null,null,{"$f":"SUMIF($6:$6,$A$1,9:9)","v":0}]
["Carbon-11",null,null,0]
["Carbon-14",null,null,0]
["Fluorine-18",null,null,0]
["Sodium-22",null,null,0]
["Sodium-24",null,null,0]
["Phosphorus-32",null,null,0]
["Phosphorus-33",null,null,0]
["Sulphur-35",null,null,0]
["Chlorine-36",null,null,0]
["Calcium-45",null,null,0]
["Calcium-47",null,null,0]
["Vanadium-48",null,null,0]
["Chromium-51",null,null,0]
["Manganese-52",null,null,0]
["Manganese-54",null,null,0]
["Manganese-56",null,null,0]
["Iron-55",null,null,0]
["Iron-59",null,null,0]
["Cobalt-56",null,null,0]
["Cobalt-57",null,null,0]
["Cobalt-58",null,null,0]
["Cobalt-60",null,null,0]
["Nickel-63",null,null,0]
["Zinc-65",null,null,0]
["Gallium-67",null,null,0]
["Selenium-75",null,null,0]
["Bromine-82",null,null,0]
["Rubidium-82",null,null,0]
["Rubidium-83",null,null,0]
["Strontium-89",null,null,0]
["Strontium-90",null,null,0]
["Yttrium-90",null,null,0]
["Zirconium-95",null,null,0]
["Niobium-95",null,null,0]
["Molybdenum-99",null,null,0]
["Technetium-99",null,null,0]
["Technetium-99m",null,null,0]
["Ruthenium-103",null,null,0]
["Ruthenium-106",null,null,0]
["Silver-110m",null,null,0]
["Indium-111",null,null,0]
["Indium-113m",null,null,0]
["Antimony-125",null,null,0]
["Iodine-123",null,null,0]
["Iodine-125",null,null,0]
["Iodine-129",null,null,0]
["Iodine-131",null,null,0]
["Iodine-132",null,null,0]
["Iodine-133",null,null,0]
["Iodine-134",null,null,0]
["Iodine-135",null,null,0]
["Caesium-134",null,null,0]
["Caesium-136",null,null,0]
["Caesium-137",null,null,0]
["Barium-140",null,null,0]
["Lanthanum-140",null,null,0]
["Cerium-141",null,null,0]
["Cerium-144",null,null,0]
["Promethium-147",null,null,0]
["Samarium-153",null,null,0]
["Europium-152",null,null,0]
["Europium-154",null,null,0]
["Europium-155",null,null,0]
["Erbium-169",null,null,{"$f":"SUMIF($6:$6,$A$1,73:73)","v":0}]
["Lutetium-177",null,null,0]
["Gold-198",null,null,0]
["Thallium-201",null,null,0]
["Lead-210",null,null,0]
["Polonium-210",null,null,0]
["Radium-223",null,null,0]
["Radium-226",null,null,0]
["Thorium-230",null,null,0]
["Thorium-232",null,null,0]
["Thorium-234",null,null,0]
["Uranium-234",null,null,0]
["Uranium-235",null,null,0]
["Uranium-238",null,null,0]
["Neptunium-237",null,null,0]
["Plutonium-238",null,null,0]
["Plutonium-239",null,null,0]
["Plutonium-240",null,null,0]
["Plutonium-241",null,null,0]
["Plutonium-242",null,null,0]
["Americium-241",null,null,0]
["Americium-242",null,null,0]
["Americium-243",null,null,0]
["Curium-242",null,null,0]
["Curium-243",null,null,0]
["Curium-244",null,null,0]
["Other alpha-emitting nuclides",null,null,0]
["Other beta/gamma-emitting nuclides",null,null,0]
[]
[null,0,0,{"$f":"('Assessment Details'!$C$10)","v":"mSv/y"}]

{"sheet":"Fisherman","index":14,"n_rows":102,"n_cols":5,"rows_kept":102,"cut":false,"hidden":false,"merged":[[3,1,3,3],[4,1,4,3]]}
["Total dose"]
["Fisherman"]
["Unit Factor"]
[1000,553,null,null,"stop"]
[null,"PERMIT No."]
["Radionuclide","External dose","Fish dose","Total dose","Cumulative Dose"]
[null,"mSv/y","mSv/y","mSv/y",{"$f":"('Assessment Details'!$C$10)","v":"mSv/y"}]
["Tritium",null,null,null,{"$f":"SUMIF($6:$6,$A$1,8:8)","v":0}]
["Tritium (Organically Bound)",null,null,null,{"$f":"SUMIF($6:$6,$A$1,9:9)","v":0}]
["Carbon-11",null,null,null,0]
["Carbon-14",null,null,null,0]
["Fluorine-18",null,null,null,0]
["Sodium-22",null,null,null,0]
["Sodium-24",null,null,null,0]
["Phosphorus-32",null,null,null,0]
["Phosphorus-33",null,null,null,0]
["Sulphur-35",null,null,null,0]
["Chlorine-36",null,null,null,0]
["Calcium-45",null,null,null,0]
["Calcium-47",null,null,null,0]
["Vanadium-48",null,null,null,0]
["Chromium-51",null,null,null,0]
["Manganese-52",null,null,null,0]
["Manganese-54",null,null,null,0]
["Manganese-56",null,null,null,0]
["Iron-55",null,null,null,0]
["Iron-59",null,null,null,0]
["Cobalt-56",null,null,null,0]
["Cobalt-57",null,null,null,0]
["Cobalt-58",null,null,null,0]
["Cobalt-60",null,null,null,0]
["Nickel-63",null,null,null,0]
["Zinc-65",null,null,null,0]
["Gallium-67",null,null,null,0]
["Selenium-75",null,null,null,0]
["Bromine-82",null,null,null,0]
["Rubidium-82",null,null,null,0]
["Rubidium-83",null,null,null,0]
["Strontium-89",null,null,null,0]
["Strontium-90",null,null,null,0]
["Yttrium-90",null,null,null,0]
["Zirconium-95",null,null,null,0]
["Niobium-95",null,null,null,0]
["Molybdenum-99",null,null,null,0]
["Technetium-99",null,null,null,0]
["Technetium-99m",null,null,null,0]
["Ruthenium-103",null,null,null,0]
["Ruthenium-106",null,null,null,0]
["Silver-110m",null,null,null,0]
["Indium-111",null,null,null,0]
["Indium-113m",null,null,null,0]
["Antimony-125",null,null,null,0]
["Iodine-123",null,null,null,0]
["Iodine-125",null,null,null,0]
["Iodine-129",null,null,null,0]
["Iodine-131",null,null,null,0]
["Iodine-132",null,null,null,0]
["Iodine-133",null,null,null,0]
["Iodine-134",null,null,null,0]
["Iodine-135",null,null,null,0]
["Caesium-134",null,null,null,0]
["Caesium-136",null,null,null,0]
["Caesium-137",null,null,null,0]
["Barium-140",null,null,null,0]
["Lanthanum-140",null,null,null,0]
["Cerium-141",null,null,null,0]
["Cerium-144",null,null,null,0]
["Promethium-147",null,null,null,0]
["Samarium-153",null,null,null,0]
["Europium-152",null,null,null,0]
["Europium-154",null,null,null,0]
["Europium-155",null,null,null,0]
["Erbium-169",null,null,null,{"$f":"SUMIF($6:$6,$A$1,73:73)","v":0}]
["Lutetium-177",null,null,null,0]
["Gold-198",null,null,null,0]
["Thallium-201",null,null,null,0]
["Lead-210",null,null,null,0]
["Polonium-210",null,null,null,0]
["Radium-223",null,null,null,0]
["Radium-226",null,null,null,0]
["Thorium-230",null,null,null,0]
["Thorium-232",null,null,null,0]
["Thorium-234",null,null,null,0]
["Uranium-234",null,null,null,0]
["Uranium-235",null,null,null,0]
["Uranium-238",null,null,null,0]
["Neptunium-237",null,null,null,0]
["Plutonium-238",null,null,null,0]
["Plutonium-239",null,null,null,0]
["Plutonium-240",null,null,null,0]
["Plutonium-241",null,null,null,0]
["Plutonium-242",null,null,null,0]
["Americium-241",null,null,null,0]
["Americium-242",null,null,null,0]
["Americium-243",null,null,null,0]
["Curium-242",null,null,null,0]
["Curium-243",null,null,null,0]
["Curium-244",null,null,null,0]
["Other alpha-emitting nuclides",null,null,null,0]
["Other beta/gamma-emitting nuclides",null,null,null,0]
[]
[null,0,0,0,{"$f":"('Assessment Details'!$C$10)","v":"mSv/y"}]

{"sheet":"River Wildlife","index":15,"n_rows":102,"n_cols":3,"rows_kept":102,"cut":false,"hidden":false,"merged":[]}
["Worst affected organism"]
["River Wildlife"]
[]
[null,553,"stop"]
[null,"PERMIT No."]
["Radionuclide","Worst affected organism","Cumulative Dose"]
[null,"microGy/h","microGy/h"]
["Tritium",null,{"$f":"SUMIF($6:$6,$A$1,8:8)","v":0}]
["Tritium (Organically Bound)",null,{"$f":"SUMIF($6:$6,$A$1,9:9)","v":0}]
["Carbon-11",null,0]
["Carbon-14",null,0]
["Fluorine-18",null,0]
["Sodium-22",null,0]
["Sodium-24",null,0]
["Phosphorus-32",null,0]
["Phosphorus-33",null,0]
["Sulphur-35",null,0]
["Chlorine-36",null,0]
["Calcium-45",null,0]
["Calcium-47",null,0]
["Vanadium-48",null,0]
["Chromium-51",null,0]
["Manganese-52",null,0]
["Manganese-54",null,0]
["Manganese-56",null,0]
["Iron-55",null,0]
["Iron-59",null,0]
["Cobalt-56",null,0]
["Cobalt-57",null,0]
["Cobalt-58",null,0]
["Cobalt-60",null,0]
["Nickel-63",null,0]
["Zinc-65",null,0]
["Gallium-67",null,0]
["Selenium-75",null,0]
["Bromine-82",null,0]
["Rubidium-82",null,0]
["Rubidium-83",null,0]
["Strontium-89",null,0]
["Strontium-90",null,0]
["Yttrium-90",null,0]
["Zirconium-95",null,0]
["Niobium-95",null,0]
["Molybdenum-99",null,0]
["Technetium-99",null,0]
["Technetium-99m",null,0]
["Ruthenium-103",null,0]
["Ruthenium-106",null,0]
["Silver-110m",null,0]
["Indium-111",null,0]
["Indium-113m",null,0]
["Antimony-125",null,0]
["Iodine-123",null,0]
["Iodine-125",null,0]
["Iodine-129",null,0]
["Iodine-131",null,0]
["Iodine-132",null,0]
["Iodine-133",null,0]
["Iodine-134",null,0]
["Iodine-135",null,0]
["Caesium-134",null,0]
["Caesium-136",null,0]
["Caesium-137",null,0]
["Barium-140",null,0]
["Lanthanum-140",null,0]
["Cerium-141",null,0]
["Cerium-144",null,0]
["Promethium-147",null,0]
["Samarium-153",null,0]
["Europium-152",null,0]
["Europium-154",null,0]
["Europium-155",null,0]
["Erbium-169",null,{"$f":"SUMIF($6:$6,$A$1,73:73)","v":0}]
["Lutetium-177",null,0]
["Gold-198",null,0]
["Thallium-201",null,0]
["Lead-210",null,0]
["Polonium-210",null,0]
["Radium-223",null,0]
["Radium-226",null,0]
["Thorium-230",null,0]
["Thorium-232",null,0]
["Thorium-234",null,0]
["Uranium-234",null,0]
["Uranium-235",null,0]
["Uranium-238",null,0]
["Neptunium-237",null,0]
["Plutonium-238",null,0]
["Plutonium-239",null,0]
["Plutonium-240",null,0]
["Plutonium-241",null,0]
["Plutonium-242",null,0]
["Americium-241",null,0]
["Americium-242",null,0]
["Americium-243",null,0]
["Curium-242",null,0]
["Curium-243",null,0]
["Curium-244",null,0]
["Other alpha-emitting nuclides",null,0]
["Other beta/gamma-emitting nuclides",null,0]
[]
[null,0,"microGy/h"]

{"sheet":"Estuary Wildlife","index":16,"n_rows":102,"n_cols":3,"rows_kept":102,"cut":false,"hidden":false,"merged":[]}
["Worst affected organism"]
["Estuary Wildlife"]
[]
[null,553,"stop"]
[null,"PERMIT No."]
["Radionuclide","Worst affected organism","Cumulative Dose"]
[null,"microGy/h","microGy/h"]
["Tritium",null,{"$f":"SUMIF($6:$6,$A$1,8:8)","v":0}]
["Tritium (Organically Bound)",null,{"$f":"SUMIF($6:$6,$A$1,9:9)","v":0}]
["Carbon-11",null,0]
["Carbon-14",null,0]
["Fluorine-18",null,0]
["Sodium-22",null,0]
["Sodium-24",null,0]
["Phosphorus-32",null,0]
["Phosphorus-33",null,0]
["Sulphur-35",null,0]
["Chlorine-36",null,0]
["Calcium-45",null,0]
["Calcium-47",null,0]
["Vanadium-48",null,0]
["Chromium-51",null,0]
["Manganese-52",null,0]
["Manganese-54",null,0]
["Manganese-56",null,0]
["Iron-55",null,0]
["Iron-59",null,0]
["Cobalt-56",null,0]
["Cobalt-57",null,0]
["Cobalt-58",null,0]
["Cobalt-60",null,0]
["Nickel-63",null,0]
["Zinc-65",null,0]
["Gallium-67",null,0]
["Selenium-75",null,0]
["Bromine-82",null,0]
["Rubidium-82",null,0]
["Rubidium-83",null,0]
["Strontium-89",null,0]
["Strontium-90",null,0]
["Yttrium-90",null,0]
["Zirconium-95",null,0]
["Niobium-95",null,0]
["Molybdenum-99",null,0]
["Technetium-99",null,0]
["Technetium-99m",null,0]
["Ruthenium-103",null,0]
["Ruthenium-106",null,0]
["Silver-110m",null,0]
["Indium-111",null,0]
["Indium-113m",null,0]
["Antimony-125",null,0]
["Iodine-123",null,0]
["Iodine-125",null,0]
["Iodine-129",null,0]
["Iodine-131",null,0]
["Iodine-132",null,0]
["Iodine-133",null,0]
["Iodine-134",null,0]
["Iodine-135",null,0]
["Caesium-134",null,0]
["Caesium-136",null,0]
["Caesium-137",null,0]
["Barium-140",null,0]
["Lanthanum-140",null,0]
["Cerium-141",null,0]
["Cerium-144",null,0]
["Promethium-147",null,0]
["Samarium-153",null,0]
["Europium-152",null,0]
["Europium-154",null,0]
["Europium-155",null,0]
["Erbium-169",null,{"$f":"SUMIF($6:$6,$A$1,73:73)","v":0}]
["Lutetium-177",null,0]
["Gold-198",null,0]
["Thallium-201",null,0]
["Lead-210",null,0]
["Polonium-210",null,0]
["Radium-223",null,0]
["Radium-226",null,0]
["Thorium-230",null,0]
["Thorium-232",null,0]
["Thorium-234",null,0]
["Uranium-234",null,0]
["Uranium-235",null,0]
["Uranium-238",null,0]
["Neptunium-237",null,0]
["Plutonium-238",null,0]
["Plutonium-239",null,0]
["Plutonium-240",null,0]
["Plutonium-241",null,0]
["Plutonium-242",null,0]
["Americium-241",null,0]
["Americium-242",null,0]
["Americium-243",null,0]
["Curium-242",null,0]
["Curium-243",null,0]
["Curium-244",null,0]
["Other alpha-emitting nuclides",null,0]
["Other beta/gamma-emitting nuclides",null,0]
[]
[null,0,"microGy/h"]

{"sheet":"Dose per unit release","index":17,"n_rows":101,"n_cols":39,"rows_kept":101,"cut":false,"hidden":true,"merged":[[5,37,5,38],[3,37,3,38],[5,28,5,32],[5,23,5,26],[5,0,5,3],[5,5,5,9],[5,11,5,14],[5,16,5,21],[5,34,5,35]]}
[]
[]
[]
["WORKER",null,null,null,null,"FARMING FAMILY",null,null,null,null,null,"CHILD PLAYING IN burn",null,null,null,null,"ANGLER",null,null,null,null,null,null,"IRRIGATED FOOD CONSUMER",null,null,null,null,"FISHERMAN",null,null,null,null,null,"RIVER WILDLIFE",null,null,"ESTUARY WILDLIFE"]
[]
["Dose per unit release (dpur)",null,null,null,null,"Dose per unit release (dpur)",null,null,null,null,null,"Dose per unit release (dpur)",null,null,null,null,"Dose per unit release (dpur)",null,null,null,null,null,null,"Dose per unit release (dpur)",null,null,null,null,"Dose per unit release (dpur)",null,null,null,null,null,"Dose per unit release",null,null,"Dose per unit release"]
["External dpur","Inadvertent inh and ing dpur","Total dpur","Worst age group",null,"Food dpur","External dpur","Inadvertent inh and ing dpur","Total dpur","Worst age group",null,"External dpur","Inadvertent inhalation and ingestion dpur","Total dpur","Worst age group",null,"STW partioning and decay factor","External dpur","Fish dpur","Water dpur","Total dpur","Worst age group",null,"STW partioning and decay factor","Food dpur","Total dpur","Worst age group",null,"STW partioning and decay factor","External dpur","Fish dpur","Total dpur","Worst age group",null,"STW partioning and decay factor","Worst affected organism",null,"STW partioning and decay factor","Worst affected organism"]
["mSv/y per Bq/y","mSv/y per Bq/y","mSv/y per Bq/y",null,null,"mSv/y per Bq/y","mSv/y per Bq/y","mSv/y per Bq/y","mSv/y per Bq/y",null,null,"mSv/y per Bq/y","mSv/y per Bq/y","mSv/y per Bq/y",null,null,null,"mSv/y per Bq/y","mSv/y per Bq/y","mSv/y per Bq/y","mSv/y per Bq/y",null,null,null,"mSv/y per Bq/y","mSv/y per Bq/y",null,null,null,"mSv/y per Bq/y","mSv/y per Bq/y","mSv/y per Bq/y",null,null,null,"mGy/h per Bq/y",null,null,"mGy/h per Bq/y"]
[0,3.8000000000000002E-14,3.8000000000000002E-14,"Adult",null,5.0999999999999998E-11,0,6.5000000000000001E-18,5.0999999999999998E-11,"Infant",null,0,3.1E-14,3.1E-14,"Child",null,0.85,0,1.7E-14,5.7999999999999995E-13,5.9999999999999997E-13,"Offspring",null,0.85,4.4000000000000002E-14,4.4000000000000002E-14,"Offspring",null,0.85,0,8.9000000000000007E-16,8.9000000000000007E-16,"Offspring","Tritium",0.85,3.1000000000000001E-16,null,0.85,3.1000000000000001E-18]
[0,8.8000000000000004E-14,8.8000000000000004E-14,"Adult",null,6.9000000000000001E-12,0,1.6000000000000001E-17,6.9000000000000001E-12,"Infant",null,0,7.6000000000000004E-14,7.6000000000000004E-14,"Child",null,0.85,0,8.7999999999999996E-10,1.1999999999999999E-12,8.7999999999999996E-10,"Offspring",null,0.85,2.0999999999999999E-14,2.0999999999999999E-14,"Offspring",null,0.85,0,3.7000000000000001E-11,3.7000000000000001E-11,"Offspring","Tritium (Organically Bound)",0.85,{"$f":"$AJ$12","v":6.1000000000000003E-12},null,0.85,{"$f":"$AM$12","v":1.7000000000000001E-13}]
[4.3000000000000001E-10,2.9999999999999999E-16,4.3000000000000001E-10,"Adult",null,0,0,0,0,"None",null,0,0,0,"None",null,0,0,0,0,0,"None",null,0,0,0,"None",null,0,0,0,0,"None","Carbon-11",0,{"$f":"$AJ$47","v":7.5E-12},null,0,0]
[1.4000000000000001E-13,1.2999999999999999E-12,1.4000000000000001E-12,"Adult",null,8.4999999999999994E-8,2.7000000000000001E-13,9.3999999999999997E-15,8.4999999999999994E-8,"Offspring",null,1.7E-14,3.0000000000000001E-12,3.0000000000000001E-12,"Child",null,0.85,3.9000000000000003E-15,1E-8,1.4E-11,1E-8,"Offspring",null,0.85,4.8000000000000002E-11,4.8000000000000002E-11,"Offspring",null,0.85,1.6000000000000001E-16,4.6000000000000001E-10,4.6000000000000001E-10,"Offspring","Carbon-14",0.85,6.1000000000000003E-12,null,0.85,1.7000000000000001E-13]
[2.1999999999999998E-9,3.1999999999999999E-15,2.1999999999999998E-9,"Adult",null,{"$f":"$F$15","v":0},{"$f":"$G$15","v":0},{"$f":"HK$15","v":0},{"$f":"$I$15","v":0},{"$f":"$J$15","v":"None"},null,{"$f":"$L$15","v":1.1000000000000001E-11},{"$f":"$M$15","v":5.4999999999999998E-13},{"$f":"$N$15","v":1.2000000000000001E-11},{"$f":"$O$15","v":"Child"},null,0.45,{"$f":"$R$15","v":1.4999999999999999E-13},{"$f":"$S$15","v":1.5000000000000001E-12},{"$f":"$T$15","v":1.8999999999999999E-11},{"$f":"$U$15","v":2.0999999999999999E-11},{"$f":"$V$15","v":"Infant"},null,0.45,{"$f":"$Y$15","v":4.7999999999999997E-14},{"$f":"$Z$15","v":4.7999999999999997E-14},{"$f":"$AA$15","v":"Infant"},null,0.45,{"$f":"$AD$15","v":2.7E-16},{"$f":"$AE$15","v":5.6999999999999999E-16},{"$f":"$AF$15","v":8.2999999999999998E-16},{"$f":"$AG$15","v":"Adult"},"Fluorine-18",0.45,{"$f":"$AJ$47","v":7.5E-12},null,0.45,{"$f":"$AM$47","v":1.3E-14}]
[1.1999999999999999E-7,4.6999999999999998E-12,1.1999999999999999E-7,"Adult",null,2.4999999999999999E-8,1.1000000000000001E-6,4.1999999999999998E-13,1.1000000000000001E-6,"Adult",null,6.7999999999999998E-11,7.8999999999999999E-12,7.5999999999999996E-11,"Child",null,0.9,4.5E-13,9.4999999999999995E-12,1.2E-10,1.2999999999999999E-10,"Infant",null,0.9,1.6E-11,1.6E-11,"Infant",null,0.9,1.4000000000000001E-13,5.9000000000000001E-14,2.0000000000000001E-13,"Adult","Sodium-22",0.9,{"$f":"$AJ$64","v":5.9000000000000003E-11},null,0.9,{"$f":"$AM$64","v":2.3999999999999999E-13}]
[4.8E-8,1.1999999999999999E-13,4.8E-8,"Adult",null,0,0,0,0,"None",null,1.1000000000000001E-11,5.4999999999999998E-13,1.2000000000000001E-11,"Child",null,0.45,1.4999999999999999E-13,1.5000000000000001E-12,1.8999999999999999E-11,2.0999999999999999E-11,"Infant",null,0.45,4.7999999999999997E-14,4.7999999999999997E-14,"Infant",null,0.45,2.7E-16,5.6999999999999999E-16,8.2999999999999998E-16,"Adult","Sodium-24",0.45,{"$f":"$AJ$64","v":5.9000000000000003E-11},null,0.45,{"$f":"$AM$64","v":2.3999999999999999E-13}]
[6.6999999999999996E-10,1.3E-11,6.9E-10,"Adult",null,9.9999999999999995E-8,1E-10,1.4999999999999999E-13,9.9999999999999995E-8,"Offspring",null,3.7E-12,3.2000000000000001E-12,6.8000000000000001E-12,"Child",null,0.19,3.8E-12,1.4000000000000001E-7,4.3000000000000001E-10,1.4999999999999999E-7,"Offspring",null,0.19,1.8E-10,1.8E-10,"Offspring",null,0.19,1.3E-17,6.7999999999999997E-9,6.7999999999999997E-9,"Offspring","Phosphorus-32",0.19,6E-10,null,0.19,4.7999999999999997E-13]
[2.0999999999999999E-12,1.9E-12,3.9999999999999999E-12,"Adult",null,1.1000000000000001E-7,8.0999999999999998E-13,3.5999999999999998E-14,1.1000000000000001E-7,"Offspring",null,9.1999999999999996E-15,3.2E-13,3.3000000000000001E-13,"Child",null,0.2,9.3999999999999997E-15,2.9000000000000002E-8,8.6999999999999997E-11,2.9000000000000002E-8,"Offspring",null,0.2,7.9999999999999998E-12,7.9999999999999998E-12,"Offspring",null,0.2,6.7999999999999994E-20,1.6000000000000001E-9,1.6000000000000001E-9,"Offspring","Phosphorus-33",0.2,{"$f":"$AJ$16","v":6E-10},null,0.2,{"$f":"$AM$16","v":4.7999999999999997E-13}]
[1E-13,2.2E-13,3.3000000000000001E-13,"Adult",null,1.3000000000000001E-8,4.7000000000000002E-14,1.1E-14,1.3000000000000001E-8,"Infant",null,2.8000000000000001E-14,1.4000000000000001E-12,1.4000000000000001E-12,"Child",null,0.89,6.1999999999999998E-15,2.3000000000000001E-11,3.4000000000000001E-12,2.6000000000000001E-11,"Offspring",null,0.89,7.5000000000000004E-13,7.5000000000000004E-13,"Infant",null,0.89,8.3999999999999996E-20,7.8999999999999998E-15,7.8999999999999998E-15,"Offspring","Sulphur-35",0.89,5.9000000000000003E-12,null,0.89,1.4999999999999999E-13]
[2.3000000000000001E-11,1.6E-12,2.4000000000000001E-11,"Adult",null,1.3999999999999999E-6,1.5E-10,1.1999999999999999E-12,1.3999999999999999E-6,"Infant",null,0,2.6999999999999998E-12,2.6999999999999998E-12,"Child",null,0.9,0,9.9999999999999994E-12,5.2000000000000001E-11,6.2000000000000006E-11,"Infant",null,0.9,3.1000000000000002E-10,3.1000000000000002E-10,"Infant",null,0.9,3.0999999999999998E-17,1.6E-15,1.6E-15,"Adult","Chlorine-36",0.9,{"$f":"$AJ$56","v":9.8000000000000007E-13},null,0.9,{"$f":"$AM$56","v":5.4999999999999999E-14}]
[2.9000000000000002E-12,6.9000000000000001E-12,9.7999999999999994E-12,"Adult",null,2.6000000000000001E-8,9.0999999999999996E-12,6.8000000000000003E-13,2.6000000000000001E-8,"Offspring",null,1.9000000000000001E-14,1.6E-12,1.6E-12,"Child",null,0.2,1.9000000000000001E-14,2.0000000000000001E-10,1.5E-10,3.4000000000000001E-10,"Offspring",null,0.2,9.9999999999999994E-12,9.9999999999999994E-12,"Offspring",null,0.2,1.9000000000000001E-17,6.6999999999999997E-13,6.6999999999999997E-13,"Offspring","Calcium-45",0.2,{"$f":"$AJ$41","v":2.2000000000000002E-11},null,0.2,{"$f":"$AM$41","v":2.0000000000000001E-13}]
[1.1000000000000001E-7,4.0999999999999999E-12,1.1000000000000001E-7,"Adult",null,4.1000000000000002E-13,6.6E-10,3.4E-16,6.6E-10,"Offspring",null,4.2E-10,2.3999999999999999E-12,4.2E-10,"Child",null,0.18,4.6000000000000001E-10,1.8E-10,1.2999999999999999E-10,7.7000000000000003E-10,"Offspring",null,0.18,2E-12,2E-12,"Offspring",null,0.18,2.3E-14,2.2999999999999998E-13,2.4999999999999999E-13,"Offspring","Calcium-47",0.18,{"$f":"$AJ$41","v":2.2000000000000002E-11},null,0.18,{"$f":"$AM$41","v":2.0000000000000001E-13}]
[6.7999999999999995E-7,1.3E-11,6.7999999999999995E-7,"Adult",null,5.9999999999999997E-13,1.3E-7,5.6999999999999997E-14,1.3E-7,"Adult",null,1.5999999999999999E-10,6.6000000000000001E-13,1.7000000000000001E-10,"Child",null,9.7000000000000003E-2,3.4000000000000001E-10,3.8000000000000003E-8,3.7999999999999998E-11,3.8000000000000003E-8,"Adult",null,9.7000000000000003E-2,1.4000000000000001E-12,1.4000000000000001E-12,"Infant",null,9.7000000000000003E-2,3.5999999999999998E-11,6.1999999999999998E-13,3.7000000000000001E-11,"Adult","Vanadium-48",9.7000000000000003E-2,{"$f":"$AJ$64","v":5.9000000000000003E-11},null,9.7000000000000003E-2,{"$f":"$AM$64","v":2.3999999999999999E-13}]
[7.6999999999999995E-9,2.9999999999999998E-13,7.6999999999999995E-9,"Adult",null,1.4000000000000001E-12,3.3999999999999998E-9,2.5E-15,3.3999999999999998E-9,"Adult",null,1.5999999999999999E-10,1.3E-13,1.5999999999999999E-10,"Child",null,9.8000000000000004E-2,3.1999999999999998E-10,4.7999999999999997E-13,3.5999999999999998E-13,3.1999999999999998E-10,"Adult",null,9.8000000000000004E-2,2.9000000000000003E-14,2.9000000000000003E-14,"Infant",null,9.8000000000000004E-2,3.6999999999999999E-13,2.2999999999999998E-13,5.9999999999999997E-13,"Adult","Chromium-51",9.8000000000000004E-2,{"$f":"$AJ$32","v":5.2999999999999998E-11},null,9.8000000000000004E-2,{"$f":"$AM$32","v":6.3000000000000002E-12}]
[2.4999999999999999E-7,3.6E-12,2.4999999999999999E-7,"Adult",null,3.2000000000000001E-12,3.3000000000000002E-9,7.3999999999999999E-16,3.3000000000000002E-9,"Adult",null,2.4999999999999999E-8,3.7999999999999998E-11,2.4999999999999999E-8,"Child",null,0.46,1.0999999999999999E-8,3.3000000000000002E-11,9.7999999999999994E-12,1.0999999999999999E-8,"Adult",null,0.46,5.9999999999999997E-13,5.9999999999999997E-13,"Infant",null,0.46,1.2000000000000001E-11,7.8999999999999999E-12,1.9999999999999999E-11,"Adult","Manganese-52",0.46,{"$f":"$AJ$32","v":5.2999999999999998E-11},null,0.46,{"$f":"$AM$25","v":6.3000000000000002E-12}]
[1.8E-7,4.3999999999999998E-12,1.8E-7,"Adult",null,2.9999999999999997E-8,9.4E-7,8.5000000000000001E-13,9.7000000000000003E-7,"Adult",null,3.4E-8,1.6E-11,3.4E-8,"Child",null,0.5,1.4E-8,1.3E-11,3.8999999999999999E-12,1.4E-8,"Adult",null,0.5,8.7999999999999999E-13,8.7999999999999999E-13,"Infant",null,0.5,2.1999999999999999E-10,4.9999999999999997E-12,2.3000000000000001E-10,"Adult","Manganese-54",0.5,{"$f":"$AJ$32","v":5.2999999999999998E-11},null,0.5,{"$f":"$AM$32","v":6.3000000000000002E-12}]
[7.4999999999999993E-9,2.9000000000000003E-14,7.4999999999999993E-9,"Adult",null,0,0,0,0,"None",null,{"$f":"$L$25","v":3.4E-8},{"$f":"$M$25","v":1.6E-11},{"$f":"$N$25","v":3.4E-8},{"$f":"$O$25","v":"Child"},null,0.5,{"$f":"$R$25","v":1.4E-8},{"$f":"$S$25","v":1.3E-11},{"$f":"$T$25","v":3.8999999999999999E-12},{"$f":"$U$25","v":1.4E-8},{"$f":"$V$25","v":"Adult"},null,0.5,{"$f":"$Y$25","v":8.7999999999999999E-13},{"$f":"$Z$25","v":8.7999999999999999E-13},{"$f":"$AA$25","v":"Infant"},null,0.5,{"$f":"$AD$25","v":2.1999999999999999E-10},{"$f":"$AE$25","v":4.9999999999999997E-12},{"$f":"$AF$25","v":2.3000000000000001E-10},{"$f":"$AG$25","v":"Adult"},"Manganese-56",0.5,{"$f":"$AJ$47","v":7.5E-12},null,0.5,{"$f":"$AM$47","v":1.3E-14}]
[0,3.6E-12,3.6E-12,"Adult",null,2.4E-8,0,9.9999999999999998E-13,2.4E-8,"Infant",null,0,1.2999999999999999E-12,1.2999999999999999E-12,"Child",null,0.1,0,1.2000000000000001E-11,8.0999999999999998E-12,1.9999999999999999E-11,"Child",null,0.1,5.4999999999999998E-13,5.4999999999999998E-13,"Infant",null,0.1,0,2.9999999999999998E-13,2.9999999999999998E-13,"Adult","Iron-55",0.1,{"$f":"$AJ$32","v":5.2999999999999998E-11},null,0.1,{"$f":"$AM$32","v":6.3000000000000002E-12}]
[3.9000000000000002E-7,1.6E-11,3.9000000000000002E-7,"Adult",null,1.0000000000000001E-9,3.1E-7,4.7000000000000002E-13,3.1E-7,"Adult",null,4.6999999999999999E-9,5.6000000000000004E-12,4.6999999999999999E-9,"Child",null,9.9000000000000005E-2,9.3999999999999998E-9,7.5999999999999996E-11,2.3000000000000001E-11,9.5000000000000007E-9,"Adult",null,9.9000000000000005E-2,2.2999999999999999E-12,2.2999999999999999E-12,"Infant",null,9.9000000000000005E-2,4.6999999999999999E-11,1.5000000000000001E-12,4.8999999999999999E-11,"Adult","Iron-59",9.9000000000000005E-2,{"$f":"$AJ$32","v":5.2999999999999998E-11},null,9.9000000000000005E-2,{"$f":"$AM$32","v":6.3000000000000002E-12}]
[1.1999999999999999E-6,2.2000000000000002E-11,1.1999999999999999E-6,"Adult",null,3.7E-9,1.7999999999999999E-6,1.1E-12,1.7999999999999999E-6,"Adult",null,4.3000000000000001E-8,1.9999999999999999E-11,4.3000000000000001E-8,"Child",null,0.2,4.3999999999999997E-8,2.4E-10,2.4000000000000001E-11,4.3999999999999997E-8,"Adult",null,0.2,3.0000000000000001E-12,3.0000000000000001E-12,"Infant",null,0.2,2.3000000000000001E-10,5.0000000000000002E-11,2.8000000000000002E-10,"Adult","Cobalt-56",0.2,{"$f":"$AJ$32","v":5.2999999999999998E-11},null,0.2,{"$f":"$AM$32","v":6.3000000000000002E-12}]
[2.6000000000000001E-8,2E-12,2.6000000000000001E-8,"Adult",null,9.2000000000000003E-10,1.1999999999999999E-7,4.3999999999999999E-13,1.3E-7,"Adult",null,8.9000000000000003E-10,2E-12,8.9000000000000003E-10,"Child",null,0.2,8.9000000000000003E-10,1.9999999999999999E-11,2E-12,9.0999999999999996E-10,"Adult",null,0.2,3.5999999999999998E-13,3.5999999999999998E-13,"Infant",null,0.2,1.8999999999999999E-11,4.3999999999999998E-12,2.3000000000000001E-11,"Adult","Cobalt-57",0.2,{"$f":"$AJ$32","v":5.2999999999999998E-11},null,0.2,{"$f":"$AM$32","v":6.3000000000000002E-12}]
[2.8999999999999998E-7,6.5000000000000002E-12,2.8999999999999998E-7,"Adult",null,4.2E-10,3.9000000000000002E-7,3.2E-13,3.9000000000000002E-7,"Adult",null,1.0999999999999999E-8,5.9000000000000003E-12,1.0999999999999999E-8,"Child",null,0.2,1.0999999999999999E-8,7.0000000000000004E-11,7.0000000000000001E-12,1.0999999999999999E-8,"Adult",null,0.2,8.5999999999999997E-13,8.5999999999999997E-13,"Infant",null,0.2,5.4000000000000001E-11,1.5E-11,6.8999999999999994E-11,"Adult","Cobalt-58",0.2,{"$f":"$AJ$32","v":5.2999999999999998E-11},null,0.2,{"$f":"$AM$32","v":6.3000000000000002E-12}]
[8.8999999999999995E-7,3.3999999999999999E-11,8.8999999999999995E-7,"Adult",null,7.6000000000000006E-8,1.4E-5,2.6000000000000001E-11,1.4E-5,"Adult",null,2.9999999999999997E-8,3.7999999999999998E-11,2.9999999999999997E-8,"Child",null,0.2,2.9999999999999997E-8,3.1999999999999998E-10,3.1999999999999999E-11,2.9999999999999997E-8,"Adult",null,0.2,9.4999999999999995E-12,9.4999999999999995E-12,"Infant",null,0.2,2.7000000000000002E-9,7.5E-11,2.7999999999999998E-9,"Adult","Cobalt-60",0.2,5.2999999999999998E-11,null,0.2,6.3000000000000002E-12]
[0,9.6999999999999991E-13,9.6999999999999991E-13,"Adult",null,7.7000000000000003E-10,0,5.6999999999999999E-13,7.7999999999999999E-10,"Infant",null,0,2.3999999999999999E-12,2.3999999999999999E-12,"Child",null,0.5,0,4.7999999999999997E-12,1.4000000000000001E-12,6.2000000000000002E-12,"Adult",null,0.5,1.1999999999999999E-12,1.1999999999999999E-12,"Infant",null,0.5,0,3.6E-12,3.6E-12,"Adult","Nickel-63",0.5,{"$f":"$AJ$64","v":5.9000000000000003E-11},null,0.5,{"$f":"$AM$64","v":2.3999999999999999E-13}]
[1.3E-7,2.3000000000000001E-11,1.3E-7,"Adult",null,2.7999999999999999E-6,1.9000000000000001E-7,1.4000000000000001E-12,2.9000000000000002E-6,"Infant",null,1.6000000000000001E-9,9.7999999999999994E-12,1.6000000000000001E-9,"Child",null,0.5,6.5000000000000003E-10,1.2E-8,7.1E-11,1.2E-8,"Adult",null,0.5,8.0999999999999998E-12,8.0999999999999998E-12,"Infant",null,0.5,7.9999999999999995E-11,3.3000000000000002E-9,3.3999999999999998E-9,"Adult","Zinc-65",0.5,{"$f":"$AJ$64","v":5.9000000000000003E-11},null,0.5,{"$f":"$AM$64","v":2.3999999999999999E-13}]
[8.7000000000000001E-9,4.1000000000000002E-13,8.7000000000000001E-9,"Adult",null,0,0,0,0,"None",null,2.8000000000000002E-12,6.5999999999999996E-14,2.9000000000000002E-12,"Child",null,8.6999999999999994E-2,6.5000000000000002E-12,4.8000000000000002E-11,3.6E-12,5.8E-11,"Adult",null,8.6999999999999994E-2,5.3999999999999997E-14,5.3999999999999997E-14,"Infant",null,8.6999999999999994E-2,5.9000000000000002E-16,1.1E-12,1.1E-12,"Adult","Gallium-67",8.6999999999999994E-2,{"$f":"$AJ$32","v":5.2999999999999998E-11},null,8.6999999999999994E-2,{"$f":"$AM$32","v":6.3000000000000002E-12}]
[6.2999999999999995E-8,1.5E-11,6.2999999999999995E-8,"Adult",null,2.0999999999999998E-6,4.9999999999999998E-8,5.6000000000000004E-13,2.0999999999999998E-6,"Infant",null,8.4999999999999996E-10,9.1999999999999996E-12,8.4999999999999996E-10,"Child",null,0.5,3.4000000000000001E-10,3.1000000000000002E-10,4.6999999999999999E-11,6.9999999999999996E-10,"Adult",null,0.5,1.3E-11,1.3E-11,"Infant",null,0.5,2.5999999999999998E-12,6.3999999999999996E-10,6.3999999999999996E-10,"Adult","Selenium-75",0.5,{"$f":"$AJ$64","v":5.9000000000000003E-11},null,0.5,{"$f":"$AM$62","v":2.3999999999999999E-13}]
[3.7E-8,2.0999999999999999E-13,3.7E-8,"Adult",null,0,0,0,0,"None",null,0,9.9999999999999998E-13,9.9999999999999998E-13,"Child",null,0.67,0,1.4000000000000001E-10,9.9999999999999994E-12,1.5E-10,"Adult",null,0.67,1.1999999999999999E-13,1.1999999999999999E-13,"Infant",null,0.67,9.1999999999999996E-16,1.4999999999999999E-14,1.4999999999999999E-14,"Adult","Bromine-82",0.67,{"$f":"$AJ$57","v":2.5999999999999998E-12},null,0.67,{"$f":"$AM$57","v":7.4E-14}]
[4.3E-11,5.4999999999999996E-20,4.3E-11,"Adult",null,0,0,0,0,"None",null,{"$f":"$L$39","v":3.4999999999999999E-9},{"$f":"$M$39","v":7.6999999999999999E-12},{"$f":"$N$39","v":3.6E-9},{"$f":"$O$39","v":"Child"},null,0.2,{"$f":"$R$39","v":3.6E-9},{"$f":"$S$39","v":1.6000000000000001E-9},{"$f":"$T$39","v":2.4000000000000001E-11},{"$f":"$U$39","v":5.2000000000000002E-9},{"$f":"$V$39","v":"Adult"},null,0.2,{"$f":"$Y$39","v":6.6000000000000001E-12},{"$f":"$Z$39","v":6.6000000000000001E-12},{"$f":"$AA$39","v":"Infant"},null,0.2,{"$f":"$AD$39","v":2.2999999999999998E-13},{"$f":"$AE$39","v":3.2000000000000001E-12},{"$f":"$AF$39","v":3.4000000000000001E-12},{"$f":"$AG$39","v":"Adult"},"Rubidium-82",0.2,{"$f":"$AJ$41","v":2.2000000000000002E-11},null,0.2,{"$f":"$AM$41","v":2.0000000000000001E-13}]
[1.4000000000000001E-7,1.6E-11,1.4000000000000001E-7,"Adult",null,2.0999999999999999E-8,2.3999999999999998E-7,2.3999999999999999E-13,2.6E-7,"Adult",null,3.4999999999999999E-9,7.6999999999999999E-12,3.6E-9,"Child",null,0.2,3.6E-9,1.6000000000000001E-9,2.4000000000000001E-11,5.2000000000000002E-9,"Adult",null,0.2,6.6000000000000001E-12,6.6000000000000001E-12,"Infant",null,0.2,2.2999999999999998E-13,3.2000000000000001E-12,3.4000000000000001E-12,"Adult","Rubidium-83",0.2,{"$f":"$AJ$41","v":2.2000000000000002E-11},null,0.2,{"$f":"$AM$41","v":2.0000000000000001E-13}]
[1.2E-10,3.5E-12,1.2E-10,"Adult",null,1.2E-9,2.8E-11,6.5000000000000001E-14,1.2E-9,"Infant",null,2.4000000000000001E-11,2.3000000000000001E-11,4.6999999999999999E-11,"Child",null,0.89,5.3999999999999996E-12,4.0999999999999998E-10,2.1E-10,6.3E-10,"Offspring",null,0.89,9.9999999999999994E-12,9.9999999999999994E-12,"Offspring",null,0.89,4.0000000000000003E-17,1.5000000000000001E-12,1.5000000000000001E-12,"Offspring","Strontium-89",0.89,{"$f":"$AJ$41","v":2.2000000000000002E-11},null,0.89,{"$f":"$AM$41","v":2.0000000000000001E-13}]
[3.7000000000000001E-10,4.3E-11,4.0999999999999998E-10,"Adult",null,3.9000000000000002E-7,1.2E-9,4.3999999999999998E-12,3.9000000000000002E-7,"Infant",null,6.4999999999999995E-11,2.4E-10,3.1000000000000002E-10,"Child",null,0.9,1.4E-11,1.5E-9,7.2999999999999996E-10,2.1999999999999998E-9,"Offspring",null,0.9,3E-10,3E-10,"Offspring",null,0.9,1.0000000000000001E-15,6.1000000000000003E-12,6.1000000000000003E-12,"Offspring","Strontium-90",0.9,2.2000000000000002E-11,null,0.9,2.0000000000000001E-13]
[1.2E-10,1.2999999999999999E-12,1.2E-10,"Adult",null,0,0,0,0,"None",null,5.8E-11,3.1000000000000003E-11,8.9000000000000003E-11,"Child",null,0.76,4.5999999999999996E-13,1.3E-11,1.4000000000000001E-10,1.5E-10,"Infant",null,0.76,7.5999999999999999E-13,7.5999999999999999E-13,"Infant",null,0.76,8.3999999999999992E-15,6.4999999999999996E-13,6.6000000000000001E-13,"Adult","Yttrium-90",0.76,{"$f":"$AJ$41","v":2.2000000000000002E-11},null,0.76,{"$f":"$AM$41","v":2.0000000000000001E-13}]
[2.3999999999999998E-7,9.7999999999999994E-12,2.3999999999999998E-7,"Adult",null,9.4999999999999995E-12,5.8999999999999996E-7,9.3000000000000008E-13,5.8999999999999996E-7,"Adult",null,1.3000000000000001E-8,4.7999999999999997E-12,1.3000000000000001E-8,"Child",null,9.9000000000000005E-2,2.4999999999999999E-8,4.5E-11,4.4999999999999998E-12,2.4999999999999999E-8,"Adult",null,9.9000000000000005E-2,1.1E-12,1.1E-12,"Infant",null,9.9000000000000005E-2,8.6E-11,6.4999999999999996E-13,8.6999999999999997E-11,"Adult","Zirconium-95",9.9000000000000005E-2,{"$f":"$AJ$64","v":5.9000000000000003E-11},null,9.9000000000000005E-2,{"$f":"$AM$64","v":2.3999999999999999E-13}]
[1.3E-7,2.9000000000000002E-12,1.3E-7,"Adult",null,5.4999999999999998E-13,7.4999999999999997E-8,7.4E-14,7.4999999999999997E-8,"Adult",null,2.1E-10,9.4000000000000003E-13,2.1E-10,"Child",null,0.49,8.6E-11,1.0999999999999999E-10,1.1000000000000001E-11,2.1E-10,"Adult",null,0.49,5.2999999999999996E-13,5.2999999999999996E-13,"Infant",null,0.49,2.2000000000000002E-11,2.0000000000000001E-13,2.2000000000000002E-11,"Adult","Niobium-95",0.49,{"$f":"$AJ$64","v":5.9000000000000003E-11},null,0.49,{"$f":"$AM$64","v":2.3999999999999999E-13}]
[3.8000000000000001E-9,2.9999999999999998E-13,3.8000000000000001E-9,"Adult",null,0,0,0,0,"None",null,2.1E-10,2.5999999999999998E-12,2.1E-10,"Child",null,0.77,5.4000000000000001E-11,3.6E-12,1.1000000000000001E-11,6.7999999999999998E-11,"Adult",null,0.77,1.4000000000000001E-13,1.4000000000000001E-13,"Infant",null,0.77,3.9000000000000003E-15,2.0999999999999999E-13,2.2E-13,"Adult","Molybdenum-99",0.77,{"$f":"$AJ$56","v":9.8000000000000007E-13},null,0.77,{"$f":"$AM$56","v":5.4999999999999999E-14}]
[9.9000000000000002E-13,1.1E-12,2.0999999999999999E-12,"Adult",null,5.1000000000000003E-6,6.7000000000000001E-12,7.1999999999999996E-13,5.1000000000000003E-6,"Infant",null,1.9000000000000001E-14,2.1999999999999999E-12,2.1999999999999999E-12,"Child",null,0.9,1.2999999999999999E-16,2.2999999999999999E-12,3.9000000000000001E-11,4.1000000000000001E-11,"Infant",null,0.9,7.4000000000000003E-10,7.4000000000000003E-10,"Infant",null,0.9,9.9999999999999998E-17,7.0000000000000001E-12,7.0000000000000001E-12,"Adult","Technetium-99",0.9,2.3999999999999999E-12,null,0.9,1.4999999999999999E-13]
[5.4999999999999996E-10,4.0000000000000003E-15,5.4999999999999996E-10,"Adult",null,0,0,0,0,"None",null,4.1999999999999999E-12,1.3E-14,4.1999999999999999E-12,"Child",null,0.16,5.1999999999999997E-12,2.0999999999999999E-13,4.1000000000000002E-13,5.8000000000000003E-12,"Adult",null,0.16,1.3E-15,1.3E-15,"Infant",null,0.16,1.8000000000000001E-18,7.2000000000000002E-15,7.2000000000000002E-15,"Adult","Technetium-99m",0.16,7.5E-12,null,0.16,1.3E-14]
[2E-8,9.8000000000000007E-13,2E-8,"Adult",null,3.3000000000000001E-13,1E-8,2.6999999999999999E-14,1E-8,"Adult",null,1.2E-8,1.3E-11,1.2E-8,"Child",null,0.89,2.6000000000000001E-9,3.4000000000000001E-12,9.9999999999999994E-12,2.6000000000000001E-9,"Adult",null,0.89,6.4999999999999996E-13,6.4999999999999996E-13,"Infant",null,0.89,7.5999999999999999E-12,1.1999999999999999E-12,8.7999999999999997E-12,"Adult","Ruthenium-103",0.89,{"$f":"$AJ$49","v":1.8999999999999999E-10},null,0.89,{"$f":"$AM$49","v":5.2999999999999998E-11}]
[1.0999999999999999E-8,1.1000000000000001E-11,1.0999999999999999E-8,"Adult",null,3.4999999999999998E-10,5.5000000000000003E-8,3.5E-12,5.5000000000000003E-8,"Adult",null,5.6999999999999998E-9,1.2999999999999999E-10,5.7999999999999998E-9,"Child",null,0.9,1.3000000000000001E-9,3.3000000000000002E-11,9.8999999999999994E-11,1.3999999999999999E-9,"Adult",null,0.9,9.2999999999999996E-12,9.2999999999999996E-12,"Infant",null,0.9,3.5000000000000002E-11,1.3E-11,4.8000000000000002E-11,"Adult","Ruthenium-106",0.9,1.8999999999999999E-10,null,0.9,5.2999999999999998E-11]
[9.9999999999999995E-7,3E-11,9.9999999999999995E-7,"Adult",null,8.5000000000000001E-7,4.6E-6,6.3000000000000002E-12,5.4999999999999999E-6,"Adult",null,3.1000000000000002E-10,9.8000000000000007E-13,3.1000000000000002E-10,"Child",null,9.9000000000000005E-2,6.3E-10,3.9999999999999999E-12,5.2999999999999998E-11,6.8000000000000003E-10,"Adult",null,9.9000000000000005E-2,4.2999999999999999E-12,4.2999999999999999E-12,"Infant",null,9.9000000000000005E-2,1.2E-10,3.9000000000000002E-9,4.0000000000000002E-9,"Adult","Silver-110m",9.9000000000000005E-2,{"$f":"$AJ$64","v":5.9000000000000003E-11},null,9.9000000000000005E-2,{"$f":"$AM$64","v":2.3999999999999999E-13}]
[2.0999999999999999E-8,5.4000000000000002E-13,2.0999999999999999E-8,"Adult",null,0,0,0,0,"None",null,6E-10,1.4000000000000001E-12,6E-10,"Child",null,8.5000000000000006E-2,1.3999999999999999E-9,3.1000000000000002E-10,9.1999999999999992E-13,1.6999999999999999E-9,"Adult",null,8.5000000000000006E-2,6.8000000000000001E-14,6.8000000000000001E-14,"Infant",null,8.5000000000000006E-2,1.7999999999999999E-13,6.0000000000000003E-12,6.1000000000000003E-12,"Adult","Indium-111",8.5000000000000006E-2,{"$f":"$AJ$49","v":1.8999999999999999E-10},null,8.5000000000000006E-2,{"$f":"$AM$49","v":5.2999999999999998E-11}]
[7.5E-10,2.6E-15,7.5E-10,"Adult",null,0,0,0,0,"None",null,{"$f":"$L$51","v":6E-10},{"$f":"$M$51","v":1.4000000000000001E-12},{"$f":"$N$51","v":6E-10},{"$f":"$O$51","v":"Child"},null,8.5000000000000006E-2,{"$f":"$R$51","v":1.3999999999999999E-9},{"$f":"$S$51","v":3.1000000000000002E-10},{"$f":"$T$51","v":9.1999999999999992E-13},{"$f":"$U$51","v":1.6999999999999999E-9},{"$f":"$V$51","v":"Adult"},null,8.5000000000000006E-2,{"$f":"$Y$51","v":6.8000000000000001E-14},{"$f":"$Z$51","v":6.8000000000000001E-14},{"$f":"$AA$51","v":"Infant"},null,8.5000000000000006E-2,{"$f":"$AD$51","v":1.7999999999999999E-13},{"$f":"$AE$51","v":6.0000000000000003E-12},{"$f":"$AF$51","v":6.1000000000000003E-12},{"$f":"$AG$51","v":"Adult"},"Indium-113m",8.5000000000000006E-2,{"$f":"$AJ$49","v":1.8999999999999999E-10},null,8.5000000000000006E-2,{"$f":"$AM$49","v":5.2999999999999998E-11}]
[1.3E-7,1.1000000000000001E-11,1.3E-7,"Adult",null,4.6000000000000002E-8,1.5999999999999999E-6,9.2999999999999996E-12,1.5999999999999999E-6,"Adult",null,2.1999999999999999E-10,9.9000000000000002E-13,2.1999999999999999E-10,"Child",null,0.2,2.1999999999999999E-10,6.8000000000000003E-13,1.9999999999999999E-11,2.4E-10,"Adult",null,0.2,1.6E-12,1.6E-12,"Infant",null,0.2,1.5E-11,1.5E-11,2.9E-11,"Adult","Antimony-125",0.2,{"$f":"$AJ$49","v":1.8999999999999999E-10},null,0.2,{"$f":"$AM$49","v":5.2999999999999998E-11}]
[1.2E-9,6.4000000000000005E-14,1.2E-9,"Adult",null,0,0,0,0,"None",null,1.6999999999999999E-11,3.5999999999999998E-13,1.7999999999999999E-11,"Child",null,0.36,9.5999999999999995E-12,5.1999999999999997E-12,3.8999999999999999E-12,1.8999999999999999E-11,"Adult",null,0.36,3.5000000000000002E-14,3.5000000000000002E-14,"Infant",null,0.36,7.7000000000000006E-18,2.9999999999999998E-15,2.9999999999999998E-15,"Adult","Iodine-123",0.36,{"$f":"$AJ$57","v":2.5999999999999998E-12},null,0.36,{"$f":"$AM$57","v":7.4E-14}]
[1.7000000000000001E-10,3.5000000000000002E-11,2.0000000000000001E-10,"Adult",null,9.6999999999999992E-9,5.8E-11,4.3999999999999999E-13,9.8000000000000001E-9,"Infant",null,2.6999999999999998E-12,5.0000000000000002E-11,5.2999999999999998E-11,"Child",null,0.79,6.8999999999999999E-13,3.7000000000000001E-10,2.8000000000000002E-10,6.6E-10,"Adult",null,0.79,4.3E-11,4.3E-11,"Child",null,0.79,2.1000000000000001E-16,3.0000000000000001E-12,3.0000000000000001E-12,"Adult","Iodine-125",0.79,6.6999999999999997E-13,null,0.79,3.2999999999999998E-14]
[1.5E-10,2.8999999999999998E-10,4.3999999999999998E-10,"Adult",null,1.1000000000000001E-6,1.6999999999999999E-9,4.5E-11,1.1000000000000001E-6,"Child",null,2.1999999999999999E-12,3.1000000000000002E-10,3.1000000000000002E-10,"Child",null,0.8,5.4999999999999998E-13,2.7000000000000002E-9,2.1000000000000002E-9,4.8E-9,"Adult",null,0.8,7.2E-10,7.2E-10,"Child",null,0.8,5.4000000000000002E-15,2.5000000000000001E-11,2.5000000000000001E-11,"Adult","Iodine-129",0.8,9.8000000000000007E-13,null,0.8,5.4999999999999999E-14]
[1.4999999999999999E-8,2.7E-11,1.4999999999999999E-8,"Adult",null,5.9000000000000003E-10,1.8E-10,2.5000000000000001E-14,7.7000000000000003E-10,"Infant",null,9.3999999999999999E-11,8.1000000000000005E-11,1.7000000000000001E-10,"Child",null,0.76,7.5000000000000004E-13,2.1999999999999999E-10,1.5E-9,1.6999999999999999E-9,"Infant",null,0.76,3.7999999999999998E-11,3.7999999999999998E-11,"Infant",null,0.76,2.5E-15,2.4999999999999998E-12,2.4999999999999998E-12,"Adult","Iodine-131",0.76,2.5999999999999998E-12,null,0.76,7.4E-14]
[6.9999999999999998E-9,2.5000000000000001E-14,6.9999999999999998E-9,"Adult",null,0,0,0,0,"None",null,{"$f":"$L$59","v":9.6000000000000005E-11},{"$f":"$M$59","v":9.8999999999999994E-12},{"$f":"$N$59","v":1.0999999999999999E-10},{"$f":"$O$59","v":"Child"},null,0.48,{"$f":"$R$59","v":1.1999999999999999E-12},{"$f":"S59","v":5.4999999999999997E-11},{"$f":"$T$59","v":3.6E-10},{"$f":"$U$59","v":4.0999999999999998E-10},{"$f":"$V$59","v":"Infant"},null,0.48,{"$f":"$Y$59","v":1.1999999999999999E-12},{"$f":"$Z$59","v":1.1999999999999999E-12},{"$f":"$AA$59","v":"Infant"},null,0.48,{"$f":"$AD$59","v":8.8E-17},{"$f":"$AE$59","v":9.4000000000000003E-14},{"$f":"$AF$59","v":9.4000000000000003E-14},{"$f":"$AG$59","v":"Adult"},"Iodine-132",0.48,{"$f":"$AJ$55","v":6.6999999999999997E-13},null,0.48,{"$f":"$AM$55","v":3.2999999999999998E-14}]
[7.8000000000000004E-9,1.6E-12,7.8000000000000004E-9,"Adult",null,0,0,0,0,"None",null,9.6000000000000005E-11,9.8999999999999994E-12,1.0999999999999999E-10,"Child",null,0.48,1.1999999999999999E-12,5.4999999999999997E-11,3.6E-10,4.0999999999999998E-10,"Infant",null,0.48,1.1999999999999999E-12,1.1999999999999999E-12,"Infant",null,0.48,8.8E-17,9.4000000000000003E-14,9.4000000000000003E-14,"Adult","Iodine-133",0.48,{"$f":"$AJ$55","v":6.6999999999999997E-13},null,0.48,{"$f":"$AM$55","v":3.2999999999999998E-14}]
[3.2000000000000001E-9,3.7000000000000002E-15,3.2000000000000001E-9,"Adult",null,0,0,0,0,"None",null,{"$f":"$L$59","v":9.6000000000000005E-11},{"$f":"$M$59","v":9.8999999999999994E-12},{"$f":"$N$59","v":1.0999999999999999E-10},{"$f":"$O$59","v":"Child"},null,0.48,{"$f":"$R$59","v":1.1999999999999999E-12},{"$f":"S59","v":5.4999999999999997E-11},{"$f":"$T$59","v":3.6E-10},{"$f":"$U$59","v":4.0999999999999998E-10},{"$f":"$V$59","v":"Infant"},null,0.48,{"$f":"$Y$59","v":1.1999999999999999E-12},{"$f":"$Z$59","v":1.1999999999999999E-12},{"$f":"$AA$59","v":"Infant"},null,0.48,{"$f":"$AD$59","v":8.8E-17},{"$f":"$AE$59","v":9.4000000000000003E-14},{"$f":"$AF$59","v":9.4000000000000003E-14},{"$f":"$AG$59","v":"Adult"},"Iodine-134",0.48,{"$f":"$AJ$55","v":6.6999999999999997E-13},null,0.48,{"$f":"$AM$55","v":3.2999999999999998E-14}]
[1.2E-8,1.9E-13,1.2E-8,"Adult",null,0,0,0,0,"None",null,8.2999999999999998E-11,7.5000000000000004E-13,8.2999999999999998E-11,"Child",null,0.17,1E-10,2.3000000000000001E-11,1.6999999999999999E-11,1.4000000000000001E-10,"Adult",null,0.17,8.3E-14,8.3E-14,"Infant",null,0.17,2.6E-17,6.9000000000000001E-15,7.0000000000000001E-15,"Adult","Iodine-135",0.17,{"$f":"$AJ$55","v":6.6999999999999997E-13},null,0.17,{"$f":"$AM$55","v":3.2999999999999998E-14}]
[1.9999999999999999E-7,7.1E-11,1.9999999999999999E-7,"Adult",null,1.6999999999999999E-7,1.9E-6,5.8000000000000003E-12,2.0999999999999998E-6,"Adult",null,1.0999999999999999E-8,4.4000000000000003E-11,1.0999999999999999E-8,"Child",null,0.7,3.2000000000000001E-9,2.1999999999999998E-8,3.3E-10,2.4999999999999999E-8,"Adult",null,0.7,6E-11,6E-11,"Adult",null,0.7,8.3999999999999994E-11,3.9999999999999998E-11,1.2E-10,"Adult","Caesium-134",0.7,{"$f":"$AJ$64","v":5.9000000000000003E-11},null,0.7,{"$f":"$AM$64","v":2.3999999999999999E-13}]
[1.6999999999999999E-7,6.5000000000000002E-12,1.6999999999999999E-7,"Adult",null,1.4000000000000001E-10,2E-8,7.2999999999999995E-15,2E-8,"Adult",null,2.8999999999999999E-9,1.3E-11,2.8999999999999999E-9,"Child",null,0.67,8.6000000000000003E-10,3.4999999999999999E-9,5.2000000000000001E-11,4.3999999999999997E-9,"Adult",null,0.67,3.0000000000000001E-12,3.0000000000000001E-12,"Adult",null,0.67,1.6E-12,3.8999999999999999E-12,5.5000000000000004E-12,"Adult","Caesium-136",0.67,{"$f":"$AJ$64","v":5.9000000000000003E-11},null,0.67,{"$f":"$AM$64","v":2.3999999999999999E-13}]
[7.4000000000000001E-8,4.8999999999999999E-11,7.4000000000000001E-8,"Adult",null,2.4999999999999999E-7,1.5999999999999999E-6,8.9999999999999996E-12,1.7999999999999999E-6,"Adult",null,4.0000000000000002E-9,3.1000000000000003E-11,4.0000000000000002E-9,"Child",null,0.7,1.0999999999999999E-9,1.4999999999999999E-8,2.1999999999999999E-10,1.6000000000000001E-8,"Adult",null,0.7,4.6000000000000003E-11,4.6000000000000003E-11,"Adult",null,0.7,1.2E-10,2.8E-11,1.5E-10,"Adult","Caesium-137",0.7,5.9000000000000003E-11,null,0.7,2.3999999999999999E-13]
[8.6999999999999998E-8,2.4999999999999998E-12,8.6999999999999998E-8,"Adult",null,2.3999999999999999E-12,7.4000000000000001E-9,7.2999999999999995E-15,7.4000000000000001E-9,"Adult",null,9.3000000000000006E-9,3.9999999999999998E-11,9.3000000000000006E-9,"Child",null,0.87,2.1000000000000002E-9,5.2999999999999996E-12,3.9999999999999998E-11,2.1999999999999998E-9,"Adult",null,0.87,2E-12,2E-12,"Infant",null,0.87,4.5999999999999998E-12,3.5000000000000002E-13,4.9999999999999997E-12,"Adult","Barium-140",0.87,{"$f":"$AJ$64","v":5.9000000000000003E-11},null,0.87,{"$f":"$AM$64","v":2.3999999999999999E-13}]
[3.5000000000000002E-8,8.0999999999999998E-13,3.5000000000000002E-8,"Adult",null,0,0,0,0,"None",null,2.0999999999999999E-8,6E-11,2.0999999999999999E-8,"Child",null,0.69,6E-9,2E-12,1.5E-11,6E-9,"Adult",null,0.69,3.3000000000000001E-13,3.3000000000000001E-13,"Infant",null,0.69,1.2999999999999999E-12,1.7999999999999999E-13,1.5000000000000001E-12,"Adult","Lanthanum-140",0.69,5.9000000000000003E-11,null,0.69,2.3999999999999999E-13]
[8.2999999999999999E-9,3.7E-12,8.2999999999999999E-9,"Adult",null,9.0999999999999996E-12,4.2999999999999996E-9,1.4000000000000001E-13,4.3999999999999997E-9,"Adult",null,1.6999999999999999E-9,1.5E-11,1.6999999999999999E-9,"Child",null,0.49,6.8000000000000003E-10,5.3999999999999996E-12,5.3999999999999996E-12,6.9E-10,"Adult",null,0.49,6.8999999999999999E-13,6.8999999999999999E-13,"Infant",null,0.49,1.6E-12,1.6E-13,1.7E-12,"Adult","Cerium-141",0.49,5.9000000000000003E-11,null,0.49,2.3999999999999999E-13]
[1.2E-8,3.5000000000000002E-11,1.2E-8,"Adult",null,2.6000000000000001E-9,5.8000000000000003E-8,1.7999999999999999E-11,6.1000000000000004E-8,"Adult",null,1.9000000000000001E-9,1.0999999999999999E-10,2.0000000000000001E-9,"Child",null,0.5,7.7000000000000003E-10,3.9999999999999998E-11,3.9999999999999998E-11,8.4999999999999996E-10,"Adult",null,0.5,7.1E-12,7.1E-12,"Infant",null,0.5,1.4E-11,1.2999999999999999E-12,1.5E-11,"Adult","Cerium-144",0.5,5.9000000000000003E-11,null,0.5,2.3999999999999999E-13]
[1.6E-12,2.2999999999999999E-12,3.8E-12,"Adult",null,3E-10,6.2000000000000002E-12,1.4000000000000001E-12,3E-10,"Infant",null,8.3999999999999995E-14,2.1999999999999999E-12,2.2999999999999999E-12,"Child",null,0.5,1.0000000000000001E-15,1.4000000000000001E-12,1.3E-11,1.4E-11,"Infant",null,0.5,3.8E-13,3.8E-13,"Infant",null,0.5,5.9999999999999997E-15,3.8E-13,3.9E-13,"Adult","Promethium-147",0.5,5.9000000000000003E-11,null,0.5,2.3999999999999999E-13]
[7.7000000000000003E-10,6.6999999999999997E-13,7.7000000000000003E-10,"Adult",null,0,0,0,0,"None",null,2.4E-10,1.3E-11,2.5999999999999998E-10,"Child",null,0.4,1.2E-10,5.6000000000000004E-12,5.6000000000000004E-12,1.2999999999999999E-10,"Adult",null,0.4,1.3E-13,1.3E-13,"Infant",null,0.4,1.9000000000000001E-14,2.7000000000000001E-13,2.8999999999999998E-13,"Adult","Samarium-153",0.4,5.9000000000000003E-11,null,0.4,2.3999999999999999E-13]
[2.4999999999999999E-7,1.4E-11,2.4999999999999999E-7,"Adult",null,2.1999999999999998E-9,4.7999999999999998E-6,8.3999999999999994E-11,4.7999999999999998E-6,"Adult",null,3.8999999999999998E-8,2.7E-11,3.8999999999999998E-8,"Child",null,0.5,1.6000000000000001E-8,8.8999999999999996E-12,1.1000000000000001E-11,1.6000000000000001E-8,"Adult",null,0.5,2.2999999999999999E-12,2.2999999999999999E-12,"Infant",null,0.5,2.1999999999999998E-9,2.1999999999999999E-12,2.1999999999999998E-9,"Adult","Europium-152",0.5,5.9000000000000003E-11,null,0.5,2.3999999999999999E-13]
[2.7000000000000001E-7,1.9999999999999999E-11,2.7000000000000001E-7,"Adult",null,2.6000000000000001E-9,4.8999999999999997E-6,9.7000000000000001E-11,4.8999999999999997E-6,"Adult",null,4.1999999999999999E-8,4.1999999999999997E-11,4.1999999999999999E-8,"Child",null,0.5,1.7E-8,1.3E-11,1.5E-11,1.7E-8,"Adult",null,0.5,3.2000000000000001E-12,3.2000000000000001E-12,"Infant",null,0.5,2.0000000000000001E-9,3.1000000000000001E-12,2.0000000000000001E-9,"Adult","Europium-154",0.5,5.9000000000000003E-11,null,0.5,2.3999999999999999E-13]
[6E-9,2.9000000000000002E-12,6E-9,"Adult",null,3E-10,8.9999999999999999E-8,1.1000000000000001E-11,9.0999999999999994E-8,"Adult",null,9.4000000000000006E-10,7.0000000000000001E-12,9.5000000000000003E-10,"Child",null,0.5,3.7999999999999998E-10,2E-12,2.3999999999999999E-12,3.7999999999999998E-10,"Adult",null,0.5,4.9000000000000003E-13,4.9000000000000003E-13,"Infant",null,0.5,3.7000000000000001E-11,4.7999999999999997E-13,3.7000000000000001E-11,"Adult","Europium-155",0.5,5.9000000000000003E-11,null,0.5,2.3999999999999999E-13]
[2.0999999999999999E-12,1.1E-12,3.1000000000000001E-12,"Adult",null,2.8999999999999998E-13,4.3E-14,1.9000000000000001E-15,3.3000000000000001E-13,"Infant",null,2.8000000000000002E-13,7.9999999999999998E-12,8.2999999999999998E-12,"Child",null,0.48,3.5000000000000001E-15,8.9000000000000004E-13,9.1999999999999996E-12,9.9999999999999994E-12,"Infant",null,0.48,2.2E-13,2.2E-13,"Infant",null,0.48,1.5E-16,7.0000000000000005E-14,7.0000000000000005E-14,"Adult","Erbium-169",0.48,5.9000000000000003E-11,null,0.48,2.3999999999999999E-13]
[2.0000000000000001E-9,1.1999999999999999E-12,2.0000000000000001E-9,"Adult",null,1.6000000000000001E-14,4.8999999999999999E-11,1.2E-15,4.8999999999999999E-11,"Adult",null,2.0000000000000001E-10,1.2000000000000001E-11,2.1999999999999999E-10,"Child",null,0.47,8.6999999999999997E-11,3.9999999999999999E-12,3.9999999999999999E-12,9.4999999999999995E-11,"Adult",null,0.47,2.4999999999999999E-13,2.4999999999999999E-13,"Infant",null,0.47,1.1999999999999999E-13,9.1000000000000004E-14,2.0999999999999999E-13,"Adult","Lutetium-177",0.47,{"$f":"$AJ$49","v":1.8999999999999999E-10},null,0.47,{"$f":"$AM$49","v":5.2999999999999998E-11}]
[1.4999999999999999E-8,1.1E-12,1.4999999999999999E-8,"Adult",null,0,0,0,0,"None",null,2.2999999999999999E-9,1.8999999999999999E-11,2.2999999999999999E-9,"Child",null,0.42,1.0999999999999999E-9,7.5999999999999999E-12,7.5999999999999999E-12,1.0999999999999999E-9,"Adult",null,0.42,2.2999999999999998E-13,2.2999999999999998E-13,"Infant",null,0.42,4.5999999999999996E-13,8.3999999999999995E-14,5.4000000000000002E-13,"Adult","Gold-198",0.42,{"$f":"$AJ$49","v":1.8999999999999999E-10},null,0.42,{"$f":"$AM$49","v":5.2999999999999998E-11}]
[1.9000000000000001E-9,1.1999999999999999E-13,1.9000000000000001E-9,"Adult",null,0,0,0,0,"None",null,3.6E-10,1.4000000000000001E-12,3.6E-10,"Child",null,0.43,1.7000000000000001E-10,3E-10,9E-13,4.7000000000000003E-10,"Adult",null,0.43,5.0000000000000002E-14,5.0000000000000002E-14,"Infant",null,0.43,1.4999999999999999E-14,2.4999999999999998E-12,2.4999999999999998E-12,"Adult","Thallium-201",0.43,{"$f":"$AJ$64","v":5.9000000000000003E-11},null,0.43,{"$f":"$AM$64","v":2.3999999999999999E-13}]
[4.8999999999999996E-10,7.6000000000000002E-9,8.0000000000000005E-9,"Adult",null,9.5999999999999996E-6,3.7E-9,3.2000000000000001E-9,9.5999999999999996E-6,"Infant",null,3.7E-12,1.8E-9,1.8E-9,"Child",null,0.1,7.3E-12,9.8000000000000004E-8,9.8000000000000001E-9,1.1000000000000001E-7,"Adult",null,0.1,3.2000000000000001E-9,3.2000000000000001E-9,"Infant",null,0.1,2.4999999999999998E-12,1.9000000000000001E-7,1.9000000000000001E-7,"Adult","Lead-210",0.1,{"$f":"$AJ$64","v":5.9000000000000003E-11},null,0.1,{"$f":"$AM$64","v":2.3999999999999999E-13}]
[3.0000000000000001E-12,1.3000000000000001E-8,1.3000000000000001E-8,"Adult",null,3.9999999999999998E-6,2.8000000000000002E-12,9.4000000000000006E-10,3.9999999999999998E-6,"Infant",null,2.3999999999999999E-14,2.5000000000000001E-9,2.5000000000000001E-9,"Child",null,9.9000000000000005E-2,1.4999999999999999E-15,1E-8,5.4E-8,6.5E-8,"Infant",null,9.9000000000000005E-2,7.4999999999999993E-9,7.4999999999999993E-9,"Infant",null,9.9000000000000005E-2,9.1E-17,5.4E-10,5.4E-10,"Adult","Polonium-210",9.9000000000000005E-2,1.6E-7,null,9.9000000000000005E-2,3.6E-10]
[1.9999999999999999E-7,8.6000000000000003E-10,1.9999999999999999E-7,"Adult",null,2.7E-10,1.9000000000000001E-8,3.7000000000000001E-11,2E-8,"Adult",null,4.3000000000000001E-10,5.1E-10,9.2999999999999999E-10,"Child",null,0.48,5.2999999999999996E-12,1.6999999999999999E-9,8.7999999999999994E-9,1.0999999999999999E-8,"Infant",null,0.48,1.2E-10,1.2E-10,"Infant",null,0.48,5.4000000000000002E-13,1.5999999999999999E-10,1.5999999999999999E-10,"Adult","Radium-223",0.48,{"$f":"$AJ$90","v":3.5000000000000002E-8},null,0.48,{"$f":"$AM$90","v":4.2E-10}]
[3.9000000000000002E-7,2.1999999999999998E-9,3.9999999999999998E-7,"Adult",null,9.9999999999999995E-7,9.3999999999999998E-6,1.2999999999999999E-10,1.0000000000000001E-5,"Offspring",null,2.5000000000000001E-9,9.4000000000000006E-10,3.4999999999999999E-9,"Child",null,0.5,1.0000000000000001E-9,9.5000000000000007E-9,5.6999999999999998E-9,1.6000000000000001E-8,"Offspring",null,0.5,1.9000000000000001E-9,1.9000000000000001E-9,"Child",null,0.5,2.5999999999999998E-10,8.6000000000000003E-10,1.0999999999999999E-9,"Offspring","Radium-226",0.5,{"$f":"$AJ$79","v":1.6E-7},null,0.5,{"$f":"$AM$90","v":4.2E-10}]
[7.0000000000000004E-11,5.7999999999999998E-9,5.7999999999999998E-9,"Adult",null,1.6999999999999999E-7,1.6999999999999999E-9,6.1000000000000004E-8,2.2999999999999999E-7,"Adult",null,6.8999999999999999E-13,2.8999999999999998E-10,2.8999999999999998E-10,"Child",null,0.1,1.4000000000000001E-12,8.9000000000000003E-9,2.7000000000000002E-9,1.2E-8,"Adult",null,0.1,2.3000000000000001E-10,2.3000000000000001E-10,"Adult",null,0.1,3E-11,7.5E-11,1.0999999999999999E-10,"Adult","Thorium-230",0.1,{"$f":"$AJ$90","v":3.5000000000000002E-8},null,0.1,{"$f":"$AM$90","v":4.2E-10}]
[3E-11,8.7999999999999994E-9,8.7999999999999994E-9,"Adult",null,1.8E-7,2.5000000000000001E-5,1.1000000000000001E-7,2.5000000000000001E-5,"Adult",null,9.8999999999999993E-9,3.4999999999999998E-10,1E-8,"Child",null,0.1,2E-8,9.6999999999999992E-9,2.8999999999999999E-9,3.2999999999999998E-8,"Adult",null,0.1,2.5000000000000002E-10,2.5000000000000002E-10,"Adult",null,0.1,5.1000000000000002E-9,1.6000000000000001E-9,6.6999999999999996E-9,"Adult","Thorium-232",0.1,{"$f":"$AJ$90","v":3.5000000000000002E-8},null,0.1,{"$f":"$AM$90","v":4.2E-10}]
[6.5000000000000003E-9,2.7E-11,6.5000000000000003E-9,"Adult",null,2E-12,2.2999999999999999E-9,3.6999999999999999E-13,2.2999999999999999E-9,"Adult",null,8.9999999999999999E-11,8.7999999999999997E-12,9.8999999999999994E-11,"Child",null,9.8000000000000004E-2,1.8E-10,1.4000000000000001E-10,4.3E-11,3.7000000000000001E-10,"Adult",null,9.8000000000000004E-2,3.1000000000000001E-12,3.1000000000000001E-12,"Infant",null,9.8000000000000004E-2,4.1999999999999997E-11,8.5999999999999997E-13,4.3E-11,"Adult","Thorium-234",9.8000000000000004E-2,1.0999999999999999E-10,null,9.8000000000000004E-2,3.3000000000000001E-12]
[3.1000000000000001E-12,2.0000000000000001E-10,2.0000000000000001E-10,"Adult",null,2.0999999999999999E-8,2.0999999999999999E-11,2.7E-10,2.0999999999999999E-8,"Infant",null,1.4999999999999999E-14,1.0999999999999999E-10,1.0999999999999999E-10,"Child",null,0.9,3.4E-15,1.5E-9,9.2999999999999999E-10,2.5000000000000001E-9,"Adult",null,0.9,6.0999999999999996E-11,6.0999999999999996E-11,"Adult",null,0.9,4.8999999999999999E-15,1.3E-11,1.3E-11,"Adult","Uranium-234",0.9,2.0999999999999999E-8,null,0.9,3.1999999999999999E-11]
[6.3000000000000002E-9,1.8E-10,6.5000000000000003E-9,"Adult",null,1.0999999999999999E-8,1.1999999999999999E-7,1.5E-9,1.4000000000000001E-7,"Adult",null,3E-11,1.0999999999999999E-10,1.4000000000000001E-10,"Child",null,0.9,6.7000000000000001E-12,1.5E-9,8.9000000000000003E-10,2.4E-9,"Adult",null,0.9,5.9000000000000003E-11,5.9000000000000003E-11,"Adult",null,0.9,9.5999999999999995E-12,1.3E-11,2.2000000000000002E-11,"Adult","Uranium-235",0.9,{"$f":"$AJ$85","v":2.0999999999999999E-8},null,0.9,{"$f":"$AM$85","v":3.1999999999999999E-11}]
[1.3000000000000001E-9,1.7000000000000001E-10,1.5E-9,"Adult",null,1E-8,2.4999999999999999E-8,1.3999999999999999E-9,3.7E-8,"Adult",null,6.2000000000000002E-12,1E-10,1.0999999999999999E-10,"Child",null,0.9,1.4000000000000001E-12,1.3999999999999999E-9,8.4999999999999996E-10,2.2999999999999999E-9,"Adult",null,0.9,5.6E-11,5.6E-11,"Adult",null,0.9,1.8E-12,1.2000000000000001E-11,1.4E-11,"Adult","Uranium-238",0.9,{"$f":"$AJ$85","v":2.0999999999999999E-8},null,0.9,{"$f":"$AM$85","v":3.1999999999999999E-11}]
[2.6000000000000001E-9,4.0000000000000002E-9,6.6000000000000004E-9,"Adult",null,3.7E-7,8.9999999999999996E-7,5.5999999999999999E-8,1.3E-6,"Adult",null,4.8999999999999997E-12,8.8000000000000006E-11,9.3000000000000002E-11,"Child",null,0.5,2E-12,2.1000000000000002E-9,2.1000000000000002E-9,4.2000000000000004E-9,"Adult",null,0.5,1.7000000000000001E-10,1.7000000000000001E-10,"Adult",null,0.5,1.4E-11,3.4999999999999998E-10,3.6E-10,"Adult","Neptunium-237",0.5,{"$f":"$AJ$90","v":3.5000000000000002E-8},null,0.5,{"$f":"$AM$90","v":4.2E-10}]
[4.2999999999999999E-12,8.0000000000000005E-9,8.0000000000000005E-9,"Adult",null,2.4999999999999999E-7,1E-10,1.1000000000000001E-7,3.5999999999999999E-7,"Adult",null,9.4999999999999999E-13,3.3000000000000002E-9,3.3000000000000002E-9,"Child",null,0.5,3.8E-13,1.2E-9,7.2999999999999996E-10,1.9000000000000001E-9,"Adult",null,0.5,2.1E-10,2.1E-10,"Adult",null,0.5,5.0000000000000002E-14,1.6000000000000001E-9,1.6000000000000001E-9,"Adult","Plutonium-238",0.5,{"$f":"$AJ$90","v":3.5000000000000002E-8},null,0.5,{"$f":"$AM$90","v":4.2E-10}]
[9.7999999999999994E-12,8.7000000000000001E-9,8.7000000000000001E-9,"Adult",null,2.8999999999999998E-7,2.3000000000000001E-10,1.1999999999999999E-7,4.0999999999999999E-7,"Adult",null,2.0999999999999999E-12,3.8000000000000001E-9,3.8000000000000001E-9,"Child",null,0.5,8.5999999999999997E-13,1.3000000000000001E-9,7.8999999999999996E-10,2.1000000000000002E-9,"Adult",null,0.5,2.3000000000000001E-10,2.3000000000000001E-10,"Adult",null,0.5,1.1999999999999999E-13,1.6999999999999999E-9,1.6999999999999999E-9,"Adult","Plutonium-239",0.5,3.5000000000000002E-8,null,0.5,4.2E-10]
[4.1999999999999999E-12,8.7000000000000001E-9,8.7000000000000001E-9,"Adult",null,2.8999999999999998E-7,1E-10,1.1999999999999999E-7,4.0999999999999999E-7,"Adult",null,9.0999999999999996E-13,3.8000000000000001E-9,3.8000000000000001E-9,"Child",null,0.5,3.6999999999999999E-13,1.3000000000000001E-9,7.8999999999999996E-10,2.1000000000000002E-9,"Adult",null,0.5,2.3000000000000001E-10,2.3000000000000001E-10,"Adult",null,0.5,5.3000000000000001E-14,1.6999999999999999E-9,1.6999999999999999E-9,"Adult","Plutonium-240",0.5,{"$f":"$AJ$90","v":3.5000000000000002E-8},null,0.5,{"$f":"$AM$90","v":4.2E-10}]
[2.0000000000000001E-13,1.5999999999999999E-10,1.5999999999999999E-10,"Adult",null,4.2999999999999996E-9,3.8999999999999999E-12,1.8E-9,6.1E-9,"Adult",null,4.3E-14,7.1E-11,7.1E-11,"Child",null,0.5,1.7E-14,2.5000000000000001E-11,1.5E-11,4.1000000000000001E-11,"Adult",null,0.5,4.3999999999999998E-12,4.3999999999999998E-12,"Adult",null,0.5,2.3999999999999999E-13,3.1999999999999999E-11,3.1999999999999999E-11,"Adult","Plutonium-241",0.5,{"$f":"$AJ$64","v":5.9000000000000003E-11},null,0.5,{"$f":"$AM$64","v":2.3999999999999999E-13}]
[3.7E-12,8.4000000000000008E-9,8.4000000000000008E-9,"Adult",null,2.8000000000000002E-7,8.8000000000000006E-11,1.1999999999999999E-7,3.9999999999999998E-7,"Adult",null,8.0000000000000002E-13,3.6E-9,3.6E-9,"Child",null,0.5,3.2E-13,1.3000000000000001E-9,7.5999999999999996E-10,2.0000000000000001E-9,"Adult",null,0.5,2.1999999999999999E-10,2.1999999999999999E-10,"Adult",null,0.5,4.7000000000000002E-14,1.6000000000000001E-9,1.6000000000000001E-9,"Adult","Plutonium-242",0.5,{"$f":"$AJ$90","v":3.5000000000000002E-8},null,0.5,{"$f":"$AM$90","v":4.2E-10}]
[2.4E-9,1.3000000000000001E-8,1.4999999999999999E-8,"Adult",null,4.5999999999999999E-7,5.8999999999999999E-8,1.8E-7,7.0999999999999998E-7,"Adult",null,6.8999999999999994E-11,6.9999999999999996E-10,7.7000000000000003E-10,"Child",null,0.1,1.4000000000000001E-10,6E-9,1.8E-10,6.4000000000000002E-9,"Adult",null,0.1,1.8999999999999999E-10,1.8999999999999999E-10,"Adult",null,0.1,2.5000000000000001E-11,4.6000000000000003E-11,7.1E-11,"Adult","Americium-241",0.1,4.4999999999999998E-9,null,0.1,5.7E-10]
[1.7000000000000001E-10,4.2999999999999999E-13,1.7000000000000001E-10,"Adult",null,0,0,0,0,"None",null,1.4E-11,1.1E-12,1.5E-11,"Child",null,5.1999999999999998E-2,5.2000000000000001E-11,9.0999999999999996E-12,2.7000000000000001E-13,6.2000000000000006E-11,"Adult",null,5.1999999999999998E-2,2E-14,2E-14,"Infant",null,5.1999999999999998E-2,9.6000000000000002E-16,1E-14,1.1E-14,"Adult","Americium-242",5.1999999999999998E-2,{"$f":"$AJ$94","v":4.4999999999999998E-9},null,5.1999999999999998E-2,{"$f":"$AM$94","v":5.7E-10}]
[5.2999999999999998E-8,1.3000000000000001E-8,6.5999999999999995E-8,"Adult",null,4.7999999999999996E-7,1.3E-6,1.8E-7,1.9999999999999999E-6,"Adult",null,1.5E-9,6.9999999999999996E-10,2.1999999999999998E-9,"Child",null,0.1,3E-9,6E-9,1.8E-10,9.1999999999999997E-9,"Adult",null,0.1,1.8999999999999999E-10,1.8999999999999999E-10,"Adult",null,0.1,5.3000000000000003E-10,4.6000000000000003E-11,5.7999999999999996E-10,"Adult","Americium-243",0.1,{"$f":"$AJ$94","v":4.4999999999999998E-9},null,0.1,{"$f":"$AM$94","v":5.7E-10}]
[7.8999999999999999E-12,1.3999999999999999E-9,1.3999999999999999E-9,"Adult",null,1.5E-9,2.5000000000000001E-11,2.7000000000000002E-9,4.2999999999999996E-9,"Adult",null,2.3999999999999999E-13,7.5999999999999996E-11,7.5999999999999996E-11,"Child",null,9.9000000000000005E-2,1.4E-14,2.9000000000000002E-12,3E-11,3.3000000000000002E-11,"Infant",null,9.9000000000000005E-2,1.3E-11,1.3E-11,"Infant",null,9.9000000000000005E-2,3.9000000000000003E-15,2.9000000000000002E-12,2.9000000000000002E-12,"Adult","Curium-242",9.9000000000000005E-2,{"$f":"$AJ$90","v":3.5000000000000002E-8},null,9.9000000000000005E-2,{"$f":"$AM$90","v":4.2E-10}]
[3.5000000000000002E-8,9.3999999999999998E-9,4.3999999999999997E-8,"Adult",null,3.3999999999999997E-7,7.8000000000000005E-7,1.1999999999999999E-7,1.1999999999999999E-6,"Adult",null,9.900000000000001E-10,5.1E-10,1.5E-9,"Child",null,0.1,2.0000000000000001E-9,1.0999999999999999E-10,1.4000000000000001E-10,2.1999999999999998E-9,"Adult",null,0.1,1.4000000000000001E-10,1.4000000000000001E-10,"Adult",null,0.1,2.5999999999999998E-10,3.3999999999999999E-11,3E-10,"Adult","Curium-243",0.1,{"$f":"$AJ$90","v":3.5000000000000002E-8},null,0.1,{"$f":"$AM$90","v":4.2E-10}]
[5.8000000000000003E-12,8.0999999999999997E-9,8.0999999999999997E-9,"Adult",null,2.2000000000000001E-7,1.2E-10,9.9999999999999995E-8,3.2000000000000001E-7,"Adult",null,1.7000000000000001E-13,4.3999999999999998E-10,4.3999999999999998E-10,"Child",null,0.1,3.3000000000000001E-13,9.0999999999999996E-11,1.0999999999999999E-10,2.0000000000000001E-10,"Adult",null,0.1,1.0999999999999999E-10,1.0999999999999999E-10,"Adult",null,0.1,4E-14,2.7E-11,2.7E-11,"Adult","Curium-244",0.1,{"$f":"$AJ$90","v":3.5000000000000002E-8},null,0.1,{"$f":"$AM$90","v":4.2E-10}]
[{"$f":"$A$81","v":3.9000000000000002E-7},{"$f":"$B$81","v":2.1999999999999998E-9},{"$f":"$C$81","v":3.9999999999999998E-7},{"$f":"$D$81","v":"Adult"},null,{"$f":"$F$81","v":9.9999999999999995E-7},{"$f":"G81","v":9.3999999999999998E-6},{"$f":"$H$81","v":1.2999999999999999E-10},{"$f":"I81","v":1.0000000000000001E-5},{"$f":"$J$81","v":"Offspring"},null,{"$f":"$L$81","v":2.5000000000000001E-9},{"$f":"$M$81","v":9.4000000000000006E-10},{"$f":"$N$81","v":3.4999999999999999E-9},{"$f":"$O$81","v":"Child"},null,0.5,{"$f":"$R$81","v":1.0000000000000001E-9},{"$f":"$S$81","v":9.5000000000000007E-9},{"$f":"$T$81","v":5.6999999999999998E-9},{"$f":"$U$81","v":1.6000000000000001E-8},{"$f":"$V$81","v":"Offspring"},null,0.5,{"$f":"$Y$81","v":1.9000000000000001E-9},{"$f":"$Z$81","v":1.9000000000000001E-9},{"$f":"$AA$81","v":"Child"},null,0.5,{"$f":"$AD$81","v":2.5999999999999998E-10},{"$f":"$AE$81","v":8.6000000000000003E-10},{"$f":"$AF$81","v":1.0999999999999999E-9},{"$f":"$AG$81","v":"Offspring"},"Other alpha-emitting nuclides",0.5,{"$f":"$AJ$90","v":3.5000000000000002E-8},null,0.5,{"$f":"$AM$90","v":4.2E-10}]
[{"$f":"$A$64","v":7.4000000000000001E-8},{"$f":"$B$64","v":4.8999999999999999E-11},{"$f":"$C$64","v":7.4000000000000001E-8},{"$f":"$D$64","v":"Adult"},null,{"$f":"$F$64","v":2.4999999999999999E-7},{"$f":"$G$64","v":1.5999999999999999E-6},{"$f":"$H$64","v":8.9999999999999996E-12},{"$f":"$I$64","v":1.7999999999999999E-6},{"$f":"$J$64","v":"Adult"},null,{"$f":"$L$64","v":4.0000000000000002E-9},{"$f":"$M$64","v":3.1000000000000003E-11},{"$f":"$N$64","v":4.0000000000000002E-9},{"$f":"$O$64","v":"Child"},null,0.9,{"$f":"$R$64","v":1.0999999999999999E-9},{"$f":"$S$64","v":1.4999999999999999E-8},{"$f":"$T$64","v":2.1999999999999999E-10},{"$f":"$U$64","v":1.6000000000000001E-8},{"$f":"$V$64","v":"Adult"},null,0.9,{"$f":"$Y$64","v":4.6000000000000003E-11},{"$f":"$Z$64","v":4.6000000000000003E-11},{"$f":"$AA$64","v":"Adult"},null,0.9,{"$f":"$AD$64","v":1.2E-10},{"$f":"$AE$64","v":2.8E-11},{"$f":"$AF$64","v":1.5E-10},{"$f":"$AG$64","v":"Adult"},"Other beta/gamma-emitting nuclides",0.9,{"$f":"$AJ$64","v":5.9000000000000003E-11},null,0.9,{"$f":"$AM$64","v":2.3999999999999999E-13}]

{"sheet":"Templates","index":18,"n_rows":102,"n_cols":45,"rows_kept":102,"cut":false,"hidden":true,"merged":[[2,18,2,20],[3,18,3,20],[2,7,2,9],[3,7,3,9],[2,12,2,15],[3,12,3,15],[4,33,4,35],[2,23,2,26],[3,23,3,26],[2,29,2,30],[3,29,3,30],[2,33,2,35],[3,33,3,35],[4,7,4,9],[4,12,4,15],[4,18,4,20],[4,23,4,26],[4,29,4,30]]}
[null,"Valid"]
["Valid","Remove"]
[null,null,null,null,null,null,null,"WORKER",null,null,null,null,"FARMING FAMILY",null,null,null,null,null,"CHILD PLAYING IN burn",null,null,null,null,"ANGLER",null,null,null,null,null,"IRRIGATED FOOD CONSUMER",null,null,null,"FISHERMAN",null,null,null,null,"River Wildlife",null,null,"Estuary wildlife"]
[554,null,null,null,null,null,null,{"$f":"A4","v":554},null,null,null,null,{"$f":"(A4)","v":554},null,null,null,null,null,{"$f":"(A4)","v":554},null,null,null,null,{"$f":"(A4)","v":554},null,null,null,null,null,{"$f":"(A4)","v":554},null,null,null,{"$f":"(A4)","v":554},null,null,null,null,{"$f":"(A4)","v":554},null,null,{"$f":"(A4)","v":554},null,null,{"$f":"(A4)","v":554}]
["PERMIT No.",null,null,null,null,null,null,{"$f":"A5","v":"PERMIT No."},null,null,null,null,{"$f":"A5","v":"PERMIT No."},null,null,null,null,null,{"$f":"A5","v":"PERMIT No."},null,null,null,null,{"$f":"A5","v":"PERMIT No."},null,null,null,null,null,{"$f":"A5","v":"PERMIT No."},null,null,null,{"$f":"A5","v":"PERMIT No."},null,null,null,null,{"$f":"(A5)","v":"PERMIT No."},null,null,{"$f":"(A5)","v":"PERMIT No."},null,null,{"$f":"(A5)","v":"PERMIT No."}]
["Discharge at Limits",null,"Cumulative Discharge at Limits",null,"Cumulative Dose",null,null,"External dose","Inadvertent inh and ing dose","Total dose",null,null,"Food dose","External dose","Inadvertent inh and ing dose","Total dose",null,null,"External dose","Inadvertent inh and ing dose","Total dose",null,null,"External dose","Fish dose","Water dose","Total dose",null,null,"Food dose","Total dose",null,null,"External dose","Fish dose","Total dose",null,null,"Worst affected organism","Cumulative Dose",null,"Worst affected organism",null,null,"Total Doses"]
["Bq/y",null,"Bq/y",null,{"$f":"('Assessment Details'!$C$10)","v":"mSv/y"},null,null,{"$f":"('Assessment Details'!$C$10)","v":"mSv/y"},{"$f":"('Assessment Details'!$C$10)","v":"mSv/y"},{"$f":"('Assessment Details'!$C$10)","v":"mSv/y"},null,null,{"$f":"('Assessment Details'!$C$10)","v":"mSv/y"},{"$f":"('Assessment Details'!$C$10)","v":"mSv/y"},{"$f":"('Assessment Details'!$C$10)","v":"mSv/y"},{"$f":"('Assessment Details'!$C$10)","v":"mSv/y"},null,null,{"$f":"('Assessment Details'!$C$10)","v":"mSv/y"},{"$f":"('Assessment Details'!$C$10)","v":"mSv/y"},{"$f":"('Assessment Details'!$C$10)","v":"mSv/y"},null,null,{"$f":"('Assessment Details'!$C$10)","v":"mSv/y"},{"$f":"('Assessment Details'!$C$10)","v":"mSv/y"},{"$f":"('Assessment Details'!$C$10)","v":"mSv/y"},{"$f":"('Assessment Details'!$C$10)","v":"mSv/y"},null,null,{"$f":"('Assessment Details'!$C$10)","v":"mSv/y"},{"$f":"('Assessment Details'!$C$10)","v":"mSv/y"},null,null,{"$f":"('Assessment Details'!$C$10)","v":"mSv/y"},{"$f":"('Assessment Details'!$C$10)","v":"mSv/y"},{"$f":"('Assessment Details'!$C$10)","v":"mSv/y"},null,null,"microGy/h","microGy/h",null,"microGy/h"]
[]
[]
[]
[]
[]
[]
[null,null,null,null,null,null,null,null,null,null,null,null,null,null,null,null,null,null,null,null,null,null,null,null,null,null,null,null,null,null,null,null,null,null,null,null,null,null,null,null,null,null,null,null,{"$f":"MAX(AS7:AS12)","v":0}]
[]
[]
[]
[]
[]
[]
[]
[null,null,null,null,null,null,null,null,null,null,null,null,null,null,null,null,null,null,null,null,null,null,null,null,null,null,null,null,null,null,null,null,null,null,null,null,null,null,null,null,null,null,null,null,"Food Dose"]
[]
[]
[]
[]
[]
[]
[null,null,null,null,null,null,null,null,null,null,null,null,null,null,null,null,null,null,null,null,null,null,null,null,null,null,null,null,null,null,null,null,null,null,null,null,null,null,null,null,null,null,null,null,{"$f":"MAX(AS24,AS25,AS26,AS27)","v":0}]
[]
[]
[]
[]
[]
[]
[]
[]
[]
[]
[]
[]
[]
[]
[]
[]
[]
[]
[]
[]
[]
[]
[]
[]
[]
[]
[]
[]
[]
[]
[]
[]
[]
[]
[]
[]
[]
[]
[]
[]
[]
[]
[]
[]
[]
[]
[]
[]
[]
[]
[]
[]
[]
[]
[]
[]
[]
[]
[]
[]
[]
[]
[]
[]
[]
[]
[]
[]
[]
[]
[]
[]
[null,null,null,null,{"$f":"('Assessment Details'!$C$10)","v":"mSv/y"},null,null,{"$f":"SUM(H8:H100)","v":0},{"$f":"SUM(I8:I100)","v":0},{"$f":"SUM(J8:J100)","v":0},"mSv/y",null,{"$f":"SUM(M8:M100)","v":0},{"$f":"SUM(N8:N100)","v":0},{"$f":"SUM(O8:O100)","v":0},{"$f":"SUM(P8:P100)","v":0},"mSv/y",null,{"$f":"SUM(S8:S100)","v":0},{"$f":"SUM(T8:T100)","v":0},{"$f":"SUM(U8:U100)","v":0},"mSv/y",null,{"$f":"SUM(X8:X100)","v":0},{"$f":"SUM(Y8:Y100)","v":0},{"$f":"SUM(Z8:Z100)","v":0},{"$f":"SUM(AA8:AA100)","v":0},"mSv/y",null,{"$f":"SUM(AD8:AD100)","v":0},0,"mSv/y",null,0,0,0,"mSv/y",null,{"$f":"SUM(AM8:AM100)","v":0},"microGy/h",null,{"$f":"SUM(AP8:AP100)","v":0},"mSv/y"]

{"sheet":"STW data","index":19,"n_rows":199,"n_cols":15,"rows_kept":199,"cut":false,"hidden":false,"merged":[]}
["Sewage treatment works data"]
[null,null,null,null,null,null,null,"STW","Location Code","Postcode","Licence No","Where does the STW effluent discharge to? Burn/river/estuary","average burn/river flow rate (m3/s)","average raw sewage flow rate (m3/day)","average coastal/estuary exchange rate (m3/s)"]
[]
["STW ID","STW Name","City/Town","STW Grid Reference","Total Raw Effluent Treated (m3/day)"]
["N/A","Default value","N/A","N/A",60,null,null,"Default value","NA","NA","NA",null,null,60,30]
["N/A","User defined","N/A","N/A",true,null,null,"User defined","NA","NA","NA",null,null,0,{"$f":"'Assessment Details'!C39","v":30}]
["STW172","Aberystwyth STW","Aberystwyth","SN604801",8900,null,null,"Dalmuir",123513,"G81 4SA","CAR-L-1003354","River (transitional)",49.16,326250]
["STW170","Afan STW","Port Talbot","SS761874",51000,null,null,"Dalmarnock",304126,"G40 4HW","CAR-L-1003413","River",49.16,225000]
["STW065","Alnwick STW","Alnwick","NU203131",3800,null,null,"Daldowie",127630,"G71 7RX","CAR-L-1003363","River",49.16,159600]
["STW235","Arborfield STW",null,null,4200,null,null,"Falkirk",13219,"FK2 7XP","CAR-L-1003809","River (transitional)",5,42600]
["STW077","Ashford STW","Ashford","TR022432",18000,null,null,"Allanfearn",219584,"IV2 7HX","CAR-L-1001896","Estuary/coastal","-",null,3600]
["STW149","Avonmouth STW","Bristol","ST534795",210000,null,null,"East Calder",13291,"EH53 0BB","CAR-L-1001222","River",4.71,39000]
["STW078","Aylesford STW","Maidstone","TQ720595",22000,null,null,"Galashiels",13529,"TD1 3HJ","CAR-L-1001303","River",43.5,12919.5]
["STW107","Bamhurst STW",null,null,59000,null,null,"Hatton",13864,"DD11 2PJ","CAR-L-1001449","Estuary/coastal","-",107100,4300]
["STW220","Banbury STW","Banbury","SP469400",21000,null,null,"Inverclyde",125642,"PA19 1BB","CAR-L-1003263","Estuary/coastal","-",62149.5,450]
["STW066","Barkers Haugh STW","Durham","NZ278432",9800,null,null,"Lanark",123551,"ML11 9EH","CAR-L-1000535","River",28.33,11550]
["STW049","Barnstaple STW","Barnstaple","SS533342",22000,null,null,"Meadowhead",131408,"KA11 5AP","CAR-L-1003265","Estuary/coastal",6.1680000000000001,128673]
["STW106","Barrow STW",null,null,4200,null,null,"Nigg",231823,"AB12 3LT","CAR-L-1003845","Estuary/coastal","-",91500,4100]
["STW137","Barrow-in-Furness STW","Barrow-In-Furness","SD219685",38000,null,null,"Ormiston",13377,"EH35 5HW","CAR-L-1003758","River",0.32,2527.5]
["STW019","Basildon STW","Basildon","TQ736868",28000,null,null,"Paisley",125651,"PA3 4HP","CAR-L-1003428","River",6.7,119997]
["STW254","Beckton STW","London",null,2700000,null,null,"Persely",232239,"AB22 8AQ","CAR-L-1001727","River",21.47,17400]
["STW239","Beddington STW","London","TQ297661",87000,null,null,"Perth",13846,"PH2 8QJ","CAR-L-1001552","River (transitional)",178,20470]
["STW020","Bedford STW","Bedford","TL083495",35000,null,null,"Philipshill",328767,"G76 9HS","CAR-L-1063681","River",0.5,29160]
["STW067","Billingham STW","Billingham","NZ479257",15000,null,null,"Seafield (Blackburn)",13282,"EH47 7AH","CAR-L-1001017","River",1,10050]
["STW105","Birtley STW",null,null,5500,null,null,"Shieldhall",128007,"G51 4BZ","CAR-L-1003303","River (transitional)",49.16,409500]
["STW233","Bishops Stortford STW",null,null,14000,null,null,"Shotts",322295,"ML7 5BS","CAR-L-1003423","River",0.25,4954.5]
["STW242","Blackbirds STW",null,null,28000,null,null,"St Andrews",13875,"KY16 8PN","CAR-L-1003817","Estuary/coastal","-",11793,3500]
["STW138","Blackburn STW","Blackburn","SD603298",74000,null,null,"Stirling",13486,"FK7 7SS","CAR-L-1001375","River (transitional)",57,39150]
["STW054","Bodmin (Nanstallon) STW",null,null,6400,null,null,"Troqueer",312977,"DG2 7HW","CAR-L-1003545","River (transitional)",28.108000000000001,14256]
["STW139","Bolton STW","Bolton","SD768047",140000]
["STW021","Boston STW","Boston","TF354411",10000]
["STW068","Bowburn STW",null,null,2300,null,null,"STW_Scotland"]
["STW069","Bran Sands STW","Middlesborough","NZ565241",5700,null,null,"Default value"]
["STW108","Brancote STW","Stafford","SJ956223",33000]
["STW022","Broadholme STW","Wellingborough","SP939689",47000]
["STW058","Brokenbury STW","Torbay","SX897562",46000]
["STW140","Bromborough STW","Wirral","SJ353838",28000]
["STW109","Bromsgrove STW","Bromsgrove",null,14000]
["STW025","burnend  STW","Chelmsford","TL739068",52000]
["STW085","Budds Farm STW","Havant","SU707054",33000]
["STW236","Burghfield STW",null,null,1900]
["STW023","Bury St Edmunds STW","Bury St Edmunds","TL843680",11000]
["STW057","Cambourne (Untreated Outfall) STW",null,null,11000]
["STW080","Canterbury STW","Canterbury","TR168597",1800]
["STW024","Canwick STW","Lincoln","SK998704",29000]
["STW176","Cardiff East STW","Cardiff East","ST212757",310000]
["STW110","Checkley STW",null,null,22000]
["STW228","Chertsey STW",null,null,21000]
["STW246","Chesham STW",null,null,7600]
["STW081","Chichester STW","Chichester","SU842038",10000]
["STW111","Claymills STW","Burton-On-Trent","SK263258",59000]
["STW026","Cliff Quay STW","Ipswich","TM172418",29000]
["STW141","Clifton Marsh STW","Preston","SD454282",120000]
["STW112","Coleshill STW","West Bromwich","SP192913",81000]
["STW070","Consett STW","Consett",null,17000]
["STW028","Corby STW","Corby","SP907890",29000]
["STW029","Cotton Valley STW","Milton Keynes","SP884452",55000]
["STW061","Countess Wear STW","Exeter","SX948891",54000]
["STW247","Cranleigh STW",null,null,3600]
["STW265","Crossness STW","London",null,980000]
["STW113","Crumpmeadow (Cinderford) STW",null,null,1100]
["STW142","Davyhulme STW","Manchester","SJ753963",330000]
["STW234","Deephams STW","London","TQ358936",210000]
["STW114","Derby STW","Derby","SK392349",110000]
["STW248","Didcot STW","Didcot","SU519913",12000]
["STW082","Ditton STW",null,null,2100]
["STW150","Dorchester STW","Dorchester","SY709901",11000]
["STW151","East Stoke STW",null,null,13]
["STW086","Edenvale STW","East Grinstead","TQ392398",2000]
["STW222","Esher STW","London","TQ134663",30000]
["STW059","Exmouth STW","Exmouth",null,19000]
["STW027","Eye STW","Eye","TM157744",300]
["STW144","Fazakerley STW","Liverpool","SJ392964",72000]
["STW115","Finham STW","Coventry ","SP333740",130000]
["STW167","Five Fords STW","Wrexham","SJ362482",33000]
["STW030","Flag Fen STW","Peterborough","TL221982",58000]
["STW229","Fleet STW",null,null,13000]
["STW032","Great Billing STW","Northampton","SP818618",50000]
["STW033","Great Chesterford STW",null,null,430]
["STW223","Guildford STW","Guildford","TQ001517",32000]
["STW237","Hartley Wintney STW",null,null,5700]
["STW087","Hastings STW","Hastings","TQ767094",12000]
["STW034","Haven STW","Colchester","TM021234",27000]
["STW116","Hayden STW","Cheltenham","SO908229",44000]
["STW071","Hendon STW","Sunderland","NZ410558",77000]
["STW226","Hockford STW","Pirbright","SU959542",4600]
["STW241","Hogsmill STW","London","TQ194684",14000]
["STW240","Hogsmill Valley 'A' STW",null,null,71000]
["STW152","Holdenhurst STW","Bournemouth","SZ132952",49000]
["STW056","Hopes Nose (Untreated Outfall) STW",null,null,28000]
["STW088","Horsham New STW","Horsham","TQ148296",17000]
["STW072","Howdon STW","Newcastle Upon Tyne","NZ334663",280000]
["STW008","Hull STW","Hull","TA162291",170000]
["STW243","Hungerford STW",null,null,1100]
["STW035","Huntingdon STW","Huntingdon","TL262710",11000]
["STW060","Ifracombe STW","Ifracombe",null,6000]
["STW053","Ivy Bridge STW",null,null,4700]
["STW036","Kentford STW",null,null,350]
["STW037","Kings Lynn STW","King's Lynn","TF603222",26000]
["STW165","Kinmel Bay STW","Rhyl","SH987785",40000]
["STW153","Kinson STW",null,null,11000]
["STW244","Kintbury STW",null,null,660]
["STW010","Knostrop STW","Leeds",null,210000]
["STW145","Lancaster STW","Lancaster","SD460588",39000]
["STW084","Langney Point STW","Eastbourne","TQ640009",35000]
["STW224","Leatherhead STW","Leatherhead","TQ148578",12000]
["STW166","Llanberis STW","Llanberis","SH582596",740]
["STW177","Llanfoist STW","Abergavenny","SO299132",5800]
["STW288","Long Reach STW","Dartford",null,190000]
["STW117","Long Whatton STW",null,null,570]
["STW118","Loughborough STW","Loughborough","SK530211",27000]
["STW119","Lydney STW",null,null,7200]
["STW120","Malvern STW","Malvern",null,17000]
["STW221","Maple Lodge STW","Maple Cross","TQ039922",130000]
["STW089","Margate STW","Margate",null,25000]
["STW031","Marston STW","Grantham","SK907427",14000]
["STW121","Matlock STW","Matlock",null,9100]
["STW038","Melbourn STW",null,null,1800]
["STW174","Merlins Bridge STW","Haverfordwest","SM956146",5100]
["STW090","Millburn STW","Southampton","SU388124",40000]
["STW039","Milton STW","Cambridge","TL474615",36000]
["STW122","Minworth STW","Birmingham","SP172920",560000]
["STW285","Mogden STW","London",null,420000]
["STW123","Monkmoor STW","Shrewsbury","SJ518136",26000]
["STW091","Motney Hill STW","Gillingham","TQ829684",45000]
["STW175","Nash STW","Newport","ST336838",58000]
["STW124","Netheridge STW","Gloucester","SO810157",54000]
["STW040","Newmarket STW","Newmarket","TL633670",6100]
["STW055","Newton Abbot (Buckland) STW","Newton Abbot",null,32000]
["STW048","Newton Abbot (Heathfield) STW","Newton Abbot",null,3600]
["STW092","Northfleet STW",null,null,9300]
["STW146","Northwich STW","Northwich","SJ638742",23000]
["STW230","Oxford STW","Oxford","SP543019",48000]
["STW093","Oxted STW","Oxted","TQ398501",3600]
["STW041","Papworth Everard STW",null,null,500]
["STW094","Peel Common STW","Gosport","SU566033",41000]
["STW173","Pembroke Dock STW",null,null,6600]
["STW095","Pembury STW","Royal Tunbridge Wells","TQ602423",1300]
["STW169","Penybont STW","Bridgend","SS875767",34000]
["STW050","Plymouth (Camels Head) STW","Plymouth",null,20000]
["STW062","Plymouth (Central) STW","Plymouth",null,34000]
["STW063","Plymouth (Plympton) STW","Plymouth",null,270000]
["STW154","Poole STW","Poole","SZ008936",44000]
["STW079","Portobello STW","Brighton","TQ399019",59000]
["STW096","Portswood STW",null,null,28000]
["STW155","Potterne STW",null,null,3300]
["STW125","Ray Hall STW","Birmingham","SP024945",38000]
["STW126","Redditch STW","Redditch","SP082627",34000]
["STW266","Riverside STW","Dagenham",null,250000]
["STW147","Rochdale STW","Rochdale",null,57000]
["STW127","Roundhill STW",null,null,75000]
["STW143","Runcorn STW","Runcorn","SJ541837",24000]
["STW156","Salisbury STW","Salisbury","SU159286",22000]
["STW157","Saltford STW","Bath","ST691684",31000]
["STW148","Sandown Dock STW",null,null,220000]
["STW043","Sandy STW",null,null,1800]
["STW097","Scaynes Hill STW","Haywards Heath","TQ378244",11000]
["STW073","Seaton Carew STW","Seaton Carew",null,38000]
["STW074","Sedgefield STW","Sedgefield",null,13000]
["STW098","Sittingbourne STW","Sittingbourne","TQ912648",12000]
["STW231","Slough STW","Slough","SU944795",56000]
["STW099","Small Dole STW",null,null,96]
["STW044","Southend STW","Southend-on-sea","TQ880875",37000]
["STW052","St. Austell STW","St. Austell",null,7200]
["STW128","Stanley Downton STW",null,null,30000]
["STW129","Stoke Bardolph STW","Nottingham","SK635420",190000]
["STW100","Storrington STW",null,null,1300]
["STW104","Stressholme STW","Darlington",null,40000]
["STW130","Strongford STW","Stoke-on-Trent","SJ878391",150000]
["STW171","Swansea STW","Swansea","SS689929",57000]
["STW131","Tamworth STW","Tamworth",null,30000]
["STW158","Taunton STW","Taunton","ST286246",30000]
["STW132","Tewkesbury STW","Tewkesbury",null,5600]
["STW159","Thingley STW",null,null,170]
["STW047","Tiverton STW",null,null,12000]
["STW168","Treborth STW","Bangor","SH543702",25000]
["STW245","Tring STW",null,null,2000]
["STW051","Truro STW","Truro","SW832432",9600]
["STW045","Uttons Drove STW",null,null,3600]
["STW133","Wanlip STW","Leicester","SK598115",170000]
["STW232","Wargrave STW",null,null,29000]
["STW075","Washington STW","Washington",null,20000]
["STW101","Wateringbury STW",null,null,1200]
["STW102","Weatherlees STW","Sandwich","TR330628",21000]
["STW160","Weston-Super-Mare STW","Weston-Super-Mare","ST310566",40000]
["STW161","Weymouth STW","Weymouth","SY661769",34000]
["STW046","Whitlingham STW","Norwich","TG278076",73000]
["STW134","Wigston STW","Leicester","SP592967",13000]
["STW135","Willenhall STW",null,null,15000]
["STW076","Willington STW",null,null,3300]
["STW162","Wimborne STW",null,null,9100]
["STW227","Wisley STW",null,null,6700]
["STW225","Woking STW","Woking",null,18000]
["STW238","Wokingham STW","Wokingham","SU813699",4100]
["STW163","Wool STW",null,null,1600]
["STW136","Worcester STW","Worcester","SO843535",34000]
["STW083","Worthing East STW","Worthing East","TQ168035",30000]
["STW103","Wye STW",null,null,500]
["STW164","Yeovil STW","Yeovil","ST577168",16000]